Workbook
Name ANNEE_ACTIVE: PARAMETRES!$C$6
Name ANNEES_VERROU: PARAMETRES!$D$70:$D$77
Name D_AD_NIV: DONNEES!$W$2:$W$1201
Name D_AD_PERF: DONNEES!$O$2:$O$1201
Name D_ANNEE: DONNEES!$A$2:$A$1201
Name D_CO_NIV: DONNEES!$U$2:$U$1201
Name D_CO_PERF: DONNEES!$M$2:$M$1201
Name D_COMPLET: DONNEES!$BB$2:$BB$1201
Name D_CYCLE: DONNEES!$Z$2:$Z$1201
Name D_EN_NIV: DONNEES!$T$2:$T$1201
Name D_EN_PERF: DONNEES!$L$2:$L$1201
Name D_EQ_NIV: DONNEES!$Q$2:$Q$1201
Name D_EQ_PERF: DONNEES!$I$2:$I$1201
Name D_FO_NIV: DONNEES!$X$2:$X$1201
Name D_FO_PERF: DONNEES!$P$2:$P$1201
Name D_GA_NIV: DONNEES!$V$2:$V$1201
Name D_GA_PERF: DONNEES!$N$2:$N$1201
Name D_ID: DONNEES!$D$2:$D$1201
Name D_IDUNIQUE: DONNEES!$AB$2:$AB$1201
Name D_KEY: DONNEES!$AA$2:$AA$1201
Name D_KEY_DOUBLON: DONNEES!$AS$2:$AS$1201
Name D_KEY_NIVSES: DONNEES!$AU$2:$AU$1201
Name D_KEY_STATUT: DONNEES!$AT$2:$AT$1201
Name D_MOYNIV: DONNEES!$Y$2:$Y$1201
Name D_NAISS: DONNEES!$H$2:$H$1201
Name D_NB_PROG: DONNEES!$AX$2:$AX$1201
Name D_NB_REG: DONNEES!$AZ$2:$AZ$1201
Name D_NB_STAB: DONNEES!$AY$2:$AY$1201
Name D_NBTESTS: DONNEES!$BA$2:$BA$1201
Name D_NIVEAU: DONNEES!$B$2:$B$1201
Name D_NIVEAU_ACTUEL: DONNEES!$AF$2:$AF$1201
Name D_NOM: DONNEES!$E$2:$E$1201
Name D_PRENOM: DONNEES!$F$2:$F$1201
Name D_PROG_AD: DONNEES!$AN$2:$AN$1201
Name D_PROG_CO: DONNEES!$AL$2:$AL$1201
Name D_PROG_EN: DONNEES!$AK$2:$AK$1201
Name D_PROG_EQ: DONNEES!$AH$2:$AH$1201
Name D_PROG_FO: DONNEES!$AO$2:$AO$1201
Name D_PROG_GA: DONNEES!$AM$2:$AM$1201
Name D_PROG_SO: DONNEES!$AI$2:$AI$1201
Name D_PROG_VI: DONNEES!$AJ$2:$AJ$1201
Name D_RANG_PROFIL: DONNEES!$AV$2:$AV$1201
Name D_RANG_RECUP: DONNEES!$AR$2:$AR$1201
Name D_RANG_SUIVI: DONNEES!$AW$2:$AW$1201
Name D_S2ROW: DONNEES!$AG$2:$AG$1201
Name D_SESSION: DONNEES!$C$2:$C$1201
Name D_SEXE: DONNEES!$G$2:$G$1201
Name D_SO_NIV: DONNEES!$R$2:$R$1201
Name D_SO_PERF: DONNEES!$J$2:$J$1201
Name D_STATUT: DONNEES!$AQ$2:$AQ$1201
Name D_VI_NIV: DONNEES!$S$2:$S$1201
Name D_VI_PERF: DONNEES!$K$2:$K$1201
Name ETABLISSEMENT_NOM: PARAMETRES!$C$4
Name GR_CAT: 'FICHE PARENTS'!$A$9:INDEX('FICHE PARENTS'!$A$9:$A$16,'PROFIL ELEVE'!$X$4)
Name GR_CAT: 'PROFIL ELEVE'!$B$30:INDEX('PROFIL ELEVE'!$B$30:$B$37,'PROFIL ELEVE'!$X$4)
Name GR_CAT: 'STATS NIVEAU'!$A$8:INDEX('STATS NIVEAU'!$A$8:$A$15,'STATS NIVEAU'!$Q$1)
Name GR_LBL: 'PROFIL ELEVE'!$F$30:INDEX('PROFIL ELEVE'!$F$30:$F$37,'PROFIL ELEVE'!$X$4)
Name GR_LBL: 'STATS NIVEAU'!$S$8:INDEX('STATS NIVEAU'!$S$8:$S$15,'STATS NIVEAU'!$Q$1)
Name GR_MOY: 'PROFIL ELEVE'!$E$30:INDEX('PROFIL ELEVE'!$E$30:$E$37,'PROFIL ELEVE'!$X$4)
Name GR_MOY: 'PROFIL ELEVE'!$E$30:INDEX('PROFIL ELEVE'!$E$30:$E$37,'PROFIL ELEVE'!$X$4)

Sheet ACCUEIL
D1: TESTE ET AMÉLIORE TA FORME
A3: =IF(T(ETABLISSEMENT_NOM)="",CONCATENATE("⚠ Renseigner ÉCOLE et VILLE dans l'onglet SAISIE | Année scolaire active : ",ANNEE_ACTIVE),CONCATENATE(ETABLISSEMENT_NOM," — ",PARAMETRES!C5," | Année scolaire active : ",ANNEE_ACTIVE)) -> ⚠ Renseigner ÉCOLE et VILLE dans l'onglet SAISIE | Année scolaire active : 2025-2026
A5: LES 8 TESTS DE FORME
A9: Équilibre | D9: Souplesse | G9: Vitesse | J9: Endurance
A14: Coordination | D14: Gainage | G14: Adresse | J14: Force des jambes
A17: TABLEAU DE BORD
B18: ÉLÈVES SUIVIS | D18: NIVEAUX PRÉSENTS | F18: TESTS RÉALISÉS | H18: TAUX DE COMPLÉTUDE | K18: ANNÉE SCOLAIRE ACTIVE
B19: =SUMPRODUCT((D_ANNEE=ANNEE_ACTIVE)*(D_ID<>"")/DONNEES!$AP$2:$AP$1201) -> 0 | D19: =SUMPRODUCT(--((C220:C224+D220:D224)>0)) -> 0 | F19: =SUM(F220:F224) -> 0 | H19: =IF(SUM(G220:G224)=0,"—",TEXT(SUM(F220:F224)/SUM(G220:G224),"0%")) -> — | K19: =ANNEE_ACTIVE -> 2025-2026
B20: cette année | D20: niveaux scolaires | F20: résultats saisis | H20: des tests attendus | K20: en cours
A22: INDICATEURS COMPLÉMENTAIRES
A23: PASSAGES ENREGISTRÉS | D23: TAUX DE PROGRESSION | G23: TEST LE PLUS RÉUSSI | J23: TEST LE MOINS RÉUSSI
A24: =SUM(C220:C224)+SUM(D220:D224) -> 0 | D24: =IF(OR(IFERROR(ROUND(AVERAGEIFS(D_MOYNIV,D_ANNEE,ANNEE_ACTIVE,D_SESSION,"S1"),2),"")="",IFERROR(ROUND(AVERAGEIFS(D_MOYNIV,D_ANNEE,ANNEE_ACTIVE,D_SESSION,"S2"),2),"")=""),"—",IF(IFERROR(ROUND(AVERAGEIFS(D_MOYNIV,D_ANNEE,ANNEE_ACTIVE,D_SESSION,"S2"),2),"")>IFERROR(ROUND(AVERAGEIFS(D_MOYNIV,D_ANNEE,ANNEE_ACTIVE,D_SESSION,"S1"),2),""),"▲ +"&ROUND(IFERROR(ROUND(AVERAGEIFS(D_MOYNIV,D_ANNEE,ANNEE_ACTIVE,D_SESSION,"S2"),2),"")-IFERROR(ROUND(AVERAGEIFS(D_MOYNIV,D_ANNEE,ANNEE_ACTIVE,D_SESSION,"S1"),2),""),2),IF(IFERROR(ROUND(AVERAGEIFS(D_MOYNIV,D_ANNEE,ANNEE_ACTIVE,D_SESSION,"S2"),2),"")<IFERROR(ROUND(AVERAGEIFS(D_MOYNIV,D_ANNEE,ANNEE_ACTIVE,D_SESSION,"S1"),2),""),"▼ "&ROUND(IFERROR(ROUND(AVERAGEIFS(D_MOYNIV,D_ANNEE,ANNEE_ACTIVE,D_SESSION,"S2"),2),"")-IFERROR(ROUND(AVERAGEIFS(D_MOYNIV,D_ANNEE,ANNEE_ACTIVE,D_SESSION,"S1"),2),""),2),"➜ stable"))) -> — | G24: =IFERROR(INDEX(B227:B234,MATCH(MAX(C227:C234),C227:C234,0)),"—") -> — | J24: =IFERROR(INDEX(B227:B234,MATCH(MIN(C227:C234),C227:C234,0)),"—") -> —
A25: S1 + S2 cumulées | D25: moyenne niveau S1→S2 | G25: meilleur niveau moyen | J25: niveau moyen le plus faible
A27: RÉPARTITION DES NIVEAUX UGSEL — ÉCOLE ENTIÈRE
A28: ="1 · "&TEXT(N236,"0%") -> 1 · 0% | C28: ="2 · "&TEXT(N237,"0%") -> 2 · 0% | E28: ="3 · "&TEXT(N238,"0%") -> 3 · 0% | G28: ="4 · "&TEXT(N239,"0%") -> 4 · 0% | I28: ="5 · "&TEXT(N240,"0%") -> 5 · 0%
A33: NAVIGATION
A35: =HYPERLINK("#'SAISIE'!A1","SAISIE Saisir les performances") -> SAISIE Saisir les performances | E35: =HYPERLINK("#'PROFIL ELEVE'!A1","PROFIL ELEVE Fiche individuelle élève") -> PROFIL ELEVE Fiche individuelle élève | I35: =HYPERLINK("#'STATS NIVEAU'!A1","STATS NIVEAU Statistiques par niveau") -> STATS NIVEAU Statistiques par niveau
A39: =HYPERLINK("#'STATS ECOLE'!A1","STATS ECOLE Vue établissement") -> STATS ECOLE Vue établissement | E39: =HYPERLINK("#'SUIVI LONGITUDINAL'!A1","SUIVI LONGITUDINAL Progression CP → CM2") -> SUIVI LONGITUDINAL Progression CP → CM2 | I39: =HYPERLINK("#'EXPORT UGSEL'!A1","EXPORT UGSEL Export anonymisé") -> EXPORT UGSEL Export anonymisé
A43: =HYPERLINK("#'FICHE PARENTS'!A1","FICHE PARENTS Document imprimable famille") -> FICHE PARENTS Document imprimable famille | E43: =HYPERLINK("#COHORTE!A1","COHORTE Suivi d'une classe entière") -> COHORTE Suivi d'une classe entière | I43: =HYPERLINK("#'EXPORT BRUT'!A1","EXPORT BRUT Données complètes à plat") -> EXPORT BRUT Données complètes à plat
A47: =HYPERLINK("#PARAMETRES!A1","PARAMETRES Seuils, listes, année active") -> PARAMETRES Seuils, listes, année active | E47: =HYPERLINK("#AIDE!A1","AIDE Mode d'emploi") -> AIDE Mode d'emploi | I47: =HYPERLINK("#RESSOURCES!A1","RESSOURCES Liens et documents UGSEL") -> RESSOURCES Liens et documents UGSEL
A51: Cliquez sur un bouton pour ouvrir l'onglet. Statistiques basées sur l'année scolaire active (voir PARAMETRES). · Version 26 — août 2026
A53: AVANCEMENT DE LA SAISIE PAR NIVEAU SCOLAIRE
B55: Niveau | C55: Élèves S1 | E55: Élèves S2 | G55: Tests saisis | I55: Avancement
B56: =B220 -> CP | C56: =C220 -> 0 | E56: =D220 -> 0 | G56: =IF(G220=0,"—",F220&" / "&G220) -> — | I56: =IF(G220=0,"—",REPT("█",ROUND(F220/G220*12,0))&REPT("░",12-ROUND(F220/G220*12,0))&" "&TEXT(F220/G220,"0%")) -> —
B57: =B221 -> CE1 | C57: =C221 -> 0 | E57: =D221 -> 0 | G57: =IF(G221=0,"—",F221&" / "&G221) -> — | I57: =IF(G221=0,"—",REPT("█",ROUND(F221/G221*12,0))&REPT("░",12-ROUND(F221/G221*12,0))&" "&TEXT(F221/G221,"0%")) -> —
B58: =B222 -> CE2 | C58: =C222 -> 0 | E58: =D222 -> 0 | G58: =IF(G222=0,"—",F222&" / "&G222) -> — | I58: =IF(G222=0,"—",REPT("█",ROUND(F222/G222*12,0))&REPT("░",12-ROUND(F222/G222*12,0))&" "&TEXT(F222/G222,"0%")) -> —
B59: =B223 -> CM1 | C59: =C223 -> 0 | E59: =D223 -> 0 | G59: =IF(G223=0,"—",F223&" / "&G223) -> — | I59: =IF(G223=0,"—",REPT("█",ROUND(F223/G223*12,0))&REPT("░",12-ROUND(F223/G223*12,0))&" "&TEXT(F223/G223,"0%")) -> —
B60: =B224 -> CM2 | C60: =C224 -> 0 | E60: =D224 -> 0 | G60: =IF(G224=0,"—",F224&" / "&G224) -> — | I60: =IF(G224=0,"—",REPT("█",ROUND(F224/G224*12,0))&REPT("░",12-ROUND(F224/G224*12,0))&" "&TEXT(F224/G224,"0%")) -> —
A61: Tests saisis / attendus pour l'année active — attendus = (élèves S1 + élèves S2) × tests du cycle (5 en cycle 2, 8 en cycle 3).
B219: Niveau | C219: Eff S1 | D219: Eff S2 | E219: NbTests | F219: Filled | G219: Possible
B220: CP | C220: =COUNTIFS(D_ANNEE,ANNEE_ACTIVE,D_NIVEAU,"CP",D_SESSION,"S1") -> 0 | D220: =COUNTIFS(D_ANNEE,ANNEE_ACTIVE,D_NIVEAU,"CP",D_SESSION,"S2") -> 0 | E220: =IF(VLOOKUP("CP",TABLE_CYCLE,2,0)=2,5,8) -> 5 | F220: =COUNTIFS(D_ANNEE,ANNEE_ACTIVE,D_NIVEAU,"CP",D_EQ_NIV,">0")+COUNTIFS(D_ANNEE,ANNEE_ACTIVE,D_NIVEAU,"CP",D_SO_NIV,">0")+COUNTIFS(D_ANNEE,ANNEE_ACTIVE,D_NIVEAU,"CP",D_VI_NIV,">0")+COUNTIFS(D_ANNEE,ANNEE_ACTIVE,D_NIVEAU,"CP",D_EN_NIV,">0")+COUNTIFS(D_ANNEE,ANNEE_ACTIVE,D_NIVEAU,"CP",D_CO_NIV,">0")+COUNTIFS(D_ANNEE,ANNEE_ACTIVE,D_NIVEAU,"CP",D_GA_NIV,">0")+COUNTIFS(D_ANNEE,ANNEE_ACTIVE,D_NIVEAU,"CP",D_AD_NIV,">0")+COUNTIFS(D_ANNEE,ANNEE_ACTIVE,D_NIVEAU,"CP",D_FO_NIV,">0") -> 0 | G220: =(C220+D220)*E220 -> 0
B221: CE1 | C221: =COUNTIFS(D_ANNEE,ANNEE_ACTIVE,D_NIVEAU,"CE1",D_SESSION,"S1") -> 0 | D221: =COUNTIFS(D_ANNEE,ANNEE_ACTIVE,D_NIVEAU,"CE1",D_SESSION,"S2") -> 0 | E221: =IF(VLOOKUP("CE1",TABLE_CYCLE,2,0)=2,5,8) -> 5 | F221: =COUNTIFS(D_ANNEE,ANNEE_ACTIVE,D_NIVEAU,"CE1",D_EQ_NIV,">0")+COUNTIFS(D_ANNEE,ANNEE_ACTIVE,D_NIVEAU,"CE1",D_SO_NIV,">0")+COUNTIFS(D_ANNEE,ANNEE_ACTIVE,D_NIVEAU,"CE1",D_VI_NIV,">0")+COUNTIFS(D_ANNEE,ANNEE_ACTIVE,D_NIVEAU,"CE1",D_EN_NIV,">0")+COUNTIFS(D_ANNEE,ANNEE_ACTIVE,D_NIVEAU,"CE1",D_CO_NIV,">0")+COUNTIFS(D_ANNEE,ANNEE_ACTIVE,D_NIVEAU,"CE1",D_GA_NIV,">0")+COUNTIFS(D_ANNEE,ANNEE_ACTIVE,D_NIVEAU,"CE1",D_AD_NIV,">0")+COUNTIFS(D_ANNEE,ANNEE_ACTIVE,D_NIVEAU,"CE1",D_FO_NIV,">0") -> 0 | G221: =(C221+D221)*E221 -> 0
B222: CE2 | C222: =COUNTIFS(D_ANNEE,ANNEE_ACTIVE,D_NIVEAU,"CE2",D_SESSION,"S1") -> 0 | D222: =COUNTIFS(D_ANNEE,ANNEE_ACTIVE,D_NIVEAU,"CE2",D_SESSION,"S2") -> 0 | E222: =IF(VLOOKUP("CE2",TABLE_CYCLE,2,0)=2,5,8) -> 5 | F222: =COUNTIFS(D_ANNEE,ANNEE_ACTIVE,D_NIVEAU,"CE2",D_EQ_NIV,">0")+COUNTIFS(D_ANNEE,ANNEE_ACTIVE,D_NIVEAU,"CE2",D_SO_NIV,">0")+COUNTIFS(D_ANNEE,ANNEE_ACTIVE,D_NIVEAU,"CE2",D_VI_NIV,">0")+COUNTIFS(D_ANNEE,ANNEE_ACTIVE,D_NIVEAU,"CE2",D_EN_NIV,">0")+COUNTIFS(D_ANNEE,ANNEE_ACTIVE,D_NIVEAU,"CE2",D_CO_NIV,">0")+COUNTIFS(D_ANNEE,ANNEE_ACTIVE,D_NIVEAU,"CE2",D_GA_NIV,">0")+COUNTIFS(D_ANNEE,ANNEE_ACTIVE,D_NIVEAU,"CE2",D_AD_NIV,">0")+COUNTIFS(D_ANNEE,ANNEE_ACTIVE,D_NIVEAU,"CE2",D_FO_NIV,">0") -> 0 | G222: =(C222+D222)*E222 -> 0
B223: CM1 | C223: =COUNTIFS(D_ANNEE,ANNEE_ACTIVE,D_NIVEAU,"CM1",D_SESSION,"S1") -> 0 | D223: =COUNTIFS(D_ANNEE,ANNEE_ACTIVE,D_NIVEAU,"CM1",D_SESSION,"S2") -> 0 | E223: =IF(VLOOKUP("CM1",TABLE_CYCLE,2,0)=2,5,8) -> 8 | F223: =COUNTIFS(D_ANNEE,ANNEE_ACTIVE,D_NIVEAU,"CM1",D_EQ_NIV,">0")+COUNTIFS(D_ANNEE,ANNEE_ACTIVE,D_NIVEAU,"CM1",D_SO_NIV,">0")+COUNTIFS(D_ANNEE,ANNEE_ACTIVE,D_NIVEAU,"CM1",D_VI_NIV,">0")+COUNTIFS(D_ANNEE,ANNEE_ACTIVE,D_NIVEAU,"CM1",D_EN_NIV,">0")+COUNTIFS(D_ANNEE,ANNEE_ACTIVE,D_NIVEAU,"CM1",D_CO_NIV,">0")+COUNTIFS(D_ANNEE,ANNEE_ACTIVE,D_NIVEAU,"CM1",D_GA_NIV,">0")+COUNTIFS(D_ANNEE,ANNEE_ACTIVE,D_NIVEAU,"CM1",D_AD_NIV,">0")+COUNTIFS(D_ANNEE,ANNEE_ACTIVE,D_NIVEAU,"CM1",D_FO_NIV,">0") -> 0 | G223: =(C223+D223)*E223 -> 0
B224: CM2 | C224: =COUNTIFS(D_ANNEE,ANNEE_ACTIVE,D_NIVEAU,"CM2",D_SESSION,"S1") -> 0 | D224: =COUNTIFS(D_ANNEE,ANNEE_ACTIVE,D_NIVEAU,"CM2",D_SESSION,"S2") -> 0 | E224: =IF(VLOOKUP("CM2",TABLE_CYCLE,2,0)=2,5,8) -> 8 | F224: =COUNTIFS(D_ANNEE,ANNEE_ACTIVE,D_NIVEAU,"CM2",D_EQ_NIV,">0")+COUNTIFS(D_ANNEE,ANNEE_ACTIVE,D_NIVEAU,"CM2",D_SO_NIV,">0")+COUNTIFS(D_ANNEE,ANNEE_ACTIVE,D_NIVEAU,"CM2",D_VI_NIV,">0")+COUNTIFS(D_ANNEE,ANNEE_ACTIVE,D_NIVEAU,"CM2",D_EN_NIV,">0")+COUNTIFS(D_ANNEE,ANNEE_ACTIVE,D_NIVEAU,"CM2",D_CO_NIV,">0")+COUNTIFS(D_ANNEE,ANNEE_ACTIVE,D_NIVEAU,"CM2",D_GA_NIV,">0")+COUNTIFS(D_ANNEE,ANNEE_ACTIVE,D_NIVEAU,"CM2",D_AD_NIV,">0")+COUNTIFS(D_ANNEE,ANNEE_ACTIVE,D_NIVEAU,"CM2",D_FO_NIV,">0") -> 0 | G224: =(C224+D224)*E224 -> 0
B226: Test | C226: NivMoyen
B227: Équilibre | C227: =IFERROR(AVERAGEIFS(D_EQ_NIV,D_ANNEE,ANNEE_ACTIVE,D_EQ_NIV,">0"),"")
B228: Souplesse | C228: =IFERROR(AVERAGEIFS(D_SO_NIV,D_ANNEE,ANNEE_ACTIVE,D_SO_NIV,">0"),"")
B229: Vitesse | C229: =IFERROR(AVERAGEIFS(D_VI_NIV,D_ANNEE,ANNEE_ACTIVE,D_VI_NIV,">0"),"")
B230: Endurance | C230: =IFERROR(AVERAGEIFS(D_EN_NIV,D_ANNEE,ANNEE_ACTIVE,D_EN_NIV,">0"),"")
B231: Coordination | C231: =IFERROR(AVERAGEIFS(D_CO_NIV,D_ANNEE,ANNEE_ACTIVE,D_CO_NIV,">0"),"")
B232: Gainage | C232: =IFERROR(AVERAGEIFS(D_GA_NIV,D_ANNEE,ANNEE_ACTIVE,D_GA_NIV,">0"),"")
B233: Adresse | C233: =IFERROR(AVERAGEIFS(D_AD_NIV,D_ANNEE,ANNEE_ACTIVE,D_AD_NIV,">0"),"")
B234: Force des jambes | C234: =IFERROR(AVERAGEIFS(D_FO_NIV,D_ANNEE,ANNEE_ACTIVE,D_FO_NIV,">0"),"")
B235: Niveau | P235: École
B236: 1 | C236: =COUNTIFS(D_ANNEE,ANNEE_ACTIVE,D_EQ_NIV,1)+COUNTIFS(D_ANNEE,ANNEE_ACTIVE,D_SO_NIV,1)+COUNTIFS(D_ANNEE,ANNEE_ACTIVE,D_VI_NIV,1)+COUNTIFS(D_ANNEE,ANNEE_ACTIVE,D_EN_NIV,1)+COUNTIFS(D_ANNEE,ANNEE_ACTIVE,D_CO_NIV,1)+COUNTIFS(D_ANNEE,ANNEE_ACTIVE,D_GA_NIV,1)+COUNTIFS(D_ANNEE,ANNEE_ACTIVE,D_AD_NIV,1)+COUNTIFS(D_ANNEE,ANNEE_ACTIVE,D_FO_NIV,1) -> 0 | N236: =IFERROR(C236/SUM($C$236:$C$240),0) -> 0
B237: 2 | C237: =COUNTIFS(D_ANNEE,ANNEE_ACTIVE,D_EQ_NIV,2)+COUNTIFS(D_ANNEE,ANNEE_ACTIVE,D_SO_NIV,2)+COUNTIFS(D_ANNEE,ANNEE_ACTIVE,D_VI_NIV,2)+COUNTIFS(D_ANNEE,ANNEE_ACTIVE,D_EN_NIV,2)+COUNTIFS(D_ANNEE,ANNEE_ACTIVE,D_CO_NIV,2)+COUNTIFS(D_ANNEE,ANNEE_ACTIVE,D_GA_NIV,2)+COUNTIFS(D_ANNEE,ANNEE_ACTIVE,D_AD_NIV,2)+COUNTIFS(D_ANNEE,ANNEE_ACTIVE,D_FO_NIV,2) -> 0 | N237: =IFERROR(C237/SUM($C$236:$C$240),0) -> 0
B238: 3 | C238: =COUNTIFS(D_ANNEE,ANNEE_ACTIVE,D_EQ_NIV,3)+COUNTIFS(D_ANNEE,ANNEE_ACTIVE,D_SO_NIV,3)+COUNTIFS(D_ANNEE,ANNEE_ACTIVE,D_VI_NIV,3)+COUNTIFS(D_ANNEE,ANNEE_ACTIVE,D_EN_NIV,3)+COUNTIFS(D_ANNEE,ANNEE_ACTIVE,D_CO_NIV,3)+COUNTIFS(D_ANNEE,ANNEE_ACTIVE,D_GA_NIV,3)+COUNTIFS(D_ANNEE,ANNEE_ACTIVE,D_AD_NIV,3)+COUNTIFS(D_ANNEE,ANNEE_ACTIVE,D_FO_NIV,3) -> 0 | N238: =IFERROR(C238/SUM($C$236:$C$240),0) -> 0
B239: 4 | C239: =COUNTIFS(D_ANNEE,ANNEE_ACTIVE,D_EQ_NIV,4)+COUNTIFS(D_ANNEE,ANNEE_ACTIVE,D_SO_NIV,4)+COUNTIFS(D_ANNEE,ANNEE_ACTIVE,D_VI_NIV,4)+COUNTIFS(D_ANNEE,ANNEE_ACTIVE,D_EN_NIV,4)+COUNTIFS(D_ANNEE,ANNEE_ACTIVE,D_CO_NIV,4)+COUNTIFS(D_ANNEE,ANNEE_ACTIVE,D_GA_NIV,4)+COUNTIFS(D_ANNEE,ANNEE_ACTIVE,D_AD_NIV,4)+COUNTIFS(D_ANNEE,ANNEE_ACTIVE,D_FO_NIV,4) -> 0 | N239: =IFERROR(C239/SUM($C$236:$C$240),0) -> 0
B240: 5 | C240: =COUNTIFS(D_ANNEE,ANNEE_ACTIVE,D_EQ_NIV,5)+COUNTIFS(D_ANNEE,ANNEE_ACTIVE,D_SO_NIV,5)+COUNTIFS(D_ANNEE,ANNEE_ACTIVE,D_VI_NIV,5)+COUNTIFS(D_ANNEE,ANNEE_ACTIVE,D_EN_NIV,5)+COUNTIFS(D_ANNEE,ANNEE_ACTIVE,D_CO_NIV,5)+COUNTIFS(D_ANNEE,ANNEE_ACTIVE,D_GA_NIV,5)+COUNTIFS(D_ANNEE,ANNEE_ACTIVE,D_AD_NIV,5)+COUNTIFS(D_ANNEE,ANNEE_ACTIVE,D_FO_NIV,5) -> 0 | N240: =IFERROR(C240/SUM($C$236:$C$240),0) -> 0

Sheet AIDE
B1: MODE D'EMPLOI — TESTE ET AMÉLIORE TA FORME
B2: =HYPERLINK("#ACCUEIL!A1","← ACCUEIL") -> ← ACCUEIL
B3: SOMMAIRE — cliquez sur une rubrique
B4: =HYPERLINK("#AIDE!B23","› DÉMARRAGE") -> › DÉMARRAGE
B5: =HYPERLINK("#AIDE!B26","› ANNÉE, NIVEAU ET SESSION PAR LIGNE") -> › ANNÉE, NIVEAU ET SESSION PAR LIGNE
B6: =HYPERLINK("#AIDE!B30","› RÈGLE DES TESTS") -> › RÈGLE DES TESTS
B7: =HYPERLINK("#AIDE!B34","› COLONNE ÉTAT") -> › COLONNE ÉTAT
B8: =HYPERLINK("#AIDE!B41","› RÉCUPÉRER UNE CLASSE") -> › RÉCUPÉRER UNE CLASSE
B9: =HYPERLINK("#AIDE!B45","› ÉCHELLE UGSEL (1 À 5)") -> › ÉCHELLE UGSEL (1 À 5)
B10: =HYPERLINK("#AIDE!B47","› IMPRESSION") -> › IMPRESSION
B11: =HYPERLINK("#AIDE!B50","› IMPORT D'UNE LISTE D'ÉLÈVES") -> › IMPORT D'UNE LISTE D'ÉLÈVES
B12: =HYPERLINK("#AIDE!B53","› ANNÉES CLÔTURÉES") -> › ANNÉES CLÔTURÉES
B13: =HYPERLINK("#AIDE!B57","› ARCHIVAGE (APRÈS CHAQUE SESSION)") -> › ARCHIVAGE (APRÈS CHAQUE SESSION)
B14: =HYPERLINK("#AIDE!B63","› EXPORTS") -> › EXPORTS
B15: =HYPERLINK("#AIDE!B66","› ANALYSES AUTOMATIQUES") -> › ANALYSES AUTOMATIQUES
B16: =HYPERLINK("#AIDE!B71","› SUIVI DE COHORTE ET ANALYSES") -> › SUIVI DE COHORTE ET ANALYSES
B17: =HYPERLINK("#AIDE!B76","› RESSOURCES ET LIENS") -> › RESSOURCES ET LIENS
B18: =HYPERLINK("#AIDE!B79","› SUR TABLETTE OU TÉLÉPHONE (EXCEL MOBILE)") -> › SUR TABLETTE OU TÉLÉPHONE (EXCEL MOBILE)
B19: =HYPERLINK("#AIDE!B82","› PROTECTION") -> › PROTECTION
B20: =HYPERLINK("#AIDE!B85","› LIBREOFFICE CALC") -> › LIBREOFFICE CALC
B23: DÉMARRAGE
B24: • 1. Renseignez ÉCOLE et VILLE en haut de la feuille SAISIE : sans ces informations, la saisie des élèves est bloquée (elles sont indispensables au suivi longitudinal).
B25: • 2. Renseignez Année, Niveau et Session sur chaque ligne (listes déroulantes), puis saisissez vos élèves et leurs performances.
B26: ANNÉE, NIVEAU ET SESSION PAR LIGNE
B27: • Année / Niveau / Session : remplissez la 1re ligne, sélectionnez-les et double-cliquez sur le carré en bas à droite.
B28: • Ces trois colonnes sont visibles à gauche du tableau : vérifiez-les et corrigez-les directement dans la ligne si besoin (liste déroulante).
B29: • La cellule Niveau apparaît en ORANGE si le même élève porte un autre niveau sur une autre ligne de la même année : c'est une erreur de saisie, corrigez-la.
B30: RÈGLE DES TESTS
B31: • Cycle 2 (CP, CE1, CE2) : 5 tests — Équilibre, Souplesse, Vitesse, Endurance, Coordination.
B32: • Cycle 3 (CM1, CM2) : 8 tests — les 5 précédents + Gainage, Adresse, Force des jambes.
B33: • Pour un élève de Cycle 2, les 3 colonnes du Cycle 3 sont grisées et refusent la saisie.
B34: COLONNE ÉTAT
... B90: • Version minimale recommandée : Excel 2019 / Microsoft 365 (ou Excel mobile), LibreOffice Calc récent — le classeur utilise des fonctions modernes (MAXIFS, etc.).

Sheet SAISIE
B1: SAISIE DES RÉSULTATS — TESTE ET AMÉLIORE TA FORME | T1: RÉCUPÉRER UNE CLASSE / PRÉPARER UNE SESSION | X1: =HYPERLINK("#ACCUEIL!A1","← ACCUEIL") -> ← ACCUEIL
B2: =HYPERLINK("#SAISIE!F"&IFERROR(MATCH(TRUE(),INDEX($F$7:$F$1206="",0),0)+6,7),"Saisir uniquement les performances réalisées — les niveaux UGSEL sont calculés automatiquement. ➜ Prochaine ligne libre : "&IFERROR(MATCH(TRUE(),INDEX($F$7:$F$1206="",0),0)+6,"tableau plein")&" (cliquez ici pour y aller) · "&COUNTIF($F$7:$F$1206,"<>")&" / 1200 lignes utilisées") -> Saisir uniquement les performances réalisées — les niveaux UGSEL sont calculés automatiquement. ➜ Prochaine ligne libre : 7 (cliquez ici pour y aller) · 0 / 1200 lignes utilisées
F3: ÉCOLE | H3: VILLE | J3: SUIVI DE LA SAISIE | T3: Copiez le bloc, puis COLLEZ EN VALEURS (Ctrl+Alt+V, V).
J4: =IF(OR($F$4="",$H$4=""),"⚠ Renseignez ÉCOLE et VILLE"&CHAR(10)&"(requises pour le suivi)",IF((COUNTIF($F$7:$F$1206,"?*")+COUNT($F$7:$F$1206))=0,"Aucun élève saisi",(COUNTIF($F$7:$F$1206,"?*")+COUNT($F$7:$F$1206))&" élève(s) · "&SUM($Z$7:$Z$1206)&" complet(s) ("&ROUND(SUM($Z$7:$Z$1206)/(COUNTIF($F$7:$F$1206,"?*")+COUNT($F$7:$F$1206))*100,0)&"%)")) -> ⚠ Renseignez ÉCOLE et VILLE (requises pour le suivi) | T4: Depuis l'année : | V4: Niveau :
B5: ① Année / Niveau / Session sur la 1re ligne, puis faites glisser le petit carré en bas à droite pour recopier sur toute la classe. ② Saisissez les performances : 5 tests en CP-CE2, 8 tests en CM1-CM2 — les colonnes grisées ne concernent pas le cycle. ③ Un Niveau en ORANGE signale un élève qui a un autre niveau ailleurs. ➜ Session 2 ou classe de l'an dernier : zone RÉCUPÉRER UNE CLASSE à droite, coller en VALEURS. | T5: =IF(OR($U$4="",$W$4=""),"",COUNTIFS(D_ANNEE,$U$4,D_NIVEAU,$W$4,D_SESSION,"S1")&" élève(s) en "&$W$4&" "&$U$4&" · "&COUNTIFS(D_ANNEE,$U$4,D_NIVEAU,$W$4,D_SESSION,"S1",D_MOYNIV,">0")&" avec résultats S1"&IF($X$4=""," · choisissez le mode dans la case à droite du niveau",IF($X$4="→ Session 2 (même année)"," · mode SESSION 2 : "&COUNTIFS(D_ANNEE,$U$4,D_NIVEAU,$W$4,D_SESSION,"S2")&" déjà saisie(s), "&MAX(0,COUNTIFS(D_ANNEE,$U$4,D_NIVEAU,$W$4,D_SESSION,"S1")-COUNTIFS(D_ANNEE,$U$4,D_NIVEAU,$W$4,D_SESSION,"S2"))&" restante(s) à créer"," · mode SESSION 1 de l'année suivante")))
B6: Année scolaire | C6: Niveau scolaire | D6: Session | E6: ID Élève (auto) | F6: Nom | G6: Prénom | H6: Sexe | I6: Né(e) en (facultatif) | J6: Équilibre secondes | K6: Souplesse zone (1-5) | L6: Vitesse mètres (/6s) | M6: Endurance longueurs (/3min) | N6: Coordination cases (/30s) | O6: Gainage secondes | P6: Adresse lancers réussis | Q6: Force des jambes mètres | R6: État | S6: Statut | T6: Nom | U6: Prénom | V6: Sexe | W6: Né(e) en | X6: Niveau (suggéré) | Y6: STATUT_TECH | Z6: VISIBLE_COMPLET | AA6: NIVEAU_INCOHERENT
R7: =IF($F7="","",IF(OR($B7="",$C7="",$D7=""),"⚠ Compléter Année/Niveau/Session",IF(AND($E7<>"",COUNTIF(D_KEY_DOUBLON,$B7&"|"&$D7&"|"&$E7)>1),"⚠ Doublon",IF(AND($E7<>"",COUNTIF(D_KEY_STATUT,$B7&"|"&$E7&"|P")>0,COUNTIF(D_KEY_STATUT,$B7&"|"&$E7&"|A")>0),"⚠ Statut incohérent",IF(AND($D7="S1",$Y7<>"Parti",COUNTIF(ANNEES_VERROU,$B7)>0,COUNTIF(D_KEY_NIVSES,$B7&"|"&$C7&"|S2")>0,COUNTIF(D_KEY_DOUBLON,$B7&"|S2|"&$E7)=0),"⚠ Départ non confirmé ?",IF(AND($C7<>"",ISNUMBER($J7),OR(VALUE(LEFT($B7,4))-$J7<4+IFERROR(MATCH($C7,LISTE_NIVEAUX,0),99),VALUE(LEFT($B7,4))-$J7>6+IFERROR(MATCH($C7,LISTE_NIVEAUX,0),99))),"⚠ Vérifier niveau",IF(AND(IFERROR(VLOOKUP($C7,TABLE_CYCLE,2,0),3)=2,COUNT($P7:$Q7)>0),"⚠ Tests cycle 3",IF(COUNT($K7:$Q7)>=IF(IFERROR(VLOOKUP($C7,TABLE_CYCLE,2,0),3)=2,5,8),"Complet","Incomplet")))))))) | T7: =IFERROR(INDEX(D_NOM,MATCH(ROW()-6,D_RANG_RECUP,0)),"") | U7: =IFERROR(INDEX(D_PRENOM,MATCH(ROW()-6,D_RANG_RECUP,0)),"") | V7: =IFERROR(INDEX(D_SEXE,MATCH(ROW()-6,D_RANG_RECUP,0)),"") | W7: =IFERROR(INDEX(D_NAISS,MATCH(ROW()-6,D_RANG_RECUP,0)),"") | X7: =IF($T7="","",IF($X$4="→ Session 2 (même année)",$W$4,IFERROR(INDEX(LISTE_NIVEAUX,MATCH($W$4,LISTE_NIVEAUX,0)+1),"CM2 terminé"))) | Y7: =IF($S7="","",$S7) | Z7: =SUBTOTAL(103,$F7)*($R7="Complet") -> 0 | AA7: =IF(OR($F7="",$C7=""),0,IF(COUNTIFS($B$7:$B$1206,$B7,$F$7:$F$1206,$F7,$G$7:$G$1206,$H7,$I$7:$I$1206,$J7,$C$7:$C$1206,"<>"&$C7)>0,1,0)) -> 0
E8: =IF(OR($F8="",$G8=""),"",IF(ISNUMBER($I8),TEXT($I8-2000,"00")&"_","__")&UPPER(TRIM($F8))&"_"&UPPER(TRIM($G8))) | R8: =IF($F8="","",IF(OR($B8="",$C8="",$D8=""),"⚠ Compléter Année/Niveau/Session",IF(AND($E8<>"",COUNTIF(D_KEY_DOUBLON,$B8&"|"&$D8&"|"&$E8)>1),"⚠ Doublon",IF(AND($E8<>"",COUNTIF(D_KEY_STATUT,$B8&"|"&$E8&"|P")>0,COUNTIF(D_KEY_STATUT,$B8&"|"&$E8&"|A")>0),"⚠ Statut incohérent",IF(AND($D8="S1",$Y8<>"Parti",COUNTIF(ANNEES_VERROU,$B8)>0,COUNTIF(D_KEY_NIVSES,$B8&"|"&$C8&"|S2")>0,COUNTIF(D_KEY_DOUBLON,$B8&"|S2|"&$E8)=0),"⚠ Départ non confirmé ?",IF(AND($C8<>"",ISNUMBER($I8),OR(VALUE(LEFT($B8,4))-$I8<4+IFERROR(MATCH($C8,LISTE_NIVEAUX,0),99),VALUE(LEFT($B8,4))-$I8>6+IFERROR(MATCH($C8,LISTE_NIVEAUX,0),99))),"⚠ Vérifier niveau",IF(AND(IFERROR(VLOOKUP($C8,TABLE_CYCLE,2,0),3)=2,COUNT($O8:$Q8)>0),"⚠ Tests cycle 3",IF(COUNT($J8:$Q8)>=IF(IFERROR(VLOOKUP($C8,TABLE_CYCLE,2,0),3)=2,5,8),"Complet","Incomplet")))))))) | T8: =IFERROR(INDEX(D_NOM,MATCH(ROW()-6,D_RANG_RECUP,0)),"") | U8: =IFERROR(INDEX(D_PRENOM,MATCH(ROW()-6,D_RANG_RECUP,0)),"") | V8: =IFERROR(INDEX(D_SEXE,MATCH(ROW()-6,D_RANG_RECUP,0)),"") | W8: =IFERROR(INDEX(D_NAISS,MATCH(ROW()-6,D_RANG_RECUP,0)),"") | X8: =IF($T8="","",IF($X$4="→ Session 2 (même année)",$W$4,IFERROR(INDEX(LISTE_NIVEAUX,MATCH($W$4,LISTE_NIVEAUX,0)+1),"CM2 terminé"))) | Y8: =IF($S8="","",$S8) | Z8: =SUBTOTAL(103,$F8)*($R8="Complet") -> 0 | AA8: =IF(OR($F8="",$C8=""),0,IF(COUNTIFS($B$7:$B$1206,$B8,$F$7:$F$1206,$F8,$G$7:$G$1206,$G8,$I$7:$I$1206,$I8,$C$7:$C$1206,"<>"&$C8)>0,1,0)) -> 0
E9: =IF(OR($F9="",$G9=""),"",IF(ISNUMBER($I9),TEXT($I9-2000,"00")&"_","__")&UPPER(TRIM($F9))&"_"&UPPER(TRIM($G9))) | R9: =IF($F9="","",IF(OR($B9="",$C9="",$D9=""),"⚠ Compléter Année/Niveau/Session",IF(AND($E9<>"",COUNTIF(D_KEY_DOUBLON,$B9&"|"&$D9&"|"&$E9)>1),"⚠ Doublon",IF(AND($E9<>"",COUNTIF(D_KEY_STATUT,$B9&"|"&$E9&"|P")>0,COUNTIF(D_KEY_STATUT,$B9&"|"&$E9&"|A")>0),"⚠ Statut incohérent",IF(AND($D9="S1",$Y9<>"Parti",COUNTIF(ANNEES_VERROU,$B9)>0,COUNTIF(D_KEY_NIVSES,$B9&"|"&$C9&"|S2")>0,COUNTIF(D_KEY_DOUBLON,$B9&"|S2|"&$E9)=0),"⚠ Départ non confirmé ?",IF(AND($C9<>"",ISNUMBER($I9),OR(VALUE(LEFT($B9,4))-$I9<4+IFERROR(MATCH($C9,LISTE_NIVEAUX,0),99),VALUE(LEFT($B9,4))-$I9>6+IFERROR(MATCH($C9,LISTE_NIVEAUX,0),99))),"⚠ Vérifier niveau",IF(AND(IFERROR(VLOOKUP($C9,TABLE_CYCLE,2,0),3)=2,COUNT($O9:$Q9)>0),"⚠ Tests cycle 3",IF(COUNT($J9:$Q9)>=IF(IFERROR(VLOOKUP($C9,TABLE_CYCLE,2,0),3)=2,5,8),"Complet","Incomplet")))))))) | T9: =IFERROR(INDEX(D_NOM,MATCH(ROW()-6,D_RANG_RECUP,0)),"") | U9: =IFERROR(INDEX(D_PRENOM,MATCH(ROW()-6,D_RANG_RECUP,0)),"") | V9: =IFERROR(INDEX(D_SEXE,MATCH(ROW()-6,D_RANG_RECUP,0)),"") | W9: =IFERROR(INDEX(D_NAISS,MATCH(ROW()-6,D_RANG_RECUP,0)),"") | X9: =IF($T9="","",IF($X$4="→ Session 2 (même année)",$W$4,IFERROR(INDEX(LISTE_NIVEAUX,MATCH($W$4,LISTE_NIVEAUX,0)+1),"CM2 terminé"))) | Y9: =IF($S9="","",$S9) | Z9: =SUBTOTAL(103,$F9)*($R9="Complet") -> 0 | AA9: =IF(OR($F9="",$C9=""),0,IF(COUNTIFS($B$7:$B$1206,$B9,$F$7:$F$1206,$F9,$G$7:$G$1206,$G9,$I$7:$I$1206,$I9,$C$7:$C$1206,"<>"&$C9)>0,1,0)) -> 0
E10: =IF(OR($F10="",$G10=""),"",IF(ISNUMBER($I10),TEXT($I10-2000,"00")&"_","__")&UPPER(TRIM($F10))&"_"&UPPER(TRIM($G10))) | R10: =IF($F10="","",IF(OR($B10="",$C10="",$D10=""),"⚠ Compléter Année/Niveau/Session",IF(AND($E10<>"",COUNTIF(D_KEY_DOUBLON,$B10&"|"&$D10&"|"&$E10)>1),"⚠ Doublon",IF(AND($E10<>"",COUNTIF(D_KEY_STATUT,$B10&"|"&$E10&"|P")>0,COUNTIF(D_KEY_STATUT,$B10&"|"&$E10&"|A")>0),"⚠ Statut incohérent",IF(AND($D10="S1",$Y10<>"Parti",COUNTIF(ANNEES_VERROU,$B10)>0,COUNTIF(D_KEY_NIVSES,$B10&"|"&$C10&"|S2")>0,COUNTIF(D_KEY_DOUBLON,$B10&"|S2|"&$E10)=0),"⚠ Départ non confirmé ?",IF(AND($C10<>"",ISNUMBER($I10),OR(VALUE(LEFT($B10,4))-$I10<4+IFERROR(MATCH($C10,LISTE_NIVEAUX,0),99),VALUE(LEFT($B10,4))-$I10>6+IFERROR(MATCH($C10,LISTE_NIVEAUX,0),99))),"⚠ Vérifier niveau",IF(AND(IFERROR(VLOOKUP($C10,TABLE_CYCLE,2,0),3)=2,COUNT($O10:$Q10)>0),"⚠ Tests cycle 3",IF(COUNT($J10:$Q10)>=IF(IFERROR(VLOOKUP($C10,TABLE_CYCLE,2,0),3)=2,5,8),"Complet","Incomplet")))))))) | T10: =IFERROR(INDEX(D_NOM,MATCH(ROW()-6,D_RANG_RECUP,0)),"") | U10: =IFERROR(INDEX(D_PRENOM,MATCH(ROW()-6,D_RANG_RECUP,0)),"") | V10: =IFERROR(INDEX(D_SEXE,MATCH(ROW()-6,D_RANG_RECUP,0)),"") | W10: =IFERROR(INDEX(D_NAISS,MATCH(ROW()-6,D_RANG_RECUP,0)),"") | X10: =IF($T10="","",IF($X$4="→ Session 2 (même année)",$W$4,IFERROR(INDEX(LISTE_NIVEAUX,MATCH($W$4,LISTE_NIVEAUX,0)+1),"CM2 terminé"))) | Y10: =IF($S10="","",$S10) | Z10: =SUBTOTAL(103,$F10)*($R10="Complet") -> 0 | AA10: =IF(OR($F10="",$C10=""),0,IF(COUNTIFS($B$7:$B$1206,$B10,$F$7:$F$1206,$F10,$G$7:$G$1206,$G10,$I$7:$I$1206,$I10,$C$7:$C$1206,"<>"&$C10)>0,1,0)) -> 0
E11: =IF(OR($F11="",$G11=""),"",IF(ISNUMBER($I11),TEXT($I11-2000,"00")&"_","__")&UPPER(TRIM($F11))&"_"&UPPER(TRIM($G11))) | R11: =IF($F11="","",IF(OR($B11="",$C11="",$D11=""),"⚠ Compléter Année/Niveau/Session",IF(AND($E11<>"",COUNTIF(D_KEY_DOUBLON,$B11&"|"&$D11&"|"&$E11)>1),"⚠ Doublon",IF(AND($E11<>"",COUNTIF(D_KEY_STATUT,$B11&"|"&$E11&"|P")>0,COUNTIF(D_KEY_STATUT,$B11&"|"&$E11&"|A")>0),"⚠ Statut incohérent",IF(AND($D11="S1",$Y11<>"Parti",COUNTIF(ANNEES_VERROU,$B11)>0,COUNTIF(D_KEY_NIVSES,$B11&"|"&$C11&"|S2")>0,COUNTIF(D_KEY_DOUBLON,$B11&"|S2|"&$E11)=0),"⚠ Départ non confirmé ?",IF(AND($C11<>"",ISNUMBER($I11),OR(VALUE(LEFT($B11,4))-$I11<4+IFERROR(MATCH($C11,LISTE_NIVEAUX,0),99),VALUE(LEFT($B11,4))-$I11>6+IFERROR(MATCH($C11,LISTE_NIVEAUX,0),99))),"⚠ Vérifier niveau",IF(AND(IFERROR(VLOOKUP($C11,TABLE_CYCLE,2,0),3)=2,COUNT($O11:$Q11)>0),"⚠ Tests cycle 3",IF(COUNT($J11:$Q11)>=IF(IFERROR(VLOOKUP($C11,TABLE_CYCLE,2,0),3)=2,5,8),"Complet","Incomplet")))))))) | T11: =IFERROR(INDEX(D_NOM,MATCH(ROW()-6,D_RANG_RECUP,0)),"") | U11: =IFERROR(INDEX(D_PRENOM,MATCH(ROW()-6,D_RANG_RECUP,0)),"") | V11: =IFERROR(INDEX(D_SEXE,MATCH(ROW()-6,D_RANG_RECUP,0)),"") | W11: =IFERROR(INDEX(D_NAISS,MATCH(ROW()-6,D_RANG_RECUP,0)),"") | X11: =IF($T11="","",IF($X$4="→ Session 2 (même année)",$W$4,IFERROR(INDEX(LISTE_NIVEAUX,MATCH($W$4,LISTE_NIVEAUX,0)+1),"CM2 terminé"))) | Y11: =IF($S11="","",$S11) | Z11: =SUBTOTAL(103,$F11)*($R11="Complet") -> 0 | AA11: =IF(OR($F11="",$C11=""),0,IF(COUNTIFS($B$7:$B$1206,$B11,$F$7:$F$1206,$F11,$G$7:$G$1206,$G11,$I$7:$I$1206,$I11,$C$7:$C$1206,"<>"&$C11)>0,1,0)) -> 0
E12: =IF(OR($F12="",$G12=""),"",IF(ISNUMBER($I12),TEXT($I12-2000,"00")&"_","__")&UPPER(TRIM($F12))&"_"&UPPER(TRIM($G12))) | R12: =IF($F12="","",IF(OR($B12="",$C12="",$D12=""),"⚠ Compléter Année/Niveau/Session",IF(AND($E12<>"",COUNTIF(D_KEY_DOUBLON,$B12&"|"&$D12&"|"&$E12)>1),"⚠ Doublon",IF(AND($E12<>"",COUNTIF(D_KEY_STATUT,$B12&"|"&$E12&"|P")>0,COUNTIF(D_KEY_STATUT,$B12&"|"&$E12&"|A")>0),"⚠ Statut incohérent",IF(AND($D12="S1",$Y12<>"Parti",COUNTIF(ANNEES_VERROU,$B12)>0,COUNTIF(D_KEY_NIVSES,$B12&"|"&$C12&"|S2")>0,COUNTIF(D_KEY_DOUBLON,$B12&"|S2|"&$E12)=0),"⚠ Départ non confirmé ?",IF(AND($C12<>"",ISNUMBER($I12),OR(VALUE(LEFT($B12,4))-$I12<4+IFERROR(MATCH($C12,LISTE_NIVEAUX,0),99),VALUE(LEFT($B12,4))-$I12>6+IFERROR(MATCH($C12,LISTE_NIVEAUX,0),99))),"⚠ Vérifier niveau",IF(AND(IFERROR(VLOOKUP($C12,TABLE_CYCLE,2,0),3)=2,COUNT($O12:$Q12)>0),"⚠ Tests cycle 3",IF(COUNT($J12:$Q12)>=IF(IFERROR(VLOOKUP($C12,TABLE_CYCLE,2,0),3)=2,5,8),"Complet","Incomplet")))))))) | T12: =IFERROR(INDEX(D_NOM,MATCH(ROW()-6,D_RANG_RECUP,0)),"") | U12: =IFERROR(INDEX(D_PRENOM,MATCH(ROW()-6,D_RANG_RECUP,0)),"") | V12: =IFERROR(INDEX(D_SEXE,MATCH(ROW()-6,D_RANG_RECUP,0)),"") | W12: =IFERROR(INDEX(D_NAISS,MATCH(ROW()-6,D_RANG_RECUP,0)),"") | X12: =IF($T12="","",IF($X$4="→ Session 2 (même année)",$W$4,IFERROR(INDEX(LISTE_NIVEAUX,MATCH($W$4,LISTE_NIVEAUX,0)+1),"CM2 terminé"))) | Y12: =IF($S12="","",$S12) | Z12: =SUBTOTAL(103,$F12)*($R12="Complet") -> 0 | AA12: =IF(OR($F12="",$C12=""),0,IF(COUNTIFS($B$7:$B$1206,$B12,$F$7:$F$1206,$F12,$G$7:$G$1206,$G12,$I$7:$I$1206,$I12,$C$7:$C$1206,"<>"&$C12)>0,1,0)) -> 0
E13: =IF(OR($F13="",$G13=""),"",IF(ISNUMBER($I13),TEXT($I13-2000,"00")&"_","__")&UPPER(TRIM($F13))&"_"&UPPER(TRIM($G13))) | R13: =IF($F13="","",IF(OR($B13="",$C13="",$D13=""),"⚠ Compléter Année/Niveau/Session",IF(AND($E13<>"",COUNTIF(D_KEY_DOUBLON,$B13&"|"&$D13&"|"&$E13)>1),"⚠ Doublon",IF(AND($E13<>"",COUNTIF(D_KEY_STATUT,$B13&"|"&$E13&"|P")>0,COUNTIF(D_KEY_STATUT,$B13&"|"&$E13&"|A")>0),"⚠ Statut incohérent",IF(AND($D13="S1",$Y13<>"Parti",COUNTIF(ANNEES_VERROU,$B13)>0,COUNTIF(D_KEY_NIVSES,$B13&"|"&$C13&"|S2")>0,COUNTIF(D_KEY_DOUBLON,$B13&"|S2|"&$E13)=0),"⚠ Départ non confirmé ?",IF(AND($C13<>"",ISNUMBER($I13),OR(VALUE(LEFT($B13,4))-$I13<4+IFERROR(MATCH($C13,LISTE_NIVEAUX,0),99),VALUE(LEFT($B13,4))-$I13>6+IFERROR(MATCH($C13,LISTE_NIVEAUX,0),99))),"⚠ Vérifier niveau",IF(AND(IFERROR(VLOOKUP($C13,TABLE_CYCLE,2,0),3)=2,COUNT($O13:$Q13)>0),"⚠ Tests cycle 3",IF(COUNT($J13:$Q13)>=IF(IFERROR(VLOOKUP($C13,TABLE_CYCLE,2,0),3)=2,5,8),"Complet","Incomplet")))))))) | T13: =IFERROR(INDEX(D_NOM,MATCH(ROW()-6,D_RANG_RECUP,0)),"") | U13: =IFERROR(INDEX(D_PRENOM,MATCH(ROW()-6,D_RANG_RECUP,0)),"") | V13: =IFERROR(INDEX(D_SEXE,MATCH(ROW()-6,D_RANG_RECUP,0)),"") | W13: =IFERROR(INDEX(D_NAISS,MATCH(ROW()-6,D_RANG_RECUP,0)),"") | X13: =IF($T13="","",IF($X$4="→ Session 2 (même année)",$W$4,IFERROR(INDEX(LISTE_NIVEAUX,MATCH($W$4,LISTE_NIVEAUX,0)+1),"CM2 terminé"))) | Y13: =IF($S13="","",$S13) | Z13: =SUBTOTAL(103,$F13)*($R13="Complet") -> 0 | AA13: =IF(OR($F13="",$C13=""),0,IF(COUNTIFS($B$7:$B$1206,$B13,$F$7:$F$1206,$F13,$G$7:$G$1206,$G13,$I$7:$I$1206,$I13,$C$7:$C$1206,"<>"&$C13)>0,1,0)) -> 0
E14: =IF(OR($F14="",$G14=""),"",IF(ISNUMBER($I14),TEXT($I14-2000,"00")&"_","__")&UPPER(TRIM($F14))&"_"&UPPER(TRIM($G14))) | R14: =IF($F14="","",IF(OR($B14="",$C14="",$D14=""),"⚠ Compléter Année/Niveau/Session",IF(AND($E14<>"",COUNTIF(D_KEY_DOUBLON,$B14&"|"&$D14&"|"&$E14)>1),"⚠ Doublon",IF(AND($E14<>"",COUNTIF(D_KEY_STATUT,$B14&"|"&$E14&"|P")>0,COUNTIF(D_KEY_STATUT,$B14&"|"&$E14&"|A")>0),"⚠ Statut incohérent",IF(AND($D14="S1",$Y14<>"Parti",COUNTIF(ANNEES_VERROU,$B14)>0,COUNTIF(D_KEY_NIVSES,$B14&"|"&$C14&"|S2")>0,COUNTIF(D_KEY_DOUBLON,$B14&"|S2|"&$E14)=0),"⚠ Départ non confirmé ?",IF(AND($C14<>"",ISNUMBER($I14),OR(VALUE(LEFT($B14,4))-$I14<4+IFERROR(MATCH($C14,LISTE_NIVEAUX,0),99),VALUE(LEFT($B14,4))-$I14>6+IFERROR(MATCH($C14,LISTE_NIVEAUX,0),99))),"⚠ Vérifier niveau",IF(AND(IFERROR(VLOOKUP($C14,TABLE_CYCLE,2,0),3)=2,COUNT($O14:$Q14)>0),"⚠ Tests cycle 3",IF(COUNT($J14:$Q14)>=IF(IFERROR(VLOOKUP($C14,TABLE_CYCLE,2,0),3)=2,5,8),"Complet","Incomplet")))))))) | T14: =IFERROR(INDEX(D_NOM,MATCH(ROW()-6,D_RANG_RECUP,0)),"") | U14: =IFERROR(INDEX(D_PRENOM,MATCH(ROW()-6,D_RANG_RECUP,0)),"") | V14: =IFERROR(INDEX(D_SEXE,MATCH(ROW()-6,D_RANG_RECUP,0)),"") | W14: =IFERROR(INDEX(D_NAISS,MATCH(ROW()-6,D_RANG_RECUP,0)),"") | X14: =IF($T14="","",IF($X$4="→ Session 2 (même année)",$W$4,IFERROR(INDEX(LISTE_NIVEAUX,MATCH($W$4,LISTE_NIVEAUX,0)+1),"CM2 terminé"))) | Y14: =IF($S14="","",$S14) | Z14: =SUBTOTAL(103,$F14)*($R14="Complet") -> 0 | AA14: =IF(OR($F14="",$C14=""),0,IF(COUNTIFS($B$7:$B$1206,$B14,$F$7:$F$1206,$F14,$G$7:$G$1206,$G14,$I$7:$I$1206,$I14,$C$7:$C$1206,"<>"&$C14)>0,1,0)) -> 0
E15: =IF(OR($F15="",$G15=""),"",IF(ISNUMBER($I15),TEXT($I15-2000,"00")&"_","__")&UPPER(TRIM($F15))&"_"&UPPER(TRIM($G15))) | R15: =IF($F15="","",IF(OR($B15="",$C15="",$D15=""),"⚠ Compléter Année/Niveau/Session",IF(AND($E15<>"",COUNTIF(D_KEY_DOUBLON,$B15&"|"&$D15&"|"&$E15)>1),"⚠ Doublon",IF(AND($E15<>"",COUNTIF(D_KEY_STATUT,$B15&"|"&$E15&"|P")>0,COUNTIF(D_KEY_STATUT,$B15&"|"&$E15&"|A")>0),"⚠ Statut incohérent",IF(AND($D15="S1",$Y15<>"Parti",COUNTIF(ANNEES_VERROU,$B15)>0,COUNTIF(D_KEY_NIVSES,$B15&"|"&$C15&"|S2")>0,COUNTIF(D_KEY_DOUBLON,$B15&"|S2|"&$E15)=0),"⚠ Départ non confirmé ?",IF(AND($C15<>"",ISNUMBER($I15),OR(VALUE(LEFT($B15,4))-$I15<4+IFERROR(MATCH($C15,LISTE_NIVEAUX,0),99),VALUE(LEFT($B15,4))-$I15>6+IFERROR(MATCH($C15,LISTE_NIVEAUX,0),99))),"⚠ Vérifier niveau",IF(AND(IFERROR(VLOOKUP($C15,TABLE_CYCLE,2,0),3)=2,COUNT($O15:$Q15)>0),"⚠ Tests cycle 3",IF(COUNT($J15:$Q15)>=IF(IFERROR(VLOOKUP($C15,TABLE_CYCLE,2,0),3)=2,5,8),"Complet","Incomplet")))))))) | T15: =IFERROR(INDEX(D_NOM,MATCH(ROW()-6,D_RANG_RECUP,0)),"") | U15: =IFERROR(INDEX(D_PRENOM,MATCH(ROW()-6,D_RANG_RECUP,0)),"") | V15: =IFERROR(INDEX(D_SEXE,MATCH(ROW()-6,D_RANG_RECUP,0)),"") | W15: =IFERROR(INDEX(D_NAISS,MATCH(ROW()-6,D_RANG_RECUP,0)),"") | X15: =IF($T15="","",IF($X$4="→ Session 2 (même année)",$W$4,IFERROR(INDEX(LISTE_NIVEAUX,MATCH($W$4,LISTE_NIVEAUX,0)+1),"CM2 terminé"))) | Y15: =IF($S15="","",$S15) | Z15: =SUBTOTAL(103,$F15)*($R15="Complet") -> 0 | AA15: =IF(OR($F15="",$C15=""),0,IF(COUNTIFS($B$7:$B$1206,$B15,$F$7:$F$1206,$F15,$G$7:$G$1206,$G15,$I$7:$I$1206,$I15,$C$7:$C$1206,"<>"&$C15)>0,1,0)) -> 0
E16: =IF(OR($F16="",$G16=""),"",IF(ISNUMBER($I16),TEXT($I16-2000,"00")&"_","__")&UPPER(TRIM($F16))&"_"&UPPER(TRIM($G16))) | R16: =IF($F16="","",IF(OR($B16="",$C16="",$D16=""),"⚠ Compléter Année/Niveau/Session",IF(AND($E16<>"",COUNTIF(D_KEY_DOUBLON,$B16&"|"&$D16&"|"&$E16)>1),"⚠ Doublon",IF(AND($E16<>"",COUNTIF(D_KEY_STATUT,$B16&"|"&$E16&"|P")>0,COUNTIF(D_KEY_STATUT,$B16&"|"&$E16&"|A")>0),"⚠ Statut incohérent",IF(AND($D16="S1",$Y16<>"Parti",COUNTIF(ANNEES_VERROU,$B16)>0,COUNTIF(D_KEY_NIVSES,$B16&"|"&$C16&"|S2")>0,COUNTIF(D_KEY_DOUBLON,$B16&"|S2|"&$E16)=0),"⚠ Départ non confirmé ?",IF(AND($C16<>"",ISNUMBER($I16),OR(VALUE(LEFT($B16,4))-$I16<4+IFERROR(MATCH($C16,LISTE_NIVEAUX,0),99),VALUE(LEFT($B16,4))-$I16>6+IFERROR(MATCH($C16,LISTE_NIVEAUX,0),99))),"⚠ Vérifier niveau",IF(AND(IFERROR(VLOOKUP($C16,TABLE_CYCLE,2,0),3)=2,COUNT($O16:$Q16)>0),"⚠ Tests cycle 3",IF(COUNT($J16:$Q16)>=IF(IFERROR(VLOOKUP($C16,TABLE_CYCLE,2,0),3)=2,5,8),"Complet","Incomplet")))))))) | T16: =IFERROR(INDEX(D_NOM,MATCH(ROW()-6,D_RANG_RECUP,0)),"") | U16: =IFERROR(INDEX(D_PRENOM,MATCH(ROW()-6,D_RANG_RECUP,0)),"") | V16: =IFERROR(INDEX(D_SEXE,MATCH(ROW()-6,D_RANG_RECUP,0)),"") | W16: =IFERROR(INDEX(D_NAISS,MATCH(ROW()-6,D_RANG_RECUP,0)),"") | X16: =IF($T16="","",IF($X$4="→ Session 2 (même année)",$W$4,IFERROR(INDEX(LISTE_NIVEAUX,MATCH($W$4,LISTE_NIVEAUX,0)+1),"CM2 terminé"))) | Y16: =IF($S16="","",$S16) | Z16: =SUBTOTAL(103,$F16)*($R16="Complet") -> 0 | AA16: =IF(OR($F16="",$C16=""),0,IF(COUNTIFS($B$7:$B$1206,$B16,$F$7:$F$1206,$F16,$G$7:$G$1206,$G16,$I$7:$I$1206,$I16,$C$7:$C$1206,"<>"&$C16)>0,1,0)) -> 0
E17: =IF(OR($F17="",$G17=""),"",IF(ISNUMBER($I17),TEXT($I17-2000,"00")&"_","__")&UPPER(TRIM($F17))&"_"&UPPER(TRIM($G17))) | R17: =IF($F17="","",IF(OR($B17="",$C17="",$D17=""),"⚠ Compléter Année/Niveau/Session",IF(AND($E17<>"",COUNTIF(D_KEY_DOUBLON,$B17&"|"&$D17&"|"&$E17)>1),"⚠ Doublon",IF(AND($E17<>"",COUNTIF(D_KEY_STATUT,$B17&"|"&$E17&"|P")>0,COUNTIF(D_KEY_STATUT,$B17&"|"&$E17&"|A")>0),"⚠ Statut incohérent",IF(AND($D17="S1",$Y17<>"Parti",COUNTIF(ANNEES_VERROU,$B17)>0,COUNTIF(D_KEY_NIVSES,$B17&"|"&$C17&"|S2")>0,COUNTIF(D_KEY_DOUBLON,$B17&"|S2|"&$E17)=0),"⚠ Départ non confirmé ?",IF(AND($C17<>"",ISNUMBER($I17),OR(VALUE(LEFT($B17,4))-$I17<4+IFERROR(MATCH($C17,LISTE_NIVEAUX,0),99),VALUE(LEFT($B17,4))-$I17>6+IFERROR(MATCH($C17,LISTE_NIVEAUX,0),99))),"⚠ Vérifier niveau",IF(AND(IFERROR(VLOOKUP($C17,TABLE_CYCLE,2,0),3)=2,COUNT($O17:$Q17)>0),"⚠ Tests cycle 3",IF(COUNT($J17:$Q17)>=IF(IFERROR(VLOOKUP($C17,TABLE_CYCLE,2,0),3)=2,5,8),"Complet","Incomplet")))))))) | T17: =IFERROR(INDEX(D_NOM,MATCH(ROW()-6,D_RANG_RECUP,0)),"") | U17: =IFERROR(INDEX(D_PRENOM,MATCH(ROW()-6,D_RANG_RECUP,0)),"") | V17: =IFERROR(INDEX(D_SEXE,MATCH(ROW()-6,D_RANG_RECUP,0)),"") | W17: =IFERROR(INDEX(D_NAISS,MATCH(ROW()-6,D_RANG_RECUP,0)),"") | X17: =IF($T17="","",IF($X$4="→ Session 2 (même année)",$W$4,IFERROR(INDEX(LISTE_NIVEAUX,MATCH($W$4,LISTE_NIVEAUX,0)+1),"CM2 terminé"))) | Y17: =IF($S17="","",$S17) | Z17: =SUBTOTAL(103,$F17)*($R17="Complet") -> 0 | AA17: =IF(OR($F17="",$C17=""),0,IF(COUNTIFS($B$7:$B$1206,$B17,$F$7:$F$1206,$F17,$G$7:$G$1206,$G17,$I$7:$I$1206,$I17,$C$7:$C$1206,"<>"&$C17)>0,1,0)) -> 0
E18: =IF(OR($F18="",$G18=""),"",IF(ISNUMBER($I18),TEXT($I18-2000,"00")&"_","__")&UPPER(TRIM($F18))&"_"&UPPER(TRIM($G18))) | R18: =IF($F18="","",IF(OR($B18="",$C18="",$D18=""),"⚠ Compléter Année/Niveau/Session",IF(AND($E18<>"",COUNTIF(D_KEY_DOUBLON,$B18&"|"&$D18&"|"&$E18)>1),"⚠ Doublon",IF(AND($E18<>"",COUNTIF(D_KEY_STATUT,$B18&"|"&$E18&"|P")>0,COUNTIF(D_KEY_STATUT,$B18&"|"&$E18&"|A")>0),"⚠ Statut incohérent",IF(AND($D18="S1",$Y18<>"Parti",COUNTIF(ANNEES_VERROU,$B18)>0,COUNTIF(D_KEY_NIVSES,$B18&"|"&$C18&"|S2")>0,COUNTIF(D_KEY_DOUBLON,$B18&"|S2|"&$E18)=0),"⚠ Départ non confirmé ?",IF(AND($C18<>"",ISNUMBER($I18),OR(VALUE(LEFT($B18,4))-$I18<4+IFERROR(MATCH($C18,LISTE_NIVEAUX,0),99),VALUE(LEFT($B18,4))-$I18>6+IFERROR(MATCH($C18,LISTE_NIVEAUX,0),99))),"⚠ Vérifier niveau",IF(AND(IFERROR(VLOOKUP($C18,TABLE_CYCLE,2,0),3)=2,COUNT($O18:$Q18)>0),"⚠ Tests cycle 3",IF(COUNT($J18:$Q18)>=IF(IFERROR(VLOOKUP($C18,TABLE_CYCLE,2,0),3)=2,5,8),"Complet","Incomplet")))))))) | T18: =IFERROR(INDEX(D_NOM,MATCH(ROW()-6,D_RANG_RECUP,0)),"") | U18: =IFERROR(INDEX(D_PRENOM,MATCH(ROW()-6,D_RANG_RECUP,0)),"") | V18: =IFERROR(INDEX(D_SEXE,MATCH(ROW()-6,D_RANG_RECUP,0)),"") | W18: =IFERROR(INDEX(D_NAISS,MATCH(ROW()-6,D_RANG_RECUP,0)),"") | X18: =IF($T18="","",IF($X$4="→ Session 2 (même année)",$W$4,IFERROR(INDEX(LISTE_NIVEAUX,MATCH($W$4,LISTE_NIVEAUX,0)+1),"CM2 terminé"))) | Y18: =IF($S18="","",$S18) | Z18: =SUBTOTAL(103,$F18)*($R18="Complet") -> 0 | AA18: =IF(OR($F18="",$C18=""),0,IF(COUNTIFS($B$7:$B$1206,$B18,$F$7:$F$1206,$F18,$G$7:$G$1206,$G18,$I$7:$I$1206,$I18,$C$7:$C$1206,"<>"&$C18)>0,1,0)) -> 0
E19: =IF(OR($F19="",$G19=""),"",IF(ISNUMBER($I19),TEXT($I19-2000,"00")&"_","__")&UPPER(TRIM($F19))&"_"&UPPER(TRIM($G19))) | R19: =IF($F19="","",IF(OR($B19="",$C19="",$D19=""),"⚠ Compléter Année/Niveau/Session",IF(AND($E19<>"",COUNTIF(D_KEY_DOUBLON,$B19&"|"&$D19&"|"&$E19)>1),"⚠ Doublon",IF(AND($E19<>"",COUNTIF(D_KEY_STATUT,$B19&"|"&$E19&"|P")>0,COUNTIF(D_KEY_STATUT,$B19&"|"&$E19&"|A")>0),"⚠ Statut incohérent",IF(AND($D19="S1",$Y19<>"Parti",COUNTIF(ANNEES_VERROU,$B19)>0,COUNTIF(D_KEY_NIVSES,$B19&"|"&$C19&"|S2")>0,COUNTIF(D_KEY_DOUBLON,$B19&"|S2|"&$E19)=0),"⚠ Départ non confirmé ?",IF(AND($C19<>"",ISNUMBER($I19),OR(VALUE(LEFT($B19,4))-$I19<4+IFERROR(MATCH($C19,LISTE_NIVEAUX,0),99),VALUE(LEFT($B19,4))-$I19>6+IFERROR(MATCH($C19,LISTE_NIVEAUX,0),99))),"⚠ Vérifier niveau",IF(AND(IFERROR(VLOOKUP($C19,TABLE_CYCLE,2,0),3)=2,COUNT($O19:$Q19)>0),"⚠ Tests cycle 3",IF(COUNT($J19:$Q19)>=IF(IFERROR(VLOOKUP($C19,TABLE_CYCLE,2,0),3)=2,5,8),"Complet","Incomplet")))))))) | T19: =IFERROR(INDEX(D_NOM,MATCH(ROW()-6,D_RANG_RECUP,0)),"") | U19: =IFERROR(INDEX(D_PRENOM,MATCH(ROW()-6,D_RANG_RECUP,0)),"") | V19: =IFERROR(INDEX(D_SEXE,MATCH(ROW()-6,D_RANG_RECUP,0)),"") | W19: =IFERROR(INDEX(D_NAISS,MATCH(ROW()-6,D_RANG_RECUP,0)),"") | X19: =IF($T19="","",IF($X$4="→ Session 2 (même année)",$W$4,IFERROR(INDEX(LISTE_NIVEAUX,MATCH($W$4,LISTE_NIVEAUX,0)+1),"CM2 terminé"))) | Y19: =IF($S19="","",$S19) | Z19: =SUBTOTAL(103,$F19)*($R19="Complet") -> 0 | AA19: =IF(OR($F19="",$C19=""),0,IF(COUNTIFS($B$7:$B$1206,$B19,$F$7:$F$1206,$F19,$G$7:$G$1206,$G19,$I$7:$I$1206,$I19,$C$7:$C$1206,"<>"&$C19)>0,1,0)) -> 0
... E1206: =IF(OR($F1206="",$G1206=""),"",IF(ISNUMBER($I1206),TEXT($I1206-2000,"00")&"_","__")&UPPER(TRIM($F1206))&"_"&UPPER(TRIM($G1206))) | R1206: =IF($F1206="","",IF(OR($B1206="",$C1206="",$D1206=""),"⚠ Compléter Année/Niveau/Session",IF(AND($E1206<>"",COUNTIF(D_KEY_DOUBLON,$B1206&"|"&$D1206&"|"&$E1206)>1),"⚠ Doublon",IF(AND($E1206<>"",COUNTIF(D_KEY_STATUT,$B1206&"|"&$E1206&"|P")>0,COUNTIF(D_KEY_STATUT,$B1206&"|"&$E1206&"|A")>0),"⚠ Statut incohérent",IF(AND($D1206="S1",$Y1206<>"Parti",COUNTIF(ANNEES_VERROU,$B1206)>0,COUNTIF(D_KEY_NIVSES,$B1206&"|"&$C1206&"|S2")>0,COUNTIF(D_KEY_DOUBLON,$B1206&"|S2|"&$E1206)=0),"⚠ Départ non confirmé ?",IF(AND($C1206<>"",ISNUMBER($I1206),OR(VALUE(LEFT($B1206,4))-$I1206<4+IFERROR(MATCH($C1206,LISTE_NIVEAUX,0),99),VALUE(LEFT($B1206,4))-$I1206>6+IFERROR(MATCH($C1206,LISTE_NIVEAUX,0),99))),"⚠ Vérifier niveau",IF(AND(IFERROR(VLOOKUP($C1206,TABLE_CYCLE,2,0),3)=2,COUNT($O1206:$Q1206)>0),"⚠ Tests cycle 3",IF(COUNT($J1206:$Q1206)>=IF(IFERROR(VLOOKUP($C1206,TABLE_CYCLE,2,0),3)=2,5,8),"Complet","Incomplet")))))))) | T1206: =IFERROR(INDEX(D_NOM,MATCH(ROW()-6,D_RANG_RECUP,0)),"") | U1206: =IFERROR(INDEX(D_PRENOM,MATCH(ROW()-6,D_RANG_RECUP,0)),"") | V1206: =IFERROR(INDEX(D_SEXE,MATCH(ROW()-6,D_RANG_RECUP,0)),"") | W1206: =IFERROR(INDEX(D_NAISS,MATCH(ROW()-6,D_RANG_RECUP,0)),"") | X1206: =IF($T1206="","",IF($X$4="→ Session 2 (même année)",$W$4,IFERROR(INDEX(LISTE_NIVEAUX,MATCH($W$4,LISTE_NIVEAUX,0)+1),"CM2 terminé"))) | Y1206: =IF($S1206="","",$S1206) | Z1206: =SUBTOTAL(103,$F1206)*($R1206="Complet") -> 0 | AA1206: =IF(OR($F1206="",$C1206=""),0,IF(COUNTIFS($B$7:$B$1206,$B1206,$F$7:$F$1206,$F1206,$G$7:$G$1206,$G1206,$I$7:$I$1206,$I1206,$C$7:$C$1206,"<>"&$C1206)>0,1,0)) -> 0
B1208: LÉGENDE — Colonne État | E1208: Signification
B1209: Complet | E1209: Tous les tests attendus sont saisis.
B1210: Incomplet | E1210: Il manque au moins un test sur cette ligne.
B1211: ⚠ Doublon | E1211: Même élève saisi deux fois pour la même session.
B1212: ⚠ Statut incohérent | E1212: S1 et S2 du même élève n'ont pas le même statut.
B1213: ⚠ Départ non confirmé ? | E1213: Élève en S1 sans ligne S2 et sans Statut=Parti.
B1214: ⚠ Vérifier niveau | E1214: L'âge ne correspond pas au niveau — redoublement ou erreur ?
B1216: PASSAGE S1 → S2 (même classe, même année) — S2 = nouvelles lignes : ne modifiez jamais les lignes S1
B1217: 1. Passez le menu Session sur S2 (Année et Niveau inchangés)
B1218: 2. Copiez les colonnes Nom → Né(e) en (F à I) des lignes S1 de la classe
B1219: 3. Collez sur la prochaine ligne libre : Année / Niveau / Session se remplissent automatiquement en S2
B1220: 4. Saisissez les performances de fin d’année
B1221: Nouvel élève : ajoutez simplement une ligne. Élève qui part : Statut = Parti sur ses lignes S1 et S2.

Sheet PROFIL ELEVE
A1: PROFIL ÉLÈVE
A2: Sélectionner un élève et une année scolaire pour afficher son profil détaillé. | R2: =HYPERLINK("#ACCUEIL!A1","← ACCUEIL") -> ← ACCUEIL | Y2: =IFERROR(INDEX(D_IDUNIQUE,MATCH(ROW()-1,D_RANG_PROFIL,0)),"") | Z2: =IF($Y2="","",UPPER(INDEX(D_NOM,MATCH($Y2,D_ID,0)))&" "&INDEX(D_PRENOM,MATCH($Y2,D_ID,0))&" — "&INDEX(D_NIVEAU_ACTUEL,MATCH($Y2,D_ID,0)))
C3: ÉLÈVE (ID) | H3: ANNÉE SCOLAIRE | K3: NIVEAU SCOLAIRE | N3: =HYPERLINK("#'FICHE PARENTS'!A1","🖨 FICHE PARENTS →") -> 🖨 FICHE PARENTS → | Y3: =IFERROR(INDEX(D_IDUNIQUE,MATCH(ROW()-1,D_RANG_PROFIL,0)),"") | Z3: =IF($Y3="","",UPPER(INDEX(D_NOM,MATCH($Y3,D_ID,0)))&" "&INDEX(D_PRENOM,MATCH($Y3,D_ID,0))&" — "&INDEX(D_NIVEAU_ACTUEL,MATCH($Y3,D_ID,0)))
H4: 2026-2027 | K4: (Tous) | S4: =IFERROR(INDEX($Y$2:$Y$1201,MATCH($C$4,$Z$2:$Z$1201,0)),"")&"|"&$H$4&"|"&"S1" -> |2026-2027|S1 | T4: =IFERROR(INDEX($Y$2:$Y$1201,MATCH($C$4,$Z$2:$Z$1201,0)),"")&"|"&$H$4&"|"&"S2" -> |2026-2027|S2 | U4: =IFERROR(MATCH($S$4,D_KEY,0),0) -> 0 | V4: =IFERROR(MATCH($T$4,D_KEY,0),0) -> 0 | W4: =IF($U$4<>0,$U$4,$V$4) -> 0 | X4: =IFERROR(IF(VLOOKUP($M$6,TABLE_CYCLE,2,0)=2,5,8),8) -> 8 | Y4: =IFERROR(INDEX(D_IDUNIQUE,MATCH(ROW()-1,D_RANG_PROFIL,0)),"") | Z4: =IF($Y4="","",UPPER(INDEX(D_NOM,MATCH($Y4,D_ID,0)))&" "&INDEX(D_PRENOM,MATCH($Y4,D_ID,0))&" — "&INDEX(D_NIVEAU_ACTUEL,MATCH($Y4,D_ID,0)))
Y5: =IFERROR(INDEX(D_IDUNIQUE,MATCH(ROW()-1,D_RANG_PROFIL,0)),"") | Z5: =IF($Y5="","",UPPER(INDEX(D_NOM,MATCH($Y5,D_ID,0)))&" "&INDEX(D_PRENOM,MATCH($Y5,D_ID,0))&" — "&INDEX(D_NIVEAU_ACTUEL,MATCH($Y5,D_ID,0)))
B6: Nom : | C6: =IF($W$4=0,"Aucun élève sélectionné",INDEX(D_NOM,$W$4)) -> Aucun élève sélectionné | G6: Prénom : | H6: =IF($W$4=0,"—",INDEX(D_PRENOM,$W$4)) -> — | L6: Niveau : | M6: =IF($W$4=0,"—",INDEX(D_NIVEAU,$W$4)) -> — | X6: =IF(COUNT($D$30:$D$37)>0,2,1) -> 1 | Y6: =IFERROR(INDEX(D_IDUNIQUE,MATCH(ROW()-1,D_RANG_PROFIL,0)),"") | Z6: =IF($Y6="","",UPPER(INDEX(D_NOM,MATCH($Y6,D_ID,0)))&" "&INDEX(D_PRENOM,MATCH($Y6,D_ID,0))&" — "&INDEX(D_NIVEAU_ACTUEL,MATCH($Y6,D_ID,0)))
B7: Sessions : | C7: =IF($U$4<>0,"✓ Session 1 saisie","✗ Session 1 absente") -> ✗ Session 1 absente | F7: =IF($V$4<>0,"✓ Session 2 saisie","✗ Session 2 absente") -> ✗ Session 2 absente | J7: =IF(OR($W$4=0,$X$7=""),"","Point fort : "&$X$7) | N7: =IF(OR($W$4=0,$X$8=""),"","À travailler : "&$X$8) | X7: =IFERROR(INDEX($B$30:$B$37,MATCH(_xlfn.MAXIFS($V$30:$V$37,$V$30:$V$37,">0"),$V$30:$V$37,0)),"") -> Équilibre | Y7: =IFERROR(INDEX(D_IDUNIQUE,MATCH(ROW()-1,D_RANG_PROFIL,0)),"") | Z7: =IF($Y7="","",UPPER(INDEX(D_NOM,MATCH($Y7,D_ID,0)))&" "&INDEX(D_PRENOM,MATCH($Y7,D_ID,0))&" — "&INDEX(D_NIVEAU_ACTUEL,MATCH($Y7,D_ID,0)))
X8: =IFERROR(INDEX($B$30:$B$37,MATCH(_xlfn.MINIFS($V$30:$V$37,$V$30:$V$37,">0"),$V$30:$V$37,0)),"") -> Équilibre | Y8: =IFERROR(INDEX(D_IDUNIQUE,MATCH(ROW()-1,D_RANG_PROFIL,0)),"") | Z8: =IF($Y8="","",UPPER(INDEX(D_NOM,MATCH($Y8,D_ID,0)))&" "&INDEX(D_PRENOM,MATCH($Y8,D_ID,0))&" — "&INDEX(D_NIVEAU_ACTUEL,MATCH($Y8,D_ID,0)))
Y9: =IFERROR(INDEX(D_IDUNIQUE,MATCH(ROW()-1,D_RANG_PROFIL,0)),"") | Z9: =IF($Y9="","",UPPER(INDEX(D_NOM,MATCH($Y9,D_ID,0)))&" "&INDEX(D_PRENOM,MATCH($Y9,D_ID,0))&" — "&INDEX(D_NIVEAU_ACTUEL,MATCH($Y9,D_ID,0)))
B10: Équilibre | F10: Souplesse | J10: Vitesse | N10: Endurance | Y10: =IFERROR(INDEX(D_IDUNIQUE,MATCH(ROW()-1,D_RANG_PROFIL,0)),"") | Z10: =IF($Y10="","",UPPER(INDEX(D_NOM,MATCH($Y10,D_ID,0)))&" "&INDEX(D_PRENOM,MATCH($Y10,D_ID,0))&" — "&INDEX(D_NIVEAU_ACTUEL,MATCH($Y10,D_ID,0)))
B11: secondes | F11: zone (1-5) | J11: mètres (/6s) | N11: longueurs (/3min) | Y11: =IFERROR(INDEX(D_IDUNIQUE,MATCH(ROW()-1,D_RANG_PROFIL,0)),"") | Z11: =IF($Y11="","",UPPER(INDEX(D_NOM,MATCH($Y11,D_ID,0)))&" "&INDEX(D_PRENOM,MATCH($Y11,D_ID,0))&" — "&INDEX(D_NIVEAU_ACTUEL,MATCH($Y11,D_ID,0)))
C12: Perf. | D12: Niveau | G12: Perf. | H12: Niveau | K12: Perf. | L12: Niveau | O12: Perf. | P12: Niveau | Y12: =IFERROR(INDEX(D_IDUNIQUE,MATCH(ROW()-1,D_RANG_PROFIL,0)),"") | Z12: =IF($Y12="","",UPPER(INDEX(D_NOM,MATCH($Y12,D_ID,0)))&" "&INDEX(D_PRENOM,MATCH($Y12,D_ID,0))&" — "&INDEX(D_NIVEAU_ACTUEL,MATCH($Y12,D_ID,0)))
B13: S1 | C13: =IF($U$4=0,"",INDEX(D_EQ_PERF,$U$4)) | D13: =IF($U$4=0,"",INDEX(D_EQ_NIV,$U$4)) | F13: S1 | G13: =IF($U$4=0,"",INDEX(D_SO_PERF,$U$4)) | H13: =IF($U$4=0,"",INDEX(D_SO_NIV,$U$4)) | J13: S1 | K13: =IF($U$4=0,"",INDEX(D_VI_PERF,$U$4)) | L13: =IF($U$4=0,"",INDEX(D_VI_NIV,$U$4)) | N13: S1 | O13: =IF($U$4=0,"",INDEX(D_EN_PERF,$U$4)) | P13: =IF($U$4=0,"",INDEX(D_EN_NIV,$U$4)) | Y13: =IFERROR(INDEX(D_IDUNIQUE,MATCH(ROW()-1,D_RANG_PROFIL,0)),"") | Z13: =IF($Y13="","",UPPER(INDEX(D_NOM,MATCH($Y13,D_ID,0)))&" "&INDEX(D_PRENOM,MATCH($Y13,D_ID,0))&" — "&INDEX(D_NIVEAU_ACTUEL,MATCH($Y13,D_ID,0)))
B14: S2 | C14: =IF($V$4=0,"",INDEX(D_EQ_PERF,$V$4)) | D14: =IF($V$4=0,"",INDEX(D_EQ_NIV,$V$4)) | F14: S2 | G14: =IF($V$4=0,"",INDEX(D_SO_PERF,$V$4)) | H14: =IF($V$4=0,"",INDEX(D_SO_NIV,$V$4)) | J14: S2 | K14: =IF($V$4=0,"",INDEX(D_VI_PERF,$V$4)) | L14: =IF($V$4=0,"",INDEX(D_VI_NIV,$V$4)) | N14: S2 | O14: =IF($V$4=0,"",INDEX(D_EN_PERF,$V$4)) | P14: =IF($V$4=0,"",INDEX(D_EN_NIV,$V$4)) | Y14: =IFERROR(INDEX(D_IDUNIQUE,MATCH(ROW()-1,D_RANG_PROFIL,0)),"") | Z14: =IF($Y14="","",UPPER(INDEX(D_NOM,MATCH($Y14,D_ID,0)))&" "&INDEX(D_PRENOM,MATCH($Y14,D_ID,0))&" — "&INDEX(D_NIVEAU_ACTUEL,MATCH($Y14,D_ID,0)))
B15: Évolution | C15: =IF(OR(D13="",D14=""),"Non testé",IF(D14-D13>0,"▲ +"&(D14-D13)&" niv.",IF(D14-D13<0,"▼ "&(D14-D13)&" niv.","➜ stable"))) -> Non testé | F15: Évolution | G15: =IF(OR(H13="",H14=""),"Non testé",IF(H14-H13>0,"▲ +"&(H14-H13)&" niv.",IF(H14-H13<0,"▼ "&(H14-H13)&" niv.","➜ stable"))) -> Non testé | J15: Évolution | K15: =IF(OR(L13="",L14=""),"Non testé",IF(L14-L13>0,"▲ +"&(L14-L13)&" niv.",IF(L14-L13<0,"▼ "&(L14-L13)&" niv.","➜ stable"))) -> Non testé | N15: Évolution | O15: =IF(OR(P13="",P14=""),"Non testé",IF(P14-P13>0,"▲ +"&(P14-P13)&" niv.",IF(P14-P13<0,"▼ "&(P14-P13)&" niv.","➜ stable"))) -> Non testé | Y15: =IFERROR(INDEX(D_IDUNIQUE,MATCH(ROW()-1,D_RANG_PROFIL,0)),"") | Z15: =IF($Y15="","",UPPER(INDEX(D_NOM,MATCH($Y15,D_ID,0)))&" "&INDEX(D_PRENOM,MATCH($Y15,D_ID,0))&" — "&INDEX(D_NIVEAU_ACTUEL,MATCH($Y15,D_ID,0)))
Y16: =IFERROR(INDEX(D_IDUNIQUE,MATCH(ROW()-1,D_RANG_PROFIL,0)),"") | Z16: =IF($Y16="","",UPPER(INDEX(D_NOM,MATCH($Y16,D_ID,0)))&" "&INDEX(D_PRENOM,MATCH($Y16,D_ID,0))&" — "&INDEX(D_NIVEAU_ACTUEL,MATCH($Y16,D_ID,0)))
B17: ="Moy. niveau scolaire : "&IFERROR(ROUND(AVERAGEIFS(D_EQ_NIV,D_ANNEE,$H$4,D_NIVEAU,$M$6,D_EQ_NIV,">0"),1),"Non réalisée") -> Moy. niveau scolaire : Non réalisée | F17: ="Moy. niveau scolaire : "&IFERROR(ROUND(AVERAGEIFS(D_SO_NIV,D_ANNEE,$H$4,D_NIVEAU,$M$6,D_SO_NIV,">0"),1),"Non réalisée") -> Moy. niveau scolaire : Non réalisée | J17: ="Moy. niveau scolaire : "&IFERROR(ROUND(AVERAGEIFS(D_VI_NIV,D_ANNEE,$H$4,D_NIVEAU,$M$6,D_VI_NIV,">0"),1),"Non réalisée") -> Moy. niveau scolaire : Non réalisée | N17: ="Moy. niveau scolaire : "&IFERROR(ROUND(AVERAGEIFS(D_EN_NIV,D_ANNEE,$H$4,D_NIVEAU,$M$6,D_EN_NIV,">0"),1),"Non réalisée") -> Moy. niveau scolaire : Non réalisée | Y17: =IFERROR(INDEX(D_IDUNIQUE,MATCH(ROW()-1,D_RANG_PROFIL,0)),"") | Z17: =IF($Y17="","",UPPER(INDEX(D_NOM,MATCH($Y17,D_ID,0)))&" "&INDEX(D_PRENOM,MATCH($Y17,D_ID,0))&" — "&INDEX(D_NIVEAU_ACTUEL,MATCH($Y17,D_ID,0)))
Y18: =IFERROR(INDEX(D_IDUNIQUE,MATCH(ROW()-1,D_RANG_PROFIL,0)),"") | Z18: =IF($Y18="","",UPPER(INDEX(D_NOM,MATCH($Y18,D_ID,0)))&" "&INDEX(D_PRENOM,MATCH($Y18,D_ID,0))&" — "&INDEX(D_NIVEAU_ACTUEL,MATCH($Y18,D_ID,0)))
B19: Coordination | F19: Gainage | J19: Adresse | N19: Force des jambes | Y19: =IFERROR(INDEX(D_IDUNIQUE,MATCH(ROW()-1,D_RANG_PROFIL,0)),"") | Z19: =IF($Y19="","",UPPER(INDEX(D_NOM,MATCH($Y19,D_ID,0)))&" "&INDEX(D_PRENOM,MATCH($Y19,D_ID,0))&" — "&INDEX(D_NIVEAU_ACTUEL,MATCH($Y19,D_ID,0)))
B20: cases (/30s) | F20: secondes | J20: lancers réussis | N20: mètres | Y20: =IFERROR(INDEX(D_IDUNIQUE,MATCH(ROW()-1,D_RANG_PROFIL,0)),"") | Z20: =IF($Y20="","",UPPER(INDEX(D_NOM,MATCH($Y20,D_ID,0)))&" "&INDEX(D_PRENOM,MATCH($Y20,D_ID,0))&" — "&INDEX(D_NIVEAU_ACTUEL,MATCH($Y20,D_ID,0)))
C21: Perf. | D21: Niveau | G21: Perf. | H21: Niveau | K21: Perf. | L21: Niveau | O21: Perf. | P21: Niveau | Y21: =IFERROR(INDEX(D_IDUNIQUE,MATCH(ROW()-1,D_RANG_PROFIL,0)),"") | Z21: =IF($Y21="","",UPPER(INDEX(D_NOM,MATCH($Y21,D_ID,0)))&" "&INDEX(D_PRENOM,MATCH($Y21,D_ID,0))&" — "&INDEX(D_NIVEAU_ACTUEL,MATCH($Y21,D_ID,0)))
B22: S1 | C22: =IF($U$4=0,"",INDEX(D_CO_PERF,$U$4)) | D22: =IF($U$4=0,"",INDEX(D_CO_NIV,$U$4)) | F22: S1 | G22: =IF($U$4=0,"",INDEX(D_GA_PERF,$U$4)) | H22: =IF($U$4=0,"",INDEX(D_GA_NIV,$U$4)) | J22: S1 | K22: =IF($U$4=0,"",INDEX(D_AD_PERF,$U$4)) | L22: =IF($U$4=0,"",INDEX(D_AD_NIV,$U$4)) | N22: S1 | O22: =IF($U$4=0,"",INDEX(D_FO_PERF,$U$4)) | P22: =IF($U$4=0,"",INDEX(D_FO_NIV,$U$4)) | Y22: =IFERROR(INDEX(D_IDUNIQUE,MATCH(ROW()-1,D_RANG_PROFIL,0)),"") | Z22: =IF($Y22="","",UPPER(INDEX(D_NOM,MATCH($Y22,D_ID,0)))&" "&INDEX(D_PRENOM,MATCH($Y22,D_ID,0))&" — "&INDEX(D_NIVEAU_ACTUEL,MATCH($Y22,D_ID,0)))
B23: S2 | C23: =IF($V$4=0,"",INDEX(D_CO_PERF,$V$4)) | D23: =IF($V$4=0,"",INDEX(D_CO_NIV,$V$4)) | F23: S2 | G23: =IF($V$4=0,"",INDEX(D_GA_PERF,$V$4)) | H23: =IF($V$4=0,"",INDEX(D_GA_NIV,$V$4)) | J23: S2 | K23: =IF($V$4=0,"",INDEX(D_AD_PERF,$V$4)) | L23: =IF($V$4=0,"",INDEX(D_AD_NIV,$V$4)) | N23: S2 | O23: =IF($V$4=0,"",INDEX(D_FO_PERF,$V$4)) | P23: =IF($V$4=0,"",INDEX(D_FO_NIV,$V$4)) | Y23: =IFERROR(INDEX(D_IDUNIQUE,MATCH(ROW()-1,D_RANG_PROFIL,0)),"") | Z23: =IF($Y23="","",UPPER(INDEX(D_NOM,MATCH($Y23,D_ID,0)))&" "&INDEX(D_PRENOM,MATCH($Y23,D_ID,0))&" — "&INDEX(D_NIVEAU_ACTUEL,MATCH($Y23,D_ID,0)))
B24: Évolution | C24: =IF(OR(D22="",D23=""),"Non testé",IF(D23-D22>0,"▲ +"&(D23-D22)&" niv.",IF(D23-D22<0,"▼ "&(D23-D22)&" niv.","➜ stable"))) -> Non testé | F24: Évolution | G24: =IF(OR(H22="",H23=""),"Non testé",IF(H23-H22>0,"▲ +"&(H23-H22)&" niv.",IF(H23-H22<0,"▼ "&(H23-H22)&" niv.","➜ stable"))) -> Non testé | J24: Évolution | K24: =IF(OR(L22="",L23=""),"Non testé",IF(L23-L22>0,"▲ +"&(L23-L22)&" niv.",IF(L23-L22<0,"▼ "&(L23-L22)&" niv.","➜ stable"))) -> Non testé | N24: Évolution | O24: =IF(OR(P22="",P23=""),"Non testé",IF(P23-P22>0,"▲ +"&(P23-P22)&" niv.",IF(P23-P22<0,"▼ "&(P23-P22)&" niv.","➜ stable"))) -> Non testé | Y24: =IFERROR(INDEX(D_IDUNIQUE,MATCH(ROW()-1,D_RANG_PROFIL,0)),"") | Z24: =IF($Y24="","",UPPER(INDEX(D_NOM,MATCH($Y24,D_ID,0)))&" "&INDEX(D_PRENOM,MATCH($Y24,D_ID,0))&" — "&INDEX(D_NIVEAU_ACTUEL,MATCH($Y24,D_ID,0)))
B25: ="Moy. niveau scolaire : "&IFERROR(ROUND(AVERAGEIFS(D_CO_NIV,D_ANNEE,$H$4,D_NIVEAU,$M$6,D_CO_NIV,">0"),1),"Non réalisée") -> Moy. niveau scolaire : Non réalisée | F25: ="Moy. niveau scolaire : "&IFERROR(ROUND(AVERAGEIFS(D_GA_NIV,D_ANNEE,$H$4,D_NIVEAU,$M$6,D_GA_NIV,">0"),1),"Non réalisée") -> Moy. niveau scolaire : Non réalisée | J25: ="Moy. niveau scolaire : "&IFERROR(ROUND(AVERAGEIFS(D_AD_NIV,D_ANNEE,$H$4,D_NIVEAU,$M$6,D_AD_NIV,">0"),1),"Non réalisée") -> Moy. niveau scolaire : Non réalisée | N25: ="Moy. niveau scolaire : "&IFERROR(ROUND(AVERAGEIFS(D_FO_NIV,D_ANNEE,$H$4,D_NIVEAU,$M$6,D_FO_NIV,">0"),1),"Non réalisée") -> Moy. niveau scolaire : Non réalisée | Y25: =IFERROR(INDEX(D_IDUNIQUE,MATCH(ROW()-1,D_RANG_PROFIL,0)),"") | Z25: =IF($Y25="","",UPPER(INDEX(D_NOM,MATCH($Y25,D_ID,0)))&" "&INDEX(D_PRENOM,MATCH($Y25,D_ID,0))&" — "&INDEX(D_NIVEAU_ACTUEL,MATCH($Y25,D_ID,0)))
B26: Une version imprimable de ce profil (fiche à destination des familles) est disponible dans l'onglet FICHE PARENTS. | Y26: =IFERROR(INDEX(D_IDUNIQUE,MATCH(ROW()-1,D_RANG_PROFIL,0)),"") | Z26: =IF($Y26="","",UPPER(INDEX(D_NOM,MATCH($Y26,D_ID,0)))&" "&INDEX(D_PRENOM,MATCH($Y26,D_ID,0))&" — "&INDEX(D_NIVEAU_ACTUEL,MATCH($Y26,D_ID,0)))
Y27: =IFERROR(INDEX(D_IDUNIQUE,MATCH(ROW()-1,D_RANG_PROFIL,0)),"") | Z27: =IF($Y27="","",UPPER(INDEX(D_NOM,MATCH($Y27,D_ID,0)))&" "&INDEX(D_PRENOM,MATCH($Y27,D_ID,0))&" — "&INDEX(D_NIVEAU_ACTUEL,MATCH($Y27,D_ID,0)))
B28: PROFIL DE COMPÉTENCES (NIVEAU 1 À 5) | G28: 1 · Débutant | H28: 2 · En progrès | I28: 3 · Acquis | J28: 4 · Maîtrisé | K28: 5 · Expert | Y28: =IFERROR(INDEX(D_IDUNIQUE,MATCH(ROW()-1,D_RANG_PROFIL,0)),"") | Z28: =IF($Y28="","",UPPER(INDEX(D_NOM,MATCH($Y28,D_ID,0)))&" "&INDEX(D_PRENOM,MATCH($Y28,D_ID,0))&" — "&INDEX(D_NIVEAU_ACTUEL,MATCH($Y28,D_ID,0)))
B29: Test | C29: S1 | D29: S2 | E29: Moy. niv. | Y29: =IFERROR(INDEX(D_IDUNIQUE,MATCH(ROW()-1,D_RANG_PROFIL,0)),"") | Z29: =IF($Y29="","",UPPER(INDEX(D_NOM,MATCH($Y29,D_ID,0)))&" "&INDEX(D_PRENOM,MATCH($Y29,D_ID,0))&" — "&INDEX(D_NIVEAU_ACTUEL,MATCH($Y29,D_ID,0)))
B30: Équilibre | C30: =IF(D13="",NA(),D13) -> #N/A | D30: =IF(D14="",NA(),D14) -> #N/A | E30: =IFERROR(AVERAGEIFS(D_EQ_NIV,D_ANNEE,$H$4,D_NIVEAU,$M$6,D_EQ_NIV,">0"),NA()) -> #N/A | F30: 5.5 | V30: =IFERROR(IF($X$6=2,D30,C30),0) -> 0 | Y30: =IFERROR(INDEX(D_IDUNIQUE,MATCH(ROW()-1,D_RANG_PROFIL,0)),"") | Z30: =IF($Y30="","",UPPER(INDEX(D_NOM,MATCH($Y30,D_ID,0)))&" "&INDEX(D_PRENOM,MATCH($Y30,D_ID,0))&" — "&INDEX(D_NIVEAU_ACTUEL,MATCH($Y30,D_ID,0)))
B31: Souplesse | C31: =IF(H13="",NA(),H13) -> #N/A | D31: =IF(H14="",NA(),H14) -> #N/A | E31: =IFERROR(AVERAGEIFS(D_SO_NIV,D_ANNEE,$H$4,D_NIVEAU,$M$6,D_SO_NIV,">0"),NA()) -> #N/A | F31: 5.5 | V31: =IFERROR(IF($X$6=2,D31,C31),0) -> 0 | Y31: =IFERROR(INDEX(D_IDUNIQUE,MATCH(ROW()-1,D_RANG_PROFIL,0)),"") | Z31: =IF($Y31="","",UPPER(INDEX(D_NOM,MATCH($Y31,D_ID,0)))&" "&INDEX(D_PRENOM,MATCH($Y31,D_ID,0))&" — "&INDEX(D_NIVEAU_ACTUEL,MATCH($Y31,D_ID,0)))
B32: Vitesse | C32: =IF(L13="",NA(),L13) -> #N/A | D32: =IF(L14="",NA(),L14) -> #N/A | E32: =IFERROR(AVERAGEIFS(D_VI_NIV,D_ANNEE,$H$4,D_NIVEAU,$M$6,D_VI_NIV,">0"),NA()) -> #N/A | F32: 5.5 | V32: =IFERROR(IF($X$6=2,D32,C32),0) -> 0 | Y32: =IFERROR(INDEX(D_IDUNIQUE,MATCH(ROW()-1,D_RANG_PROFIL,0)),"") | Z32: =IF($Y32="","",UPPER(INDEX(D_NOM,MATCH($Y32,D_ID,0)))&" "&INDEX(D_PRENOM,MATCH($Y32,D_ID,0))&" — "&INDEX(D_NIVEAU_ACTUEL,MATCH($Y32,D_ID,0)))
B33: Endurance | C33: =IF(P13="",NA(),P13) -> #N/A | D33: =IF(P14="",NA(),P14) -> #N/A | E33: =IFERROR(AVERAGEIFS(D_EN_NIV,D_ANNEE,$H$4,D_NIVEAU,$M$6,D_EN_NIV,">0"),NA()) -> #N/A | F33: 5.5 | V33: =IFERROR(IF($X$6=2,D33,C33),0) -> 0 | Y33: =IFERROR(INDEX(D_IDUNIQUE,MATCH(ROW()-1,D_RANG_PROFIL,0)),"") | Z33: =IF($Y33="","",UPPER(INDEX(D_NOM,MATCH($Y33,D_ID,0)))&" "&INDEX(D_PRENOM,MATCH($Y33,D_ID,0))&" — "&INDEX(D_NIVEAU_ACTUEL,MATCH($Y33,D_ID,0)))
B34: Coordination | C34: =IF(D22="",NA(),D22) -> #N/A | D34: =IF(D23="",NA(),D23) -> #N/A | E34: =IFERROR(AVERAGEIFS(D_CO_NIV,D_ANNEE,$H$4,D_NIVEAU,$M$6,D_CO_NIV,">0"),NA()) -> #N/A | F34: 5.5 | V34: =IFERROR(IF($X$6=2,D34,C34),0) -> 0 | Y34: =IFERROR(INDEX(D_IDUNIQUE,MATCH(ROW()-1,D_RANG_PROFIL,0)),"") | Z34: =IF($Y34="","",UPPER(INDEX(D_NOM,MATCH($Y34,D_ID,0)))&" "&INDEX(D_PRENOM,MATCH($Y34,D_ID,0))&" — "&INDEX(D_NIVEAU_ACTUEL,MATCH($Y34,D_ID,0)))
B35: Gainage | C35: =IF(H22="",NA(),H22) -> #N/A | D35: =IF(H23="",NA(),H23) -> #N/A | E35: =IFERROR(AVERAGEIFS(D_GA_NIV,D_ANNEE,$H$4,D_NIVEAU,$M$6,D_GA_NIV,">0"),NA()) -> #N/A | F35: 5.5 | V35: =IFERROR(IF($X$6=2,D35,C35),0) -> 0 | Y35: =IFERROR(INDEX(D_IDUNIQUE,MATCH(ROW()-1,D_RANG_PROFIL,0)),"") | Z35: =IF($Y35="","",UPPER(INDEX(D_NOM,MATCH($Y35,D_ID,0)))&" "&INDEX(D_PRENOM,MATCH($Y35,D_ID,0))&" — "&INDEX(D_NIVEAU_ACTUEL,MATCH($Y35,D_ID,0)))
B36: Adresse | C36: =IF(L22="",NA(),L22) -> #N/A | D36: =IF(L23="",NA(),L23) -> #N/A | E36: =IFERROR(AVERAGEIFS(D_AD_NIV,D_ANNEE,$H$4,D_NIVEAU,$M$6,D_AD_NIV,">0"),NA()) -> #N/A | F36: 5.5 | V36: =IFERROR(IF($X$6=2,D36,C36),0) -> 0 | Y36: =IFERROR(INDEX(D_IDUNIQUE,MATCH(ROW()-1,D_RANG_PROFIL,0)),"") | Z36: =IF($Y36="","",UPPER(INDEX(D_NOM,MATCH($Y36,D_ID,0)))&" "&INDEX(D_PRENOM,MATCH($Y36,D_ID,0))&" — "&INDEX(D_NIVEAU_ACTUEL,MATCH($Y36,D_ID,0)))
B37: Force des jambes | C37: =IF(P22="",NA(),P22) -> #N/A | D37: =IF(P23="",NA(),P23) -> #N/A | E37: =IFERROR(AVERAGEIFS(D_FO_NIV,D_ANNEE,$H$4,D_NIVEAU,$M$6,D_FO_NIV,">0"),NA()) -> #N/A | F37: 5.5 | V37: =IFERROR(IF($X$6=2,D37,C37),0) -> 0 | Y37: =IFERROR(INDEX(D_IDUNIQUE,MATCH(ROW()-1,D_RANG_PROFIL,0)),"") | Z37: =IF($Y37="","",UPPER(INDEX(D_NOM,MATCH($Y37,D_ID,0)))&" "&INDEX(D_PRENOM,MATCH($Y37,D_ID,0))&" — "&INDEX(D_NIVEAU_ACTUEL,MATCH($Y37,D_ID,0)))
Y38: =IFERROR(INDEX(D_IDUNIQUE,MATCH(ROW()-1,D_RANG_PROFIL,0)),"") | Z38: =IF($Y38="","",UPPER(INDEX(D_NOM,MATCH($Y38,D_ID,0)))&" "&INDEX(D_PRENOM,MATCH($Y38,D_ID,0))&" — "&INDEX(D_NIVEAU_ACTUEL,MATCH($Y38,D_ID,0)))
Y39: =IFERROR(INDEX(D_IDUNIQUE,MATCH(ROW()-1,D_RANG_PROFIL,0)),"") | Z39: =IF($Y39="","",UPPER(INDEX(D_NOM,MATCH($Y39,D_ID,0)))&" "&INDEX(D_PRENOM,MATCH($Y39,D_ID,0))&" — "&INDEX(D_NIVEAU_ACTUEL,MATCH($Y39,D_ID,0)))
Y40: =IFERROR(INDEX(D_IDUNIQUE,MATCH(ROW()-1,D_RANG_PROFIL,0)),"") | Z40: =IF($Y40="","",UPPER(INDEX(D_NOM,MATCH($Y40,D_ID,0)))&" "&INDEX(D_PRENOM,MATCH($Y40,D_ID,0))&" — "&INDEX(D_NIVEAU_ACTUEL,MATCH($Y40,D_ID,0)))
Y41: =IFERROR(INDEX(D_IDUNIQUE,MATCH(ROW()-1,D_RANG_PROFIL,0)),"") | Z41: =IF($Y41="","",UPPER(INDEX(D_NOM,MATCH($Y41,D_ID,0)))&" "&INDEX(D_PRENOM,MATCH($Y41,D_ID,0))&" — "&INDEX(D_NIVEAU_ACTUEL,MATCH($Y41,D_ID,0)))
Y42: =IFERROR(INDEX(D_IDUNIQUE,MATCH(ROW()-1,D_RANG_PROFIL,0)),"") | Z42: =IF($Y42="","",UPPER(INDEX(D_NOM,MATCH($Y42,D_ID,0)))&" "&INDEX(D_PRENOM,MATCH($Y42,D_ID,0))&" — "&INDEX(D_NIVEAU_ACTUEL,MATCH($Y42,D_ID,0)))
Y43: =IFERROR(INDEX(D_IDUNIQUE,MATCH(ROW()-1,D_RANG_PROFIL,0)),"") | Z43: =IF($Y43="","",UPPER(INDEX(D_NOM,MATCH($Y43,D_ID,0)))&" "&INDEX(D_PRENOM,MATCH($Y43,D_ID,0))&" — "&INDEX(D_NIVEAU_ACTUEL,MATCH($Y43,D_ID,0)))
Y44: =IFERROR(INDEX(D_IDUNIQUE,MATCH(ROW()-1,D_RANG_PROFIL,0)),"") | Z44: =IF($Y44="","",UPPER(INDEX(D_NOM,MATCH($Y44,D_ID,0)))&" "&INDEX(D_PRENOM,MATCH($Y44,D_ID,0))&" — "&INDEX(D_NIVEAU_ACTUEL,MATCH($Y44,D_ID,0)))
Y45: =IFERROR(INDEX(D_IDUNIQUE,MATCH(ROW()-1,D_RANG_PROFIL,0)),"") | Z45: =IF($Y45="","",UPPER(INDEX(D_NOM,MATCH($Y45,D_ID,0)))&" "&INDEX(D_PRENOM,MATCH($Y45,D_ID,0))&" — "&INDEX(D_NIVEAU_ACTUEL,MATCH($Y45,D_ID,0)))
Y46: =IFERROR(INDEX(D_IDUNIQUE,MATCH(ROW()-1,D_RANG_PROFIL,0)),"") | Z46: =IF($Y46="","",UPPER(INDEX(D_NOM,MATCH($Y46,D_ID,0)))&" "&INDEX(D_PRENOM,MATCH($Y46,D_ID,0))&" — "&INDEX(D_NIVEAU_ACTUEL,MATCH($Y46,D_ID,0)))
Y47: =IFERROR(INDEX(D_IDUNIQUE,MATCH(ROW()-1,D_RANG_PROFIL,0)),"") | Z47: =IF($Y47="","",UPPER(INDEX(D_NOM,MATCH($Y47,D_ID,0)))&" "&INDEX(D_PRENOM,MATCH($Y47,D_ID,0))&" — "&INDEX(D_NIVEAU_ACTUEL,MATCH($Y47,D_ID,0)))
Y48: =IFERROR(INDEX(D_IDUNIQUE,MATCH(ROW()-1,D_RANG_PROFIL,0)),"") | Z48: =IF($Y48="","",UPPER(INDEX(D_NOM,MATCH($Y48,D_ID,0)))&" "&INDEX(D_PRENOM,MATCH($Y48,D_ID,0))&" — "&INDEX(D_NIVEAU_ACTUEL,MATCH($Y48,D_ID,0)))
Y49: =IFERROR(INDEX(D_IDUNIQUE,MATCH(ROW()-1,D_RANG_PROFIL,0)),"") | Z49: =IF($Y49="","",UPPER(INDEX(D_NOM,MATCH($Y49,D_ID,0)))&" "&INDEX(D_PRENOM,MATCH($Y49,D_ID,0))&" — "&INDEX(D_NIVEAU_ACTUEL,MATCH($Y49,D_ID,0)))
... Y1201: =IFERROR(INDEX(D_IDUNIQUE,MATCH(ROW()-1,D_RANG_PROFIL,0)),"") | Z1201: =IF($Y1201="","",UPPER(INDEX(D_NOM,MATCH($Y1201,D_ID,0)))&" "&INDEX(D_PRENOM,MATCH($Y1201,D_ID,0))&" — "&INDEX(D_NIVEAU_ACTUEL,MATCH($Y1201,D_ID,0)))

Sheet FICHE PARENTS
A1: FICHE DE SUIVI INDIVIDUEL — TESTE ET AMÉLIORE TA FORME
A2: =CONCATENATE("Établissement : ",IF(T(ETABLISSEMENT_NOM)="","(non renseigné)",ETABLISSEMENT_NOM)," — Année scolaire : ",'PROFIL ELEVE'!H4) -> Établissement : (non renseigné) — Année scolaire : 2026-2027 | L2: =HYPERLINK("#ACCUEIL!A1","← ACCUEIL") -> ← ACCUEIL
A4: =IF('PROFIL ELEVE'!$W$4=0,"Aucun élève sélectionné",CONCATENATE('PROFIL ELEVE'!C6," ",'PROFIL ELEVE'!H6)) -> Aucun élève sélectionné
A5: =CONCATENATE("Niveau scolaire : ",'PROFIL ELEVE'!M6) -> Niveau scolaire : — | E5: =CONCATENATE("Sessions : ",IF('PROFIL ELEVE'!U4<>0,"S1 ✓","S1 ✗")," / ",IF('PROFIL ELEVE'!V4<>0,"S2 ✓","S2 ✗")) -> Sessions : S1 ✗ / S2 ✗
A7: RÉSULTATS DES TESTS DE FORME
A8: Test | C8: Unité | D8: Perf. S1 | E8: Niveau S1 | F8: Perf. S2 | G8: Niveau S2 | H8: Évolution | J8: Moy. niveau
A9: Équilibre | C9: sec | D9: ='PROFIL ELEVE'!C13 | E9: ='PROFIL ELEVE'!D13 | F9: ='PROFIL ELEVE'!C14 | G9: ='PROFIL ELEVE'!D14 | H9: ='PROFIL ELEVE'!C15 -> Non testé | J9: =IFERROR(ROUND(AVERAGEIFS(D_EQ_NIV,D_ANNEE,'PROFIL ELEVE'!$H$4,D_NIVEAU,'PROFIL ELEVE'!$M$6,D_EQ_NIV,">0"),1),"Non réalisée") -> Non réalisée
A10: Souplesse | C10: zone | D10: ='PROFIL ELEVE'!G13 | E10: ='PROFIL ELEVE'!H13 | F10: ='PROFIL ELEVE'!G14 | G10: ='PROFIL ELEVE'!H14 | H10: ='PROFIL ELEVE'!G15 -> Non testé | J10: =IFERROR(ROUND(AVERAGEIFS(D_SO_NIV,D_ANNEE,'PROFIL ELEVE'!$H$4,D_NIVEAU,'PROFIL ELEVE'!$M$6,D_SO_NIV,">0"),1),"Non réalisée") -> Non réalisée
A11: Vitesse | C11: m | D11: ='PROFIL ELEVE'!K13 | E11: ='PROFIL ELEVE'!L13 | F11: ='PROFIL ELEVE'!K14 | G11: ='PROFIL ELEVE'!L14 | H11: ='PROFIL ELEVE'!K15 -> Non testé | J11: =IFERROR(ROUND(AVERAGEIFS(D_VI_NIV,D_ANNEE,'PROFIL ELEVE'!$H$4,D_NIVEAU,'PROFIL ELEVE'!$M$6,D_VI_NIV,">0"),1),"Non réalisée") -> Non réalisée
A12: Endurance | C12: long. | D12: ='PROFIL ELEVE'!O13 | E12: ='PROFIL ELEVE'!P13 | F12: ='PROFIL ELEVE'!O14 | G12: ='PROFIL ELEVE'!P14 | H12: ='PROFIL ELEVE'!O15 -> Non testé | J12: =IFERROR(ROUND(AVERAGEIFS(D_EN_NIV,D_ANNEE,'PROFIL ELEVE'!$H$4,D_NIVEAU,'PROFIL ELEVE'!$M$6,D_EN_NIV,">0"),1),"Non réalisée") -> Non réalisée
A13: Coordination | C13: cases | D13: ='PROFIL ELEVE'!C22 | E13: ='PROFIL ELEVE'!D22 | F13: ='PROFIL ELEVE'!C23 | G13: ='PROFIL ELEVE'!D23 | H13: ='PROFIL ELEVE'!C24 -> Non testé | J13: =IFERROR(ROUND(AVERAGEIFS(D_CO_NIV,D_ANNEE,'PROFIL ELEVE'!$H$4,D_NIVEAU,'PROFIL ELEVE'!$M$6,D_CO_NIV,">0"),1),"Non réalisée") -> Non réalisée
A14: Gainage | C14: sec | D14: ='PROFIL ELEVE'!G22 | E14: ='PROFIL ELEVE'!H22 | F14: ='PROFIL ELEVE'!G23 | G14: ='PROFIL ELEVE'!H23 | H14: ='PROFIL ELEVE'!G24 -> Non testé | J14: =IFERROR(ROUND(AVERAGEIFS(D_GA_NIV,D_ANNEE,'PROFIL ELEVE'!$H$4,D_NIVEAU,'PROFIL ELEVE'!$M$6,D_GA_NIV,">0"),1),"Non réalisée") -> Non réalisée
A15: Adresse | C15: lancers | D15: ='PROFIL ELEVE'!K22 | E15: ='PROFIL ELEVE'!L22 | F15: ='PROFIL ELEVE'!K23 | G15: ='PROFIL ELEVE'!L23 | H15: ='PROFIL ELEVE'!K24 -> Non testé | J15: =IFERROR(ROUND(AVERAGEIFS(D_AD_NIV,D_ANNEE,'PROFIL ELEVE'!$H$4,D_NIVEAU,'PROFIL ELEVE'!$M$6,D_AD_NIV,">0"),1),"Non réalisée") -> Non réalisée
A16: Force des jambes | C16: m | D16: ='PROFIL ELEVE'!O22 | E16: ='PROFIL ELEVE'!P22 | F16: ='PROFIL ELEVE'!O23 | G16: ='PROFIL ELEVE'!P23 | H16: ='PROFIL ELEVE'!O24 -> Non testé | J16: =IFERROR(ROUND(AVERAGEIFS(D_FO_NIV,D_ANNEE,'PROFIL ELEVE'!$H$4,D_NIVEAU,'PROFIL ELEVE'!$M$6,D_FO_NIV,">0"),1),"Non réalisée") -> Non réalisée
A18: PROFIL DE COMPÉTENCES (NIVEAU 1 À 5) | E18: 1 · Débutant | F18: 2 · En progrès | G18: 3 · Acquis | H18: 4 · Maîtrisé | I18: 5 · Expert
A43: APPRÉCIATION GÉNÉRALE
A44: =IF('PROFIL ELEVE'!$W$4=0,"Sélectionnez un élève dans l'onglet PROFIL ELEVE pour générer l'appréciation.",IF($K$44=0,"Aucune donnée saisie pour le moment.",CHOOSE(MIN(ROUND($K$44,0),5),'PROFIL ELEVE'!$H$6&" débute. Travail prioritaire : "&$K$46&".",'PROFIL ELEVE'!$H$6&" progresse. Priorité : "&$K$46&".",'PROFIL ELEVE'!$H$6&" présente un niveau satisfaisant. Point fort : "&$K$45&".",'PROFIL ELEVE'!$H$6&" affiche de bonnes performances. Excellent niveau en "&$K$45&".",'PROFIL ELEVE'!$H$6&" est au top ! Niveau exceptionnel en "&$K$45&"."))) -> Sélectionnez un élève dans l'onglet PROFIL ELEVE pour générer l'appréciation. | K44: =IF(COUNTIF($G$9:$G$16,">0")>0,AVERAGEIFS($G$9:$G$16,$G$9:$G$16,">0"),IFERROR(AVERAGEIFS($E$9:$E$16,$E$9:$E$16,">0"),0)) -> 0
A45: =IF(OR('PROFIL ELEVE'!$W$4=0,$K$45=""),"","Point fort : "&$K$45&" · Point à travailler : "&$K$46) | K45: =IFERROR(INDEX($A$9:$A$16,IF(COUNTIF($G$9:$G$16,">0")>0,MATCH(_xlfn.MAXIFS($G$9:$G$16,$G$9:$G$16,">0"),$G$9:$G$16,0),MATCH(_xlfn.MAXIFS($E$9:$E$16,$E$9:$E$16,">0"),$E$9:$E$16,0))),"")
A46: ="Document généré automatiquement le "&TEXT(DAY(TODAY()),"00")&"/"&TEXT(MONTH(TODAY()),"00")&"/"&TEXT(YEAR(TODAY()),"0000")&" — Support de dialogue avec les familles. Dispositif UGSEL Teste et Améliore ta Forme." -> Document généré automatiquement le 06/10/2026 — Support de dialogue avec les familles. Dispositif UGSEL Teste et Améliore ta Forme. | K46: =IFERROR(INDEX($A$9:$A$16,IF(COUNTIF($G$9:$G$16,">0")>0,MATCH(_xlfn.MINIFS($G$9:$G$16,$G$9:$G$16,">0"),$G$9:$G$16,0),MATCH(_xlfn.MINIFS($E$9:$E$16,$E$9:$E$16,">0"),$E$9:$E$16,0))),"")

Sheet STATS NIVEAU
A1: STATISTIQUES PAR NIVEAU SCOLAIRE | J1: PERF_S1 | K1: PERF_S2 | L1: NIV_S1 | M1: NIV_S2 | N1: =VLOOKUP($F$4,TABLE_CYCLE,2,0) -> #N/A | O1: PCT_S1 | P1: PCT_S2 | Q1: =IFERROR(IF(VLOOKUP($F$4,TABLE_CYCLE,2,0)=2,5,8),8) -> 8
A2: Toutes les classes d'un même niveau scolaire sont agrégées automatiquement. | R2: =HYPERLINK("#ACCUEIL!A1","← ACCUEIL") -> ← ACCUEIL
C3: ANNÉE SCOLAIRE | F3: NIVEAU SCOLAIRE
C4: =ANNEE_ACTIVE -> 2025-2026
A6: VUE PERFORMANCE — MOYENNES RÉELLES
A7: Test | B7: Unité | C7: Eff. S1 | D7: Moy. S1 | E7: Eff. S2 | F7: Moy. S2 | G7: Évolution
A8: Équilibre | B8: sec | C8: =COUNTIFS(D_ANNEE,$C$4,D_NIVEAU,$F$4,D_SESSION,"S1",D_EQ_NIV,">0") -> 0 | D8: =IFERROR(ROUND(AVERAGEIFS(D_EQ_PERF,D_ANNEE,$C$4,D_NIVEAU,$F$4,D_SESSION,"S1",D_EQ_NIV,">0"),2),"Non réalisée") -> Non réalisée | E8: =COUNTIFS(D_ANNEE,$C$4,D_NIVEAU,$F$4,D_SESSION,"S2",D_EQ_NIV,">0") -> 0 | F8: =IFERROR(ROUND(AVERAGEIFS(D_EQ_PERF,D_ANNEE,$C$4,D_NIVEAU,$F$4,D_SESSION,"S2",D_EQ_NIV,">0"),2),"Non réalisée") -> Non réalisée | G8: =IF(OR(D8="Non réalisée",F8="Non réalisée"),"Non réalisée",IF(F8>D8,"▲ +"&ROUND(F8-D8,2),IF(F8<D8,"▼ "&ROUND(F8-D8,2),"➜ stable"))) -> Non réalisée | J8: =IF(D8="Non réalisée",NA(),D8) -> #N/A | K8: =IF(F8="Non réalisée",NA(),F8) -> #N/A | L8: =IF(D19="Non réalisée",NA(),D19) -> #N/A | M8: =IF(F19="Non réalisée",NA(),F19) -> #N/A | O8: =IF(D8="Non réalisée",NA(),D8/PARAMETRES!$G$29) -> #N/A | P8: =IF(F8="Non réalisée",NA(),F8/PARAMETRES!$G$29) -> #N/A | S8: 5
A9: Souplesse | B9: zone | C9: =COUNTIFS(D_ANNEE,$C$4,D_NIVEAU,$F$4,D_SESSION,"S1",D_SO_NIV,">0") -> 0 | D9: =IFERROR(ROUND(AVERAGEIFS(D_SO_PERF,D_ANNEE,$C$4,D_NIVEAU,$F$4,D_SESSION,"S1",D_SO_NIV,">0"),2),"Non réalisée") -> Non réalisée | E9: =COUNTIFS(D_ANNEE,$C$4,D_NIVEAU,$F$4,D_SESSION,"S2",D_SO_NIV,">0") -> 0 | F9: =IFERROR(ROUND(AVERAGEIFS(D_SO_PERF,D_ANNEE,$C$4,D_NIVEAU,$F$4,D_SESSION,"S2",D_SO_NIV,">0"),2),"Non réalisée") -> Non réalisée | G9: =IF(OR(D9="Non réalisée",F9="Non réalisée"),"Non réalisée",IF(F9>D9,"▲ +"&ROUND(F9-D9,2),IF(F9<D9,"▼ "&ROUND(F9-D9,2),"➜ stable"))) -> Non réalisée | J9: =IF(D9="Non réalisée",NA(),D9) -> #N/A | K9: =IF(F9="Non réalisée",NA(),F9) -> #N/A | L9: =IF(D20="Non réalisée",NA(),D20) -> #N/A | M9: =IF(F20="Non réalisée",NA(),F20) -> #N/A | O9: =IF(D9="Non réalisée",NA(),D9/PARAMETRES!$G$30) -> #N/A | P9: =IF(F9="Non réalisée",NA(),F9/PARAMETRES!$G$30) -> #N/A | S9: 5
A10: Vitesse | B10: m | C10: =COUNTIFS(D_ANNEE,$C$4,D_NIVEAU,$F$4,D_SESSION,"S1",D_VI_NIV,">0") -> 0 | D10: =IFERROR(ROUND(AVERAGEIFS(D_VI_PERF,D_ANNEE,$C$4,D_NIVEAU,$F$4,D_SESSION,"S1",D_VI_NIV,">0"),2),"Non réalisée") -> Non réalisée | E10: =COUNTIFS(D_ANNEE,$C$4,D_NIVEAU,$F$4,D_SESSION,"S2",D_VI_NIV,">0") -> 0 | F10: =IFERROR(ROUND(AVERAGEIFS(D_VI_PERF,D_ANNEE,$C$4,D_NIVEAU,$F$4,D_SESSION,"S2",D_VI_NIV,">0"),2),"Non réalisée") -> Non réalisée | G10: =IF(OR(D10="Non réalisée",F10="Non réalisée"),"Non réalisée",IF(F10>D10,"▲ +"&ROUND(F10-D10,2),IF(F10<D10,"▼ "&ROUND(F10-D10,2),"➜ stable"))) -> Non réalisée | J10: =IF(D10="Non réalisée",NA(),D10) -> #N/A | K10: =IF(F10="Non réalisée",NA(),F10) -> #N/A | L10: =IF(D21="Non réalisée",NA(),D21) -> #N/A | M10: =IF(F21="Non réalisée",NA(),F21) -> #N/A | O10: =IF(D10="Non réalisée",NA(),D10/IF($N$1=2,PARAMETRES!$G$31,PARAMETRES!$G$32)) -> #N/A | P10: =IF(F10="Non réalisée",NA(),F10/IF($N$1=2,PARAMETRES!$G$31,PARAMETRES!$G$32)) -> #N/A | S10: 5
A11: Endurance | B11: long. | C11: =COUNTIFS(D_ANNEE,$C$4,D_NIVEAU,$F$4,D_SESSION,"S1",D_EN_NIV,">0") -> 0 | D11: =IFERROR(ROUND(AVERAGEIFS(D_EN_PERF,D_ANNEE,$C$4,D_NIVEAU,$F$4,D_SESSION,"S1",D_EN_NIV,">0"),2),"Non réalisée") -> Non réalisée | E11: =COUNTIFS(D_ANNEE,$C$4,D_NIVEAU,$F$4,D_SESSION,"S2",D_EN_NIV,">0") -> 0 | F11: =IFERROR(ROUND(AVERAGEIFS(D_EN_PERF,D_ANNEE,$C$4,D_NIVEAU,$F$4,D_SESSION,"S2",D_EN_NIV,">0"),2),"Non réalisée") -> Non réalisée | G11: =IF(OR(D11="Non réalisée",F11="Non réalisée"),"Non réalisée",IF(F11>D11,"▲ +"&ROUND(F11-D11,2),IF(F11<D11,"▼ "&ROUND(F11-D11,2),"➜ stable"))) -> Non réalisée | J11: =IF(D11="Non réalisée",NA(),D11) -> #N/A | K11: =IF(F11="Non réalisée",NA(),F11) -> #N/A | L11: =IF(D22="Non réalisée",NA(),D22) -> #N/A | M11: =IF(F22="Non réalisée",NA(),F22) -> #N/A | O11: =IF(D11="Non réalisée",NA(),D11/PARAMETRES!$G$33) -> #N/A | P11: =IF(F11="Non réalisée",NA(),F11/PARAMETRES!$G$33) -> #N/A | S11: 5
A12: Coordination | B12: cases | C12: =COUNTIFS(D_ANNEE,$C$4,D_NIVEAU,$F$4,D_SESSION,"S1",D_CO_NIV,">0") -> 0 | D12: =IFERROR(ROUND(AVERAGEIFS(D_CO_PERF,D_ANNEE,$C$4,D_NIVEAU,$F$4,D_SESSION,"S1",D_CO_NIV,">0"),2),"Non réalisée") -> Non réalisée | E12: =COUNTIFS(D_ANNEE,$C$4,D_NIVEAU,$F$4,D_SESSION,"S2",D_CO_NIV,">0") -> 0 | F12: =IFERROR(ROUND(AVERAGEIFS(D_CO_PERF,D_ANNEE,$C$4,D_NIVEAU,$F$4,D_SESSION,"S2",D_CO_NIV,">0"),2),"Non réalisée") -> Non réalisée | G12: =IF(OR(D12="Non réalisée",F12="Non réalisée"),"Non réalisée",IF(F12>D12,"▲ +"&ROUND(F12-D12,2),IF(F12<D12,"▼ "&ROUND(F12-D12,2),"➜ stable"))) -> Non réalisée | J12: =IF(D12="Non réalisée",NA(),D12) -> #N/A | K12: =IF(F12="Non réalisée",NA(),F12) -> #N/A | L12: =IF(D23="Non réalisée",NA(),D23) -> #N/A | M12: =IF(F23="Non réalisée",NA(),F23) -> #N/A | O12: =IF(D12="Non réalisée",NA(),D12/PARAMETRES!$G$34) -> #N/A | P12: =IF(F12="Non réalisée",NA(),F12/PARAMETRES!$G$34) -> #N/A | S12: 5
A13: Gainage | B13: sec | C13: =COUNTIFS(D_ANNEE,$C$4,D_NIVEAU,$F$4,D_SESSION,"S1",D_GA_NIV,">0") -> 0 | D13: =IFERROR(ROUND(AVERAGEIFS(D_GA_PERF,D_ANNEE,$C$4,D_NIVEAU,$F$4,D_SESSION,"S1",D_GA_NIV,">0"),2),"Non réalisée") -> Non réalisée | E13: =COUNTIFS(D_ANNEE,$C$4,D_NIVEAU,$F$4,D_SESSION,"S2",D_GA_NIV,">0") -> 0 | F13: =IFERROR(ROUND(AVERAGEIFS(D_GA_PERF,D_ANNEE,$C$4,D_NIVEAU,$F$4,D_SESSION,"S2",D_GA_NIV,">0"),2),"Non réalisée") -> Non réalisée | G13: =IF(OR(D13="Non réalisée",F13="Non réalisée"),"Non réalisée",IF(F13>D13,"▲ +"&ROUND(F13-D13,2),IF(F13<D13,"▼ "&ROUND(F13-D13,2),"➜ stable"))) -> Non réalisée | J13: =IF(D13="Non réalisée",NA(),D13) -> #N/A | K13: =IF(F13="Non réalisée",NA(),F13) -> #N/A | L13: =IF(D24="Non réalisée",NA(),D24) -> #N/A | M13: =IF(F24="Non réalisée",NA(),F24) -> #N/A | O13: =IF(D13="Non réalisée",NA(),D13/PARAMETRES!$G$35) -> #N/A | P13: =IF(F13="Non réalisée",NA(),F13/PARAMETRES!$G$35) -> #N/A | S13: 5
A14: Adresse | B14: lancers | C14: =COUNTIFS(D_ANNEE,$C$4,D_NIVEAU,$F$4,D_SESSION,"S1",D_AD_NIV,">0") -> 0 | D14: =IFERROR(ROUND(AVERAGEIFS(D_AD_PERF,D_ANNEE,$C$4,D_NIVEAU,$F$4,D_SESSION,"S1",D_AD_NIV,">0"),2),"Non réalisée") -> Non réalisée | E14: =COUNTIFS(D_ANNEE,$C$4,D_NIVEAU,$F$4,D_SESSION,"S2",D_AD_NIV,">0") -> 0 | F14: =IFERROR(ROUND(AVERAGEIFS(D_AD_PERF,D_ANNEE,$C$4,D_NIVEAU,$F$4,D_SESSION,"S2",D_AD_NIV,">0"),2),"Non réalisée") -> Non réalisée | G14: =IF(OR(D14="Non réalisée",F14="Non réalisée"),"Non réalisée",IF(F14>D14,"▲ +"&ROUND(F14-D14,2),IF(F14<D14,"▼ "&ROUND(F14-D14,2),"➜ stable"))) -> Non réalisée | J14: =IF(D14="Non réalisée",NA(),D14) -> #N/A | K14: =IF(F14="Non réalisée",NA(),F14) -> #N/A | L14: =IF(D25="Non réalisée",NA(),D25) -> #N/A | M14: =IF(F25="Non réalisée",NA(),F25) -> #N/A | O14: =IF(D14="Non réalisée",NA(),D14/PARAMETRES!$G$36) -> #N/A | P14: =IF(F14="Non réalisée",NA(),F14/PARAMETRES!$G$36) -> #N/A | S14: 5
A15: Force des jambes | B15: m | C15: =COUNTIFS(D_ANNEE,$C$4,D_NIVEAU,$F$4,D_SESSION,"S1",D_FO_NIV,">0") -> 0 | D15: =IFERROR(ROUND(AVERAGEIFS(D_FO_PERF,D_ANNEE,$C$4,D_NIVEAU,$F$4,D_SESSION,"S1",D_FO_NIV,">0"),2),"Non réalisée") -> Non réalisée | E15: =COUNTIFS(D_ANNEE,$C$4,D_NIVEAU,$F$4,D_SESSION,"S2",D_FO_NIV,">0") -> 0 | F15: =IFERROR(ROUND(AVERAGEIFS(D_FO_PERF,D_ANNEE,$C$4,D_NIVEAU,$F$4,D_SESSION,"S2",D_FO_NIV,">0"),2),"Non réalisée") -> Non réalisée | G15: =IF(OR(D15="Non réalisée",F15="Non réalisée"),"Non réalisée",IF(F15>D15,"▲ +"&ROUND(F15-D15,2),IF(F15<D15,"▼ "&ROUND(F15-D15,2),"➜ stable"))) -> Non réalisée | J15: =IF(D15="Non réalisée",NA(),D15) -> #N/A | K15: =IF(F15="Non réalisée",NA(),F15) -> #N/A | L15: =IF(D26="Non réalisée",NA(),D26) -> #N/A | M15: =IF(F26="Non réalisée",NA(),F26) -> #N/A | O15: =IF(D15="Non réalisée",NA(),D15/PARAMETRES!$G$37) -> #N/A | P15: =IF(F15="Non réalisée",NA(),F15/PARAMETRES!$G$37) -> #N/A | S15: 5
A17: VUE NIVEAU — NIVEAU UGSEL MOYEN (1 À 5)
A18: Test | C18: Eff. S1 | D18: Niveau moy. S1 | E18: Eff. S2 | F18: Niveau moy. S2 | G18: Évolution | H18: Médiane S1 | I18: Médiane S2
A19: Équilibre | C19: =COUNTIFS(D_ANNEE,$C$4,D_NIVEAU,$F$4,D_SESSION,"S1",D_EQ_NIV,">0") -> 0 | D19: =IFERROR(ROUND(AVERAGEIFS(D_EQ_NIV,D_ANNEE,$C$4,D_NIVEAU,$F$4,D_SESSION,"S1",D_EQ_NIV,">0"),2),"Non réalisée") -> Non réalisée | E19: =COUNTIFS(D_ANNEE,$C$4,D_NIVEAU,$F$4,D_SESSION,"S2",D_EQ_NIV,">0") -> 0 | F19: =IFERROR(ROUND(AVERAGEIFS(D_EQ_NIV,D_ANNEE,$C$4,D_NIVEAU,$F$4,D_SESSION,"S2",D_EQ_NIV,">0"),2),"Non réalisée") -> Non réalisée | G19: =IF(OR(D19="Non réalisée",F19="Non réalisée"),"Non réalisée",IF(F19>D19,"▲ +"&ROUND(F19-D19,2),IF(F19<D19,"▼ "&ROUND(F19-D19,2),"➜ stable"))) -> Non réalisée | H19: {=IFERROR(ROUND(MEDIAN(IF((D_ANNEE=$C$4)*(D_NIVEAU=$F$4)*(D_SESSION="S1")*ISNUMBER(D_EQ_NIV)*(D_EQ_NIV>0),D_EQ_NIV)),1),"—")} -> — | I19: {=IFERROR(ROUND(MEDIAN(IF((D_ANNEE=$C$4)*(D_NIVEAU=$F$4)*(D_SESSION="S2")*ISNUMBER(D_EQ_NIV)*(D_EQ_NIV>0),D_EQ_NIV)),1),"—")} -> —
A20: Souplesse | C20: =COUNTIFS(D_ANNEE,$C$4,D_NIVEAU,$F$4,D_SESSION,"S1",D_SO_NIV,">0") -> 0 | D20: =IFERROR(ROUND(AVERAGEIFS(D_SO_NIV,D_ANNEE,$C$4,D_NIVEAU,$F$4,D_SESSION,"S1",D_SO_NIV,">0"),2),"Non réalisée") -> Non réalisée | E20: =COUNTIFS(D_ANNEE,$C$4,D_NIVEAU,$F$4,D_SESSION,"S2",D_SO_NIV,">0") -> 0 | F20: =IFERROR(ROUND(AVERAGEIFS(D_SO_NIV,D_ANNEE,$C$4,D_NIVEAU,$F$4,D_SESSION,"S2",D_SO_NIV,">0"),2),"Non réalisée") -> Non réalisée | G20: =IF(OR(D20="Non réalisée",F20="Non réalisée"),"Non réalisée",IF(F20>D20,"▲ +"&ROUND(F20-D20,2),IF(F20<D20,"▼ "&ROUND(F20-D20,2),"➜ stable"))) -> Non réalisée | H20: {=IFERROR(ROUND(MEDIAN(IF((D_ANNEE=$C$4)*(D_NIVEAU=$F$4)*(D_SESSION="S1")*ISNUMBER(D_SO_NIV)*(D_SO_NIV>0),D_SO_NIV)),1),"—")} -> — | I20: {=IFERROR(ROUND(MEDIAN(IF((D_ANNEE=$C$4)*(D_NIVEAU=$F$4)*(D_SESSION="S2")*ISNUMBER(D_SO_NIV)*(D_SO_NIV>0),D_SO_NIV)),1),"—")} -> —
A21: Vitesse | C21: =COUNTIFS(D_ANNEE,$C$4,D_NIVEAU,$F$4,D_SESSION,"S1",D_VI_NIV,">0") -> 0 | D21: =IFERROR(ROUND(AVERAGEIFS(D_VI_NIV,D_ANNEE,$C$4,D_NIVEAU,$F$4,D_SESSION,"S1",D_VI_NIV,">0"),2),"Non réalisée") -> Non réalisée | E21: =COUNTIFS(D_ANNEE,$C$4,D_NIVEAU,$F$4,D_SESSION,"S2",D_VI_NIV,">0") -> 0 | F21: =IFERROR(ROUND(AVERAGEIFS(D_VI_NIV,D_ANNEE,$C$4,D_NIVEAU,$F$4,D_SESSION,"S2",D_VI_NIV,">0"),2),"Non réalisée") -> Non réalisée | G21: =IF(OR(D21="Non réalisée",F21="Non réalisée"),"Non réalisée",IF(F21>D21,"▲ +"&ROUND(F21-D21,2),IF(F21<D21,"▼ "&ROUND(F21-D21,2),"➜ stable"))) -> Non réalisée | H21: {=IFERROR(ROUND(MEDIAN(IF((D_ANNEE=$C$4)*(D_NIVEAU=$F$4)*(D_SESSION="S1")*ISNUMBER(D_VI_NIV)*(D_VI_NIV>0),D_VI_NIV)),1),"—")} -> — | I21: {=IFERROR(ROUND(MEDIAN(IF((D_ANNEE=$C$4)*(D_NIVEAU=$F$4)*(D_SESSION="S2")*ISNUMBER(D_VI_NIV)*(D_VI_NIV>0),D_VI_NIV)),1),"—")} -> —
A22: Endurance | C22: =COUNTIFS(D_ANNEE,$C$4,D_NIVEAU,$F$4,D_SESSION,"S1",D_EN_NIV,">0") -> 0 | D22: =IFERROR(ROUND(AVERAGEIFS(D_EN_NIV,D_ANNEE,$C$4,D_NIVEAU,$F$4,D_SESSION,"S1",D_EN_NIV,">0"),2),"Non réalisée") -> Non réalisée | E22: =COUNTIFS(D_ANNEE,$C$4,D_NIVEAU,$F$4,D_SESSION,"S2",D_EN_NIV,">0") -> 0 | F22: =IFERROR(ROUND(AVERAGEIFS(D_EN_NIV,D_ANNEE,$C$4,D_NIVEAU,$F$4,D_SESSION,"S2",D_EN_NIV,">0"),2),"Non réalisée") -> Non réalisée | G22: =IF(OR(D22="Non réalisée",F22="Non réalisée"),"Non réalisée",IF(F22>D22,"▲ +"&ROUND(F22-D22,2),IF(F22<D22,"▼ "&ROUND(F22-D22,2),"➜ stable"))) -> Non réalisée | H22: {=IFERROR(ROUND(MEDIAN(IF((D_ANNEE=$C$4)*(D_NIVEAU=$F$4)*(D_SESSION="S1")*ISNUMBER(D_EN_NIV)*(D_EN_NIV>0),D_EN_NIV)),1),"—")} -> — | I22: {=IFERROR(ROUND(MEDIAN(IF((D_ANNEE=$C$4)*(D_NIVEAU=$F$4)*(D_SESSION="S2")*ISNUMBER(D_EN_NIV)*(D_EN_NIV>0),D_EN_NIV)),1),"—")} -> —
A23: Coordination | C23: =COUNTIFS(D_ANNEE,$C$4,D_NIVEAU,$F$4,D_SESSION,"S1",D_CO_NIV,">0") -> 0 | D23: =IFERROR(ROUND(AVERAGEIFS(D_CO_NIV,D_ANNEE,$C$4,D_NIVEAU,$F$4,D_SESSION,"S1",D_CO_NIV,">0"),2),"Non réalisée") -> Non réalisée | E23: =COUNTIFS(D_ANNEE,$C$4,D_NIVEAU,$F$4,D_SESSION,"S2",D_CO_NIV,">0") -> 0 | F23: =IFERROR(ROUND(AVERAGEIFS(D_CO_NIV,D_ANNEE,$C$4,D_NIVEAU,$F$4,D_SESSION,"S2",D_CO_NIV,">0"),2),"Non réalisée") -> Non réalisée | G23: =IF(OR(D23="Non réalisée",F23="Non réalisée"),"Non réalisée",IF(F23>D23,"▲ +"&ROUND(F23-D23,2),IF(F23<D23,"▼ "&ROUND(F23-D23,2),"➜ stable"))) -> Non réalisée | H23: {=IFERROR(ROUND(MEDIAN(IF((D_ANNEE=$C$4)*(D_NIVEAU=$F$4)*(D_SESSION="S1")*ISNUMBER(D_CO_NIV)*(D_CO_NIV>0),D_CO_NIV)),1),"—")} -> — | I23: {=IFERROR(ROUND(MEDIAN(IF((D_ANNEE=$C$4)*(D_NIVEAU=$F$4)*(D_SESSION="S2")*ISNUMBER(D_CO_NIV)*(D_CO_NIV>0),D_CO_NIV)),1),"—")} -> —
A24: Gainage | C24: =COUNTIFS(D_ANNEE,$C$4,D_NIVEAU,$F$4,D_SESSION,"S1",D_GA_NIV,">0") -> 0 | D24: =IFERROR(ROUND(AVERAGEIFS(D_GA_NIV,D_ANNEE,$C$4,D_NIVEAU,$F$4,D_SESSION,"S1",D_GA_NIV,">0"),2),"Non réalisée") -> Non réalisée | E24: =COUNTIFS(D_ANNEE,$C$4,D_NIVEAU,$F$4,D_SESSION,"S2",D_GA_NIV,">0") -> 0 | F24: =IFERROR(ROUND(AVERAGEIFS(D_GA_NIV,D_ANNEE,$C$4,D_NIVEAU,$F$4,D_SESSION,"S2",D_GA_NIV,">0"),2),"Non réalisée") -> Non réalisée | G24: =IF(OR(D24="Non réalisée",F24="Non réalisée"),"Non réalisée",IF(F24>D24,"▲ +"&ROUND(F24-D24,2),IF(F24<D24,"▼ "&ROUND(F24-D24,2),"➜ stable"))) -> Non réalisée | H24: {=IFERROR(ROUND(MEDIAN(IF((D_ANNEE=$C$4)*(D_NIVEAU=$F$4)*(D_SESSION="S1")*ISNUMBER(D_GA_NIV)*(D_GA_NIV>0),D_GA_NIV)),1),"—")} -> — | I24: {=IFERROR(ROUND(MEDIAN(IF((D_ANNEE=$C$4)*(D_NIVEAU=$F$4)*(D_SESSION="S2")*ISNUMBER(D_GA_NIV)*(D_GA_NIV>0),D_GA_NIV)),1),"—")} -> —
A25: Adresse | C25: =COUNTIFS(D_ANNEE,$C$4,D_NIVEAU,$F$4,D_SESSION,"S1",D_AD_NIV,">0") -> 0 | D25: =IFERROR(ROUND(AVERAGEIFS(D_AD_NIV,D_ANNEE,$C$4,D_NIVEAU,$F$4,D_SESSION,"S1",D_AD_NIV,">0"),2),"Non réalisée") -> Non réalisée | E25: =COUNTIFS(D_ANNEE,$C$4,D_NIVEAU,$F$4,D_SESSION,"S2",D_AD_NIV,">0") -> 0 | F25: =IFERROR(ROUND(AVERAGEIFS(D_AD_NIV,D_ANNEE,$C$4,D_NIVEAU,$F$4,D_SESSION,"S2",D_AD_NIV,">0"),2),"Non réalisée") -> Non réalisée | G25: =IF(OR(D25="Non réalisée",F25="Non réalisée"),"Non réalisée",IF(F25>D25,"▲ +"&ROUND(F25-D25,2),IF(F25<D25,"▼ "&ROUND(F25-D25,2),"➜ stable"))) -> Non réalisée | H25: {=IFERROR(ROUND(MEDIAN(IF((D_ANNEE=$C$4)*(D_NIVEAU=$F$4)*(D_SESSION="S1")*ISNUMBER(D_AD_NIV)*(D_AD_NIV>0),D_AD_NIV)),1),"—")} -> — | I25: {=IFERROR(ROUND(MEDIAN(IF((D_ANNEE=$C$4)*(D_NIVEAU=$F$4)*(D_SESSION="S2")*ISNUMBER(D_AD_NIV)*(D_AD_NIV>0),D_AD_NIV)),1),"—")} -> —
A26: Force des jambes | C26: =COUNTIFS(D_ANNEE,$C$4,D_NIVEAU,$F$4,D_SESSION,"S1",D_FO_NIV,">0") -> 0 | D26: =IFERROR(ROUND(AVERAGEIFS(D_FO_NIV,D_ANNEE,$C$4,D_NIVEAU,$F$4,D_SESSION,"S1",D_FO_NIV,">0"),2),"Non réalisée") -> Non réalisée | E26: =COUNTIFS(D_ANNEE,$C$4,D_NIVEAU,$F$4,D_SESSION,"S2",D_FO_NIV,">0") -> 0 | F26: =IFERROR(ROUND(AVERAGEIFS(D_FO_NIV,D_ANNEE,$C$4,D_NIVEAU,$F$4,D_SESSION,"S2",D_FO_NIV,">0"),2),"Non réalisée") -> Non réalisée | G26: =IF(OR(D26="Non réalisée",F26="Non réalisée"),"Non réalisée",IF(F26>D26,"▲ +"&ROUND(F26-D26,2),IF(F26<D26,"▼ "&ROUND(F26-D26,2),"➜ stable"))) -> Non réalisée | H26: {=IFERROR(ROUND(MEDIAN(IF((D_ANNEE=$C$4)*(D_NIVEAU=$F$4)*(D_SESSION="S1")*ISNUMBER(D_FO_NIV)*(D_FO_NIV>0),D_FO_NIV)),1),"—")} -> — | I26: {=IFERROR(ROUND(MEDIAN(IF((D_ANNEE=$C$4)*(D_NIVEAU=$F$4)*(D_SESSION="S2")*ISNUMBER(D_FO_NIV)*(D_FO_NIV>0),D_FO_NIV)),1),"—")} -> —
A27: Médiane : niveau du « milieu de classe » — la moitié des élèves se situe au-dessus, l’autre en dessous. Moins sensible aux valeurs extrêmes que la moyenne.
A28: RÉPARTITION DES NIVEAUX UGSEL (TOUS TESTS)
A29: Niveau | B29: Libellé | C29: Effectif S1 | D29: Effectif S2 | E29: % S1 | F29: % S2
A30: 1 | B30: Débutant | C30: =COUNTIFS(D_ANNEE,$C$4,D_NIVEAU,$F$4,D_SESSION,"S1",D_EQ_NIV,1)+COUNTIFS(D_ANNEE,$C$4,D_NIVEAU,$F$4,D_SESSION,"S1",D_SO_NIV,1)+COUNTIFS(D_ANNEE,$C$4,D_NIVEAU,$F$4,D_SESSION,"S1",D_VI_NIV,1)+COUNTIFS(D_ANNEE,$C$4,D_NIVEAU,$F$4,D_SESSION,"S1",D_EN_NIV,1)+COUNTIFS(D_ANNEE,$C$4,D_NIVEAU,$F$4,D_SESSION,"S1",D_CO_NIV,1)+COUNTIFS(D_ANNEE,$C$4,D_NIVEAU,$F$4,D_SESSION,"S1",D_GA_NIV,1)+COUNTIFS(D_ANNEE,$C$4,D_NIVEAU,$F$4,D_SESSION,"S1",D_AD_NIV,1)+COUNTIFS(D_ANNEE,$C$4,D_NIVEAU,$F$4,D_SESSION,"S1",D_FO_NIV,1) -> 0 | D30: =COUNTIFS(D_ANNEE,$C$4,D_NIVEAU,$F$4,D_SESSION,"S2",D_EQ_NIV,1)+COUNTIFS(D_ANNEE,$C$4,D_NIVEAU,$F$4,D_SESSION,"S2",D_SO_NIV,1)+COUNTIFS(D_ANNEE,$C$4,D_NIVEAU,$F$4,D_SESSION,"S2",D_VI_NIV,1)+COUNTIFS(D_ANNEE,$C$4,D_NIVEAU,$F$4,D_SESSION,"S2",D_EN_NIV,1)+COUNTIFS(D_ANNEE,$C$4,D_NIVEAU,$F$4,D_SESSION,"S2",D_CO_NIV,1)+COUNTIFS(D_ANNEE,$C$4,D_NIVEAU,$F$4,D_SESSION,"S2",D_GA_NIV,1)+COUNTIFS(D_ANNEE,$C$4,D_NIVEAU,$F$4,D_SESSION,"S2",D_AD_NIV,1)+COUNTIFS(D_ANNEE,$C$4,D_NIVEAU,$F$4,D_SESSION,"S2",D_FO_NIV,1) -> 0 | E30: =IFERROR(C30/SUM($C$30:$C$34),0) -> 0 | F30: =IFERROR(D30/SUM($D$30:$D$34),0) -> 0 | T30: S1
A31: 2 | B31: En progrès | C31: =COUNTIFS(D_ANNEE,$C$4,D_NIVEAU,$F$4,D_SESSION,"S1",D_EQ_NIV,2)+COUNTIFS(D_ANNEE,$C$4,D_NIVEAU,$F$4,D_SESSION,"S1",D_SO_NIV,2)+COUNTIFS(D_ANNEE,$C$4,D_NIVEAU,$F$4,D_SESSION,"S1",D_VI_NIV,2)+COUNTIFS(D_ANNEE,$C$4,D_NIVEAU,$F$4,D_SESSION,"S1",D_EN_NIV,2)+COUNTIFS(D_ANNEE,$C$4,D_NIVEAU,$F$4,D_SESSION,"S1",D_CO_NIV,2)+COUNTIFS(D_ANNEE,$C$4,D_NIVEAU,$F$4,D_SESSION,"S1",D_GA_NIV,2)+COUNTIFS(D_ANNEE,$C$4,D_NIVEAU,$F$4,D_SESSION,"S1",D_AD_NIV,2)+COUNTIFS(D_ANNEE,$C$4,D_NIVEAU,$F$4,D_SESSION,"S1",D_FO_NIV,2) -> 0 | D31: =COUNTIFS(D_ANNEE,$C$4,D_NIVEAU,$F$4,D_SESSION,"S2",D_EQ_NIV,2)+COUNTIFS(D_ANNEE,$C$4,D_NIVEAU,$F$4,D_SESSION,"S2",D_SO_NIV,2)+COUNTIFS(D_ANNEE,$C$4,D_NIVEAU,$F$4,D_SESSION,"S2",D_VI_NIV,2)+COUNTIFS(D_ANNEE,$C$4,D_NIVEAU,$F$4,D_SESSION,"S2",D_EN_NIV,2)+COUNTIFS(D_ANNEE,$C$4,D_NIVEAU,$F$4,D_SESSION,"S2",D_CO_NIV,2)+COUNTIFS(D_ANNEE,$C$4,D_NIVEAU,$F$4,D_SESSION,"S2",D_GA_NIV,2)+COUNTIFS(D_ANNEE,$C$4,D_NIVEAU,$F$4,D_SESSION,"S2",D_AD_NIV,2)+COUNTIFS(D_ANNEE,$C$4,D_NIVEAU,$F$4,D_SESSION,"S2",D_FO_NIV,2) -> 0 | E31: =IFERROR(C31/SUM($C$30:$C$34),0) -> 0 | F31: =IFERROR(D31/SUM($D$30:$D$34),0) -> 0 | T31: S2
A32: 3 | B32: Acquis | C32: =COUNTIFS(D_ANNEE,$C$4,D_NIVEAU,$F$4,D_SESSION,"S1",D_EQ_NIV,3)+COUNTIFS(D_ANNEE,$C$4,D_NIVEAU,$F$4,D_SESSION,"S1",D_SO_NIV,3)+COUNTIFS(D_ANNEE,$C$4,D_NIVEAU,$F$4,D_SESSION,"S1",D_VI_NIV,3)+COUNTIFS(D_ANNEE,$C$4,D_NIVEAU,$F$4,D_SESSION,"S1",D_EN_NIV,3)+COUNTIFS(D_ANNEE,$C$4,D_NIVEAU,$F$4,D_SESSION,"S1",D_CO_NIV,3)+COUNTIFS(D_ANNEE,$C$4,D_NIVEAU,$F$4,D_SESSION,"S1",D_GA_NIV,3)+COUNTIFS(D_ANNEE,$C$4,D_NIVEAU,$F$4,D_SESSION,"S1",D_AD_NIV,3)+COUNTIFS(D_ANNEE,$C$4,D_NIVEAU,$F$4,D_SESSION,"S1",D_FO_NIV,3) -> 0 | D32: =COUNTIFS(D_ANNEE,$C$4,D_NIVEAU,$F$4,D_SESSION,"S2",D_EQ_NIV,3)+COUNTIFS(D_ANNEE,$C$4,D_NIVEAU,$F$4,D_SESSION,"S2",D_SO_NIV,3)+COUNTIFS(D_ANNEE,$C$4,D_NIVEAU,$F$4,D_SESSION,"S2",D_VI_NIV,3)+COUNTIFS(D_ANNEE,$C$4,D_NIVEAU,$F$4,D_SESSION,"S2",D_EN_NIV,3)+COUNTIFS(D_ANNEE,$C$4,D_NIVEAU,$F$4,D_SESSION,"S2",D_CO_NIV,3)+COUNTIFS(D_ANNEE,$C$4,D_NIVEAU,$F$4,D_SESSION,"S2",D_GA_NIV,3)+COUNTIFS(D_ANNEE,$C$4,D_NIVEAU,$F$4,D_SESSION,"S2",D_AD_NIV,3)+COUNTIFS(D_ANNEE,$C$4,D_NIVEAU,$F$4,D_SESSION,"S2",D_FO_NIV,3) -> 0 | E32: =IFERROR(C32/SUM($C$30:$C$34),0) -> 0 | F32: =IFERROR(D32/SUM($D$30:$D$34),0) -> 0
A33: 4 | B33: Maîtrisé | C33: =COUNTIFS(D_ANNEE,$C$4,D_NIVEAU,$F$4,D_SESSION,"S1",D_EQ_NIV,4)+COUNTIFS(D_ANNEE,$C$4,D_NIVEAU,$F$4,D_SESSION,"S1",D_SO_NIV,4)+COUNTIFS(D_ANNEE,$C$4,D_NIVEAU,$F$4,D_SESSION,"S1",D_VI_NIV,4)+COUNTIFS(D_ANNEE,$C$4,D_NIVEAU,$F$4,D_SESSION,"S1",D_EN_NIV,4)+COUNTIFS(D_ANNEE,$C$4,D_NIVEAU,$F$4,D_SESSION,"S1",D_CO_NIV,4)+COUNTIFS(D_ANNEE,$C$4,D_NIVEAU,$F$4,D_SESSION,"S1",D_GA_NIV,4)+COUNTIFS(D_ANNEE,$C$4,D_NIVEAU,$F$4,D_SESSION,"S1",D_AD_NIV,4)+COUNTIFS(D_ANNEE,$C$4,D_NIVEAU,$F$4,D_SESSION,"S1",D_FO_NIV,4) -> 0 | D33: =COUNTIFS(D_ANNEE,$C$4,D_NIVEAU,$F$4,D_SESSION,"S2",D_EQ_NIV,4)+COUNTIFS(D_ANNEE,$C$4,D_NIVEAU,$F$4,D_SESSION,"S2",D_SO_NIV,4)+COUNTIFS(D_ANNEE,$C$4,D_NIVEAU,$F$4,D_SESSION,"S2",D_VI_NIV,4)+COUNTIFS(D_ANNEE,$C$4,D_NIVEAU,$F$4,D_SESSION,"S2",D_EN_NIV,4)+COUNTIFS(D_ANNEE,$C$4,D_NIVEAU,$F$4,D_SESSION,"S2",D_CO_NIV,4)+COUNTIFS(D_ANNEE,$C$4,D_NIVEAU,$F$4,D_SESSION,"S2",D_GA_NIV,4)+COUNTIFS(D_ANNEE,$C$4,D_NIVEAU,$F$4,D_SESSION,"S2",D_AD_NIV,4)+COUNTIFS(D_ANNEE,$C$4,D_NIVEAU,$F$4,D_SESSION,"S2",D_FO_NIV,4) -> 0 | E33: =IFERROR(C33/SUM($C$30:$C$34),0) -> 0 | F33: =IFERROR(D33/SUM($D$30:$D$34),0) -> 0
A34: 5 | B34: Expert | C34: =COUNTIFS(D_ANNEE,$C$4,D_NIVEAU,$F$4,D_SESSION,"S1",D_EQ_NIV,5)+COUNTIFS(D_ANNEE,$C$4,D_NIVEAU,$F$4,D_SESSION,"S1",D_SO_NIV,5)+COUNTIFS(D_ANNEE,$C$4,D_NIVEAU,$F$4,D_SESSION,"S1",D_VI_NIV,5)+COUNTIFS(D_ANNEE,$C$4,D_NIVEAU,$F$4,D_SESSION,"S1",D_EN_NIV,5)+COUNTIFS(D_ANNEE,$C$4,D_NIVEAU,$F$4,D_SESSION,"S1",D_CO_NIV,5)+COUNTIFS(D_ANNEE,$C$4,D_NIVEAU,$F$4,D_SESSION,"S1",D_GA_NIV,5)+COUNTIFS(D_ANNEE,$C$4,D_NIVEAU,$F$4,D_SESSION,"S1",D_AD_NIV,5)+COUNTIFS(D_ANNEE,$C$4,D_NIVEAU,$F$4,D_SESSION,"S1",D_FO_NIV,5) -> 0 | D34: =COUNTIFS(D_ANNEE,$C$4,D_NIVEAU,$F$4,D_SESSION,"S2",D_EQ_NIV,5)+COUNTIFS(D_ANNEE,$C$4,D_NIVEAU,$F$4,D_SESSION,"S2",D_SO_NIV,5)+COUNTIFS(D_ANNEE,$C$4,D_NIVEAU,$F$4,D_SESSION,"S2",D_VI_NIV,5)+COUNTIFS(D_ANNEE,$C$4,D_NIVEAU,$F$4,D_SESSION,"S2",D_EN_NIV,5)+COUNTIFS(D_ANNEE,$C$4,D_NIVEAU,$F$4,D_SESSION,"S2",D_CO_NIV,5)+COUNTIFS(D_ANNEE,$C$4,D_NIVEAU,$F$4,D_SESSION,"S2",D_GA_NIV,5)+COUNTIFS(D_ANNEE,$C$4,D_NIVEAU,$F$4,D_SESSION,"S2",D_AD_NIV,5)+COUNTIFS(D_ANNEE,$C$4,D_NIVEAU,$F$4,D_SESSION,"S2",D_FO_NIV,5) -> 0 | E34: =IFERROR(C34/SUM($C$30:$C$34),0) -> 0 | F34: =IFERROR(D34/SUM($D$30:$D$34),0) -> 0
A36: INDICATEURS DE PROGRESSION (TOUS TESTS CONFONDUS)
A37: =IF(SUMIFS(D_NB_PROG,D_ANNEE,$C$4,D_NIVEAU,$F$4)+SUMIFS(D_NB_STAB,D_ANNEE,$C$4,D_NIVEAU,$F$4)+SUMIFS(D_NB_REG,D_ANNEE,$C$4,D_NIVEAU,$F$4)=0,"Non réalisée",ROUND(SUMIFS(D_NB_PROG,D_ANNEE,$C$4,D_NIVEAU,$F$4)/(SUMIFS(D_NB_PROG,D_ANNEE,$C$4,D_NIVEAU,$F$4)+SUMIFS(D_NB_STAB,D_ANNEE,$C$4,D_NIVEAU,$F$4)+SUMIFS(D_NB_REG,D_ANNEE,$C$4,D_NIVEAU,$F$4))*100,0)&"% "&"EN PROGRESSION") -> Non réalisée | C37: =IF(SUMIFS(D_NB_PROG,D_ANNEE,$C$4,D_NIVEAU,$F$4)+SUMIFS(D_NB_STAB,D_ANNEE,$C$4,D_NIVEAU,$F$4)+SUMIFS(D_NB_REG,D_ANNEE,$C$4,D_NIVEAU,$F$4)=0,"Non réalisée",ROUND(SUMIFS(D_NB_STAB,D_ANNEE,$C$4,D_NIVEAU,$F$4)/(SUMIFS(D_NB_PROG,D_ANNEE,$C$4,D_NIVEAU,$F$4)+SUMIFS(D_NB_STAB,D_ANNEE,$C$4,D_NIVEAU,$F$4)+SUMIFS(D_NB_REG,D_ANNEE,$C$4,D_NIVEAU,$F$4))*100,0)&"% "&"STABLES") -> Non réalisée | E37: =IF(SUMIFS(D_NB_PROG,D_ANNEE,$C$4,D_NIVEAU,$F$4)+SUMIFS(D_NB_STAB,D_ANNEE,$C$4,D_NIVEAU,$F$4)+SUMIFS(D_NB_REG,D_ANNEE,$C$4,D_NIVEAU,$F$4)=0,"Non réalisée",ROUND(SUMIFS(D_NB_REG,D_ANNEE,$C$4,D_NIVEAU,$F$4)/(SUMIFS(D_NB_PROG,D_ANNEE,$C$4,D_NIVEAU,$F$4)+SUMIFS(D_NB_STAB,D_ANNEE,$C$4,D_NIVEAU,$F$4)+SUMIFS(D_NB_REG,D_ANNEE,$C$4,D_NIVEAU,$F$4))*100,0)&"% "&"EN RÉGRESSION") -> Non réalisée
A38: ="Basé sur "&(SUMIFS(D_NB_PROG,D_ANNEE,$C$4,D_NIVEAU,$F$4)+SUMIFS(D_NB_STAB,D_ANNEE,$C$4,D_NIVEAU,$F$4)+SUMIFS(D_NB_REG,D_ANNEE,$C$4,D_NIVEAU,$F$4))&" mesures comparables (test réalisé en S1 et en S2 par le même élève)." -> Basé sur 0 mesures comparables (test réalisé en S1 et en S2 par le même élève).
A40: COMPARATIF FILLES / GARÇONS — NIVEAU UGSEL MOYEN
A41: Test | B41: Filles S1 | C41: Garçons S1 | D41: Filles S2 | E41: Garçons S2 | F41: Écart S1 (F−G) | G41: Écart S2 (F−G)
A42: Équilibre | B42: =IFERROR(ROUND(AVERAGEIFS(D_EQ_NIV,D_ANNEE,$C$4,D_NIVEAU,$F$4,D_SESSION,"S1",D_SEXE,"F",D_EQ_NIV,">0"),1),"—") -> — | C42: =IFERROR(ROUND(AVERAGEIFS(D_EQ_NIV,D_ANNEE,$C$4,D_NIVEAU,$F$4,D_SESSION,"S1",D_SEXE,"M",D_EQ_NIV,">0"),1),"—") -> — | D42: =IFERROR(ROUND(AVERAGEIFS(D_EQ_NIV,D_ANNEE,$C$4,D_NIVEAU,$F$4,D_SESSION,"S2",D_SEXE,"F",D_EQ_NIV,">0"),1),"—") -> — | E42: =IFERROR(ROUND(AVERAGEIFS(D_EQ_NIV,D_ANNEE,$C$4,D_NIVEAU,$F$4,D_SESSION,"S2",D_SEXE,"M",D_EQ_NIV,">0"),1),"—") -> — | F42: =IF(OR(B42="—",C42="—"),"",ROUND(B42-C42,1)) | G42: =IF(OR(D42="—",E42="—"),"",ROUND(D42-E42,1))
A43: Souplesse | B43: =IFERROR(ROUND(AVERAGEIFS(D_SO_NIV,D_ANNEE,$C$4,D_NIVEAU,$F$4,D_SESSION,"S1",D_SEXE,"F",D_SO_NIV,">0"),1),"—") -> — | C43: =IFERROR(ROUND(AVERAGEIFS(D_SO_NIV,D_ANNEE,$C$4,D_NIVEAU,$F$4,D_SESSION,"S1",D_SEXE,"M",D_SO_NIV,">0"),1),"—") -> — | D43: =IFERROR(ROUND(AVERAGEIFS(D_SO_NIV,D_ANNEE,$C$4,D_NIVEAU,$F$4,D_SESSION,"S2",D_SEXE,"F",D_SO_NIV,">0"),1),"—") -> — | E43: =IFERROR(ROUND(AVERAGEIFS(D_SO_NIV,D_ANNEE,$C$4,D_NIVEAU,$F$4,D_SESSION,"S2",D_SEXE,"M",D_SO_NIV,">0"),1),"—") -> — | F43: =IF(OR(B43="—",C43="—"),"",ROUND(B43-C43,1)) | G43: =IF(OR(D43="—",E43="—"),"",ROUND(D43-E43,1))
A44: Vitesse | B44: =IFERROR(ROUND(AVERAGEIFS(D_VI_NIV,D_ANNEE,$C$4,D_NIVEAU,$F$4,D_SESSION,"S1",D_SEXE,"F",D_VI_NIV,">0"),1),"—") -> — | C44: =IFERROR(ROUND(AVERAGEIFS(D_VI_NIV,D_ANNEE,$C$4,D_NIVEAU,$F$4,D_SESSION,"S1",D_SEXE,"M",D_VI_NIV,">0"),1),"—") -> — | D44: =IFERROR(ROUND(AVERAGEIFS(D_VI_NIV,D_ANNEE,$C$4,D_NIVEAU,$F$4,D_SESSION,"S2",D_SEXE,"F",D_VI_NIV,">0"),1),"—") -> — | E44: =IFERROR(ROUND(AVERAGEIFS(D_VI_NIV,D_ANNEE,$C$4,D_NIVEAU,$F$4,D_SESSION,"S2",D_SEXE,"M",D_VI_NIV,">0"),1),"—") -> — | F44: =IF(OR(B44="—",C44="—"),"",ROUND(B44-C44,1)) | G44: =IF(OR(D44="—",E44="—"),"",ROUND(D44-E44,1))
A45: Endurance | B45: =IFERROR(ROUND(AVERAGEIFS(D_EN_NIV,D_ANNEE,$C$4,D_NIVEAU,$F$4,D_SESSION,"S1",D_SEXE,"F",D_EN_NIV,">0"),1),"—") -> — | C45: =IFERROR(ROUND(AVERAGEIFS(D_EN_NIV,D_ANNEE,$C$4,D_NIVEAU,$F$4,D_SESSION,"S1",D_SEXE,"M",D_EN_NIV,">0"),1),"—") -> — | D45: =IFERROR(ROUND(AVERAGEIFS(D_EN_NIV,D_ANNEE,$C$4,D_NIVEAU,$F$4,D_SESSION,"S2",D_SEXE,"F",D_EN_NIV,">0"),1),"—") -> — | E45: =IFERROR(ROUND(AVERAGEIFS(D_EN_NIV,D_ANNEE,$C$4,D_NIVEAU,$F$4,D_SESSION,"S2",D_SEXE,"M",D_EN_NIV,">0"),1),"—") -> — | F45: =IF(OR(B45="—",C45="—"),"",ROUND(B45-C45,1)) | G45: =IF(OR(D45="—",E45="—"),"",ROUND(D45-E45,1))
A46: Coordination | B46: =IFERROR(ROUND(AVERAGEIFS(D_CO_NIV,D_ANNEE,$C$4,D_NIVEAU,$F$4,D_SESSION,"S1",D_SEXE,"F",D_CO_NIV,">0"),1),"—") -> — | C46: =IFERROR(ROUND(AVERAGEIFS(D_CO_NIV,D_ANNEE,$C$4,D_NIVEAU,$F$4,D_SESSION,"S1",D_SEXE,"M",D_CO_NIV,">0"),1),"—") -> — | D46: =IFERROR(ROUND(AVERAGEIFS(D_CO_NIV,D_ANNEE,$C$4,D_NIVEAU,$F$4,D_SESSION,"S2",D_SEXE,"F",D_CO_NIV,">0"),1),"—") -> — | E46: =IFERROR(ROUND(AVERAGEIFS(D_CO_NIV,D_ANNEE,$C$4,D_NIVEAU,$F$4,D_SESSION,"S2",D_SEXE,"M",D_CO_NIV,">0"),1),"—") -> — | F46: =IF(OR(B46="—",C46="—"),"",ROUND(B46-C46,1)) | G46: =IF(OR(D46="—",E46="—"),"",ROUND(D46-E46,1))
A47: Gainage | B47: =IFERROR(ROUND(AVERAGEIFS(D_GA_NIV,D_ANNEE,$C$4,D_NIVEAU,$F$4,D_SESSION,"S1",D_SEXE,"F",D_GA_NIV,">0"),1),"—") -> — | C47: =IFERROR(ROUND(AVERAGEIFS(D_GA_NIV,D_ANNEE,$C$4,D_NIVEAU,$F$4,D_SESSION,"S1",D_SEXE,"M",D_GA_NIV,">0"),1),"—") -> — | D47: =IFERROR(ROUND(AVERAGEIFS(D_GA_NIV,D_ANNEE,$C$4,D_NIVEAU,$F$4,D_SESSION,"S2",D_SEXE,"F",D_GA_NIV,">0"),1),"—") -> — | E47: =IFERROR(ROUND(AVERAGEIFS(D_GA_NIV,D_ANNEE,$C$4,D_NIVEAU,$F$4,D_SESSION,"S2",D_SEXE,"M",D_GA_NIV,">0"),1),"—") -> — | F47: =IF(OR(B47="—",C47="—"),"",ROUND(B47-C47,1)) | G47: =IF(OR(D47="—",E47="—"),"",ROUND(D47-E47,1))
A48: Adresse | B48: =IFERROR(ROUND(AVERAGEIFS(D_AD_NIV,D_ANNEE,$C$4,D_NIVEAU,$F$4,D_SESSION,"S1",D_SEXE,"F",D_AD_NIV,">0"),1),"—") -> — | C48: =IFERROR(ROUND(AVERAGEIFS(D_AD_NIV,D_ANNEE,$C$4,D_NIVEAU,$F$4,D_SESSION,"S1",D_SEXE,"M",D_AD_NIV,">0"),1),"—") -> — | D48: =IFERROR(ROUND(AVERAGEIFS(D_AD_NIV,D_ANNEE,$C$4,D_NIVEAU,$F$4,D_SESSION,"S2",D_SEXE,"F",D_AD_NIV,">0"),1),"—") -> — | E48: =IFERROR(ROUND(AVERAGEIFS(D_AD_NIV,D_ANNEE,$C$4,D_NIVEAU,$F$4,D_SESSION,"S2",D_SEXE,"M",D_AD_NIV,">0"),1),"—") -> — | F48: =IF(OR(B48="—",C48="—"),"",ROUND(B48-C48,1)) | G48: =IF(OR(D48="—",E48="—"),"",ROUND(D48-E48,1))
A49: Force des jambes | B49: =IFERROR(ROUND(AVERAGEIFS(D_FO_NIV,D_ANNEE,$C$4,D_NIVEAU,$F$4,D_SESSION,"S1",D_SEXE,"F",D_FO_NIV,">0"),1),"—") -> — | C49: =IFERROR(ROUND(AVERAGEIFS(D_FO_NIV,D_ANNEE,$C$4,D_NIVEAU,$F$4,D_SESSION,"S1",D_SEXE,"M",D_FO_NIV,">0"),1),"—") -> — | D49: =IFERROR(ROUND(AVERAGEIFS(D_FO_NIV,D_ANNEE,$C$4,D_NIVEAU,$F$4,D_SESSION,"S2",D_SEXE,"F",D_FO_NIV,">0"),1),"—") -> — | E49: =IFERROR(ROUND(AVERAGEIFS(D_FO_NIV,D_ANNEE,$C$4,D_NIVEAU,$F$4,D_SESSION,"S2",D_SEXE,"M",D_FO_NIV,">0"),1),"—") -> — | F49: =IF(OR(B49="—",C49="—"),"",ROUND(B49-C49,1)) | G49: =IF(OR(D49="—",E49="—"),"",ROUND(D49-E49,1))
A51: =IF(COUNTIFS(D_ANNEE,$C$4,D_NIVEAU,$F$4,D_SESSION,"S1")=0,"Taux de retest S1→S2 : aucune donnée S1","Taux de retest S1→S2 : "&COUNTIFS(D_ANNEE,$C$4,D_NIVEAU,$F$4,D_SESSION,"S1",D_S2ROW,">0")&" élève(s) sur "&COUNTIFS(D_ANNEE,$C$4,D_NIVEAU,$F$4,D_SESSION,"S1")&" retrouvé(s) en S2 ("&TEXT(COUNTIFS(D_ANNEE,$C$4,D_NIVEAU,$F$4,D_SESSION,"S1",D_S2ROW,">0")/COUNTIFS(D_ANNEE,$C$4,D_NIVEAU,$F$4,D_SESSION,"S1"),"0%")&")") -> Taux de retest S1→S2 : aucune donnée S1
A68: PERFORMANCE RÉELLE PAR TEST (S1 vs S2)
E69: S1 | G69: S2 | H69: Évolution
C70: =A8 -> Équilibre | E70: =D8 -> Non réalisée | F70: ▶ | G70: =F8 -> Non réalisée | H70: =IF(OR(ISTEXT(F8),ISTEXT(D8),F8="",D8="",D8=0),"",IF(F8>D8,"▲ +"&ROUND((F8-D8)/D8*100,0)&"%",IF(F8<D8,"▼ "&ROUND((F8-D8)/D8*100,0)&"%","→ stable")))
C71: =A9 -> Souplesse | E71: =D9 -> Non réalisée | F71: ▶ | G71: =F9 -> Non réalisée | H71: =IF(OR(ISTEXT(F9),ISTEXT(D9),F9="",D9="",D9=0),"",IF(F9>D9,"▲ +"&ROUND((F9-D9)/D9*100,0)&"%",IF(F9<D9,"▼ "&ROUND((F9-D9)/D9*100,0)&"%","→ stable")))
C72: =A10 -> Vitesse | E72: =D10 -> Non réalisée | F72: ▶ | G72: =F10 -> Non réalisée | H72: =IF(OR(ISTEXT(F10),ISTEXT(D10),F10="",D10="",D10=0),"",IF(F10>D10,"▲ +"&ROUND((F10-D10)/D10*100,0)&"%",IF(F10<D10,"▼ "&ROUND((F10-D10)/D10*100,0)&"%","→ stable")))
C73: =A11 -> Endurance | E73: =D11 -> Non réalisée | F73: ▶ | G73: =F11 -> Non réalisée | H73: =IF(OR(ISTEXT(F11),ISTEXT(D11),F11="",D11="",D11=0),"",IF(F11>D11,"▲ +"&ROUND((F11-D11)/D11*100,0)&"%",IF(F11<D11,"▼ "&ROUND((F11-D11)/D11*100,0)&"%","→ stable")))
C74: =A12 -> Coordination | E74: =D12 -> Non réalisée | F74: ▶ | G74: =F12 -> Non réalisée | H74: =IF(OR(ISTEXT(F12),ISTEXT(D12),F12="",D12="",D12=0),"",IF(F12>D12,"▲ +"&ROUND((F12-D12)/D12*100,0)&"%",IF(F12<D12,"▼ "&ROUND((F12-D12)/D12*100,0)&"%","→ stable")))
C75: =A13 -> Gainage | E75: =D13 -> Non réalisée | F75: ▶ | G75: =F13 -> Non réalisée | H75: =IF(OR(ISTEXT(F13),ISTEXT(D13),F13="",D13="",D13=0),"",IF(F13>D13,"▲ +"&ROUND((F13-D13)/D13*100,0)&"%",IF(F13<D13,"▼ "&ROUND((F13-D13)/D13*100,0)&"%","→ stable")))
C76: =A14 -> Adresse | E76: =D14 -> Non réalisée | F76: ▶ | G76: =F14 -> Non réalisée | H76: =IF(OR(ISTEXT(F14),ISTEXT(D14),F14="",D14="",D14=0),"",IF(F14>D14,"▲ +"&ROUND((F14-D14)/D14*100,0)&"%",IF(F14<D14,"▼ "&ROUND((F14-D14)/D14*100,0)&"%","→ stable")))
C77: =A15 -> Force des jambes | E77: =D15 -> Non réalisée | F77: ▶ | G77: =F15 -> Non réalisée | H77: =IF(OR(ISTEXT(F15),ISTEXT(D15),F15="",D15="",D15=0),"",IF(F15>D15,"▲ +"&ROUND((F15-D15)/D15*100,0)&"%",IF(F15<D15,"▼ "&ROUND((F15-D15)/D15*100,0)&"%","→ stable")))
A80: PROGRESSION APPARIÉE PAR TEST — MÊMES ÉLÈVES S1 → S2
A81: Test | B81: Appariés | C81: ▲ Progrès | D81: = Stables | E81: ▼ Reculs | F81: % en progrès
A82: Équilibre | B82: =C82+D82+E82 -> 0 | C82: =COUNTIFS(D_PROG_EQ,1,D_ANNEE,$C$4,D_NIVEAU,$F$4) -> 0 | D82: =COUNTIFS(D_PROG_EQ,0,D_ANNEE,$C$4,D_NIVEAU,$F$4) -> 0 | E82: =COUNTIFS(D_PROG_EQ,-1,D_ANNEE,$C$4,D_NIVEAU,$F$4) -> 0 | F82: =IF(B82=0,"—",ROUND(C82/B82*100,0)&" %") -> —
A83: Souplesse | B83: =C83+D83+E83 -> 0 | C83: =COUNTIFS(D_PROG_SO,1,D_ANNEE,$C$4,D_NIVEAU,$F$4) -> 0 | D83: =COUNTIFS(D_PROG_SO,0,D_ANNEE,$C$4,D_NIVEAU,$F$4) -> 0 | E83: =COUNTIFS(D_PROG_SO,-1,D_ANNEE,$C$4,D_NIVEAU,$F$4) -> 0 | F83: =IF(B83=0,"—",ROUND(C83/B83*100,0)&" %") -> —
A84: Vitesse | B84: =C84+D84+E84 -> 0 | C84: =COUNTIFS(D_PROG_VI,1,D_ANNEE,$C$4,D_NIVEAU,$F$4) -> 0 | D84: =COUNTIFS(D_PROG_VI,0,D_ANNEE,$C$4,D_NIVEAU,$F$4) -> 0 | E84: =COUNTIFS(D_PROG_VI,-1,D_ANNEE,$C$4,D_NIVEAU,$F$4) -> 0 | F84: =IF(B84=0,"—",ROUND(C84/B84*100,0)&" %") -> —
A85: Endurance | B85: =C85+D85+E85 -> 0 | C85: =COUNTIFS(D_PROG_EN,1,D_ANNEE,$C$4,D_NIVEAU,$F$4) -> 0 | D85: =COUNTIFS(D_PROG_EN,0,D_ANNEE,$C$4,D_NIVEAU,$F$4) -> 0 | E85: =COUNTIFS(D_PROG_EN,-1,D_ANNEE,$C$4,D_NIVEAU,$F$4) -> 0 | F85: =IF(B85=0,"—",ROUND(C85/B85*100,0)&" %") -> —
A86: Coordination | B86: =C86+D86+E86 -> 0 | C86: =COUNTIFS(D_PROG_CO,1,D_ANNEE,$C$4,D_NIVEAU,$F$4) -> 0 | D86: =COUNTIFS(D_PROG_CO,0,D_ANNEE,$C$4,D_NIVEAU,$F$4) -> 0 | E86: =COUNTIFS(D_PROG_CO,-1,D_ANNEE,$C$4,D_NIVEAU,$F$4) -> 0 | F86: =IF(B86=0,"—",ROUND(C86/B86*100,0)&" %") -> —
A87: Gainage | B87: =C87+D87+E87 -> 0 | C87: =COUNTIFS(D_PROG_GA,1,D_ANNEE,$C$4,D_NIVEAU,$F$4) -> 0 | D87: =COUNTIFS(D_PROG_GA,0,D_ANNEE,$C$4,D_NIVEAU,$F$4) -> 0 | E87: =COUNTIFS(D_PROG_GA,-1,D_ANNEE,$C$4,D_NIVEAU,$F$4) -> 0 | F87: =IF(B87=0,"—",ROUND(C87/B87*100,0)&" %") -> —
A88: Adresse | B88: =C88+D88+E88 -> 0 | C88: =COUNTIFS(D_PROG_AD,1,D_ANNEE,$C$4,D_NIVEAU,$F$4) -> 0 | D88: =COUNTIFS(D_PROG_AD,0,D_ANNEE,$C$4,D_NIVEAU,$F$4) -> 0 | E88: =COUNTIFS(D_PROG_AD,-1,D_ANNEE,$C$4,D_NIVEAU,$F$4) -> 0 | F88: =IF(B88=0,"—",ROUND(C88/B88*100,0)&" %") -> —
A89: Force des jambes | B89: =C89+D89+E89 -> 0 | C89: =COUNTIFS(D_PROG_FO,1,D_ANNEE,$C$4,D_NIVEAU,$F$4) -> 0 | D89: =COUNTIFS(D_PROG_FO,0,D_ANNEE,$C$4,D_NIVEAU,$F$4) -> 0 | E89: =COUNTIFS(D_PROG_FO,-1,D_ANNEE,$C$4,D_NIVEAU,$F$4) -> 0 | F89: =IF(B89=0,"—",ROUND(C89/B89*100,0)&" %") -> —
A90: Ne compte que les élèves ayant réalisé le même test en S1 et en S2 (année et niveau sélectionnés).
A92: SESSIONS COMPLÈTES / PARTIELLES
A93: Session | B93: Eff. total | C93: dont complètes | D93: Score moy. (complètes) | E93: Score moy. (toutes)
A94: S1 | B94: =COUNTIFS(D_ANNEE,$C$4,D_NIVEAU,$F$4,D_SESSION,"S1") -> 0 | C94: =COUNTIFS(D_ANNEE,$C$4,D_NIVEAU,$F$4,D_SESSION,"S1",D_COMPLET,1) -> 0 | D94: =IFERROR(ROUND(AVERAGEIFS(D_MOYNIV,D_ANNEE,$C$4,D_NIVEAU,$F$4,D_SESSION,"S1",D_COMPLET,1),2),"—") -> — | E94: =IFERROR(ROUND(AVERAGEIFS(D_MOYNIV,D_ANNEE,$C$4,D_NIVEAU,$F$4,D_SESSION,"S1"),2),"—") -> —
A95: S2 | B95: =COUNTIFS(D_ANNEE,$C$4,D_NIVEAU,$F$4,D_SESSION,"S2") -> 0 | C95: =COUNTIFS(D_ANNEE,$C$4,D_NIVEAU,$F$4,D_SESSION,"S2",D_COMPLET,1) -> 0 | D95: =IFERROR(ROUND(AVERAGEIFS(D_MOYNIV,D_ANNEE,$C$4,D_NIVEAU,$F$4,D_SESSION,"S2",D_COMPLET,1),2),"—") -> — | E95: =IFERROR(ROUND(AVERAGEIFS(D_MOYNIV,D_ANNEE,$C$4,D_NIVEAU,$F$4,D_SESSION,"S2"),2),"—") -> —
A96: Complète = tous les tests du cycle réalisés (5 en cycle 2, 8 en cycle 3). Les moyennes générales incluent aussi les sessions partielles.
A98: RÉPARTITION DES NIVEAUX PAR TEST
A100: Session 1 | B100: 1 · Débutant | C100: 2 · En progrès | D100: 3 · Acquis | E100: 4 · Maîtrisé | F100: 5 · Expert
A101: =A8 -> Équilibre | B101: =IF($C8=0,"—",COUNTIFS(D_ANNEE,$C$4,D_NIVEAU,$F$4,D_SESSION,"S1",D_EQ_NIV,1)) -> — | C101: =IF($C8=0,"—",COUNTIFS(D_ANNEE,$C$4,D_NIVEAU,$F$4,D_SESSION,"S1",D_EQ_NIV,2)) -> — | D101: =IF($C8=0,"—",COUNTIFS(D_ANNEE,$C$4,D_NIVEAU,$F$4,D_SESSION,"S1",D_EQ_NIV,3)) -> — | E101: =IF($C8=0,"—",COUNTIFS(D_ANNEE,$C$4,D_NIVEAU,$F$4,D_SESSION,"S1",D_EQ_NIV,4)) -> — | F101: =IF($C8=0,"—",COUNTIFS(D_ANNEE,$C$4,D_NIVEAU,$F$4,D_SESSION,"S1",D_EQ_NIV,5)) -> —
A102: =A9 -> Souplesse | B102: =IF($C9=0,"—",COUNTIFS(D_ANNEE,$C$4,D_NIVEAU,$F$4,D_SESSION,"S1",D_SO_NIV,1)) -> — | C102: =IF($C9=0,"—",COUNTIFS(D_ANNEE,$C$4,D_NIVEAU,$F$4,D_SESSION,"S1",D_SO_NIV,2)) -> — | D102: =IF($C9=0,"—",COUNTIFS(D_ANNEE,$C$4,D_NIVEAU,$F$4,D_SESSION,"S1",D_SO_NIV,3)) -> — | E102: =IF($C9=0,"—",COUNTIFS(D_ANNEE,$C$4,D_NIVEAU,$F$4,D_SESSION,"S1",D_SO_NIV,4)) -> — | F102: =IF($C9=0,"—",COUNTIFS(D_ANNEE,$C$4,D_NIVEAU,$F$4,D_SESSION,"S1",D_SO_NIV,5)) -> —
A103: =A10 -> Vitesse | B103: =IF($C10=0,"—",COUNTIFS(D_ANNEE,$C$4,D_NIVEAU,$F$4,D_SESSION,"S1",D_VI_NIV,1)) -> — | C103: =IF($C10=0,"—",COUNTIFS(D_ANNEE,$C$4,D_NIVEAU,$F$4,D_SESSION,"S1",D_VI_NIV,2)) -> — | D103: =IF($C10=0,"—",COUNTIFS(D_ANNEE,$C$4,D_NIVEAU,$F$4,D_SESSION,"S1",D_VI_NIV,3)) -> — | E103: =IF($C10=0,"—",COUNTIFS(D_ANNEE,$C$4,D_NIVEAU,$F$4,D_SESSION,"S1",D_VI_NIV,4)) -> — | F103: =IF($C10=0,"—",COUNTIFS(D_ANNEE,$C$4,D_NIVEAU,$F$4,D_SESSION,"S1",D_VI_NIV,5)) -> —
A104: =A11 -> Endurance | B104: =IF($C11=0,"—",COUNTIFS(D_ANNEE,$C$4,D_NIVEAU,$F$4,D_SESSION,"S1",D_EN_NIV,1)) -> — | C104: =IF($C11=0,"—",COUNTIFS(D_ANNEE,$C$4,D_NIVEAU,$F$4,D_SESSION,"S1",D_EN_NIV,2)) -> — | D104: =IF($C11=0,"—",COUNTIFS(D_ANNEE,$C$4,D_NIVEAU,$F$4,D_SESSION,"S1",D_EN_NIV,3)) -> — | E104: =IF($C11=0,"—",COUNTIFS(D_ANNEE,$C$4,D_NIVEAU,$F$4,D_SESSION,"S1",D_EN_NIV,4)) -> — | F104: =IF($C11=0,"—",COUNTIFS(D_ANNEE,$C$4,D_NIVEAU,$F$4,D_SESSION,"S1",D_EN_NIV,5)) -> —
A105: =A12 -> Coordination | B105: =IF($C12=0,"—",COUNTIFS(D_ANNEE,$C$4,D_NIVEAU,$F$4,D_SESSION,"S1",D_CO_NIV,1)) -> — | C105: =IF($C12=0,"—",COUNTIFS(D_ANNEE,$C$4,D_NIVEAU,$F$4,D_SESSION,"S1",D_CO_NIV,2)) -> — | D105: =IF($C12=0,"—",COUNTIFS(D_ANNEE,$C$4,D_NIVEAU,$F$4,D_SESSION,"S1",D_CO_NIV,3)) -> — | E105: =IF($C12=0,"—",COUNTIFS(D_ANNEE,$C$4,D_NIVEAU,$F$4,D_SESSION,"S1",D_CO_NIV,4)) -> — | F105: =IF($C12=0,"—",COUNTIFS(D_ANNEE,$C$4,D_NIVEAU,$F$4,D_SESSION,"S1",D_CO_NIV,5)) -> —
A106: =A13 -> Gainage | B106: =IF($C13=0,"—",COUNTIFS(D_ANNEE,$C$4,D_NIVEAU,$F$4,D_SESSION,"S1",D_GA_NIV,1)) -> — | C106: =IF($C13=0,"—",COUNTIFS(D_ANNEE,$C$4,D_NIVEAU,$F$4,D_SESSION,"S1",D_GA_NIV,2)) -> — | D106: =IF($C13=0,"—",COUNTIFS(D_ANNEE,$C$4,D_NIVEAU,$F$4,D_SESSION,"S1",D_GA_NIV,3)) -> — | E106: =IF($C13=0,"—",COUNTIFS(D_ANNEE,$C$4,D_NIVEAU,$F$4,D_SESSION,"S1",D_GA_NIV,4)) -> — | F106: =IF($C13=0,"—",COUNTIFS(D_ANNEE,$C$4,D_NIVEAU,$F$4,D_SESSION,"S1",D_GA_NIV,5)) -> —
A107: =A14 -> Adresse | B107: =IF($C14=0,"—",COUNTIFS(D_ANNEE,$C$4,D_NIVEAU,$F$4,D_SESSION,"S1",D_AD_NIV,1)) -> — | C107: =IF($C14=0,"—",COUNTIFS(D_ANNEE,$C$4,D_NIVEAU,$F$4,D_SESSION,"S1",D_AD_NIV,2)) -> — | D107: =IF($C14=0,"—",COUNTIFS(D_ANNEE,$C$4,D_NIVEAU,$F$4,D_SESSION,"S1",D_AD_NIV,3)) -> — | E107: =IF($C14=0,"—",COUNTIFS(D_ANNEE,$C$4,D_NIVEAU,$F$4,D_SESSION,"S1",D_AD_NIV,4)) -> — | F107: =IF($C14=0,"—",COUNTIFS(D_ANNEE,$C$4,D_NIVEAU,$F$4,D_SESSION,"S1",D_AD_NIV,5)) -> —
A108: =A15 -> Force des jambes | B108: =IF($C15=0,"—",COUNTIFS(D_ANNEE,$C$4,D_NIVEAU,$F$4,D_SESSION,"S1",D_FO_NIV,1)) -> — | C108: =IF($C15=0,"—",COUNTIFS(D_ANNEE,$C$4,D_NIVEAU,$F$4,D_SESSION,"S1",D_FO_NIV,2)) -> — | D108: =IF($C15=0,"—",COUNTIFS(D_ANNEE,$C$4,D_NIVEAU,$F$4,D_SESSION,"S1",D_FO_NIV,3)) -> — | E108: =IF($C15=0,"—",COUNTIFS(D_ANNEE,$C$4,D_NIVEAU,$F$4,D_SESSION,"S1",D_FO_NIV,4)) -> — | F108: =IF($C15=0,"—",COUNTIFS(D_ANNEE,$C$4,D_NIVEAU,$F$4,D_SESSION,"S1",D_FO_NIV,5)) -> —
A110: Session 2 | B110: 1 · Débutant | C110: 2 · En progrès | D110: 3 · Acquis | E110: 4 · Maîtrisé | F110: 5 · Expert
A111: =A8 -> Équilibre | B111: =IF($E8=0,"—",COUNTIFS(D_ANNEE,$C$4,D_NIVEAU,$F$4,D_SESSION,"S2",D_EQ_NIV,1)) -> — | C111: =IF($E8=0,"—",COUNTIFS(D_ANNEE,$C$4,D_NIVEAU,$F$4,D_SESSION,"S2",D_EQ_NIV,2)) -> — | D111: =IF($E8=0,"—",COUNTIFS(D_ANNEE,$C$4,D_NIVEAU,$F$4,D_SESSION,"S2",D_EQ_NIV,3)) -> — | E111: =IF($E8=0,"—",COUNTIFS(D_ANNEE,$C$4,D_NIVEAU,$F$4,D_SESSION,"S2",D_EQ_NIV,4)) -> — | F111: =IF($E8=0,"—",COUNTIFS(D_ANNEE,$C$4,D_NIVEAU,$F$4,D_SESSION,"S2",D_EQ_NIV,5)) -> —
A112: =A9 -> Souplesse | B112: =IF($E9=0,"—",COUNTIFS(D_ANNEE,$C$4,D_NIVEAU,$F$4,D_SESSION,"S2",D_SO_NIV,1)) -> — | C112: =IF($E9=0,"—",COUNTIFS(D_ANNEE,$C$4,D_NIVEAU,$F$4,D_SESSION,"S2",D_SO_NIV,2)) -> — | D112: =IF($E9=0,"—",COUNTIFS(D_ANNEE,$C$4,D_NIVEAU,$F$4,D_SESSION,"S2",D_SO_NIV,3)) -> — | E112: =IF($E9=0,"—",COUNTIFS(D_ANNEE,$C$4,D_NIVEAU,$F$4,D_SESSION,"S2",D_SO_NIV,4)) -> — | F112: =IF($E9=0,"—",COUNTIFS(D_ANNEE,$C$4,D_NIVEAU,$F$4,D_SESSION,"S2",D_SO_NIV,5)) -> —
A113: =A10 -> Vitesse | B113: =IF($E10=0,"—",COUNTIFS(D_ANNEE,$C$4,D_NIVEAU,$F$4,D_SESSION,"S2",D_VI_NIV,1)) -> — | C113: =IF($E10=0,"—",COUNTIFS(D_ANNEE,$C$4,D_NIVEAU,$F$4,D_SESSION,"S2",D_VI_NIV,2)) -> — | D113: =IF($E10=0,"—",COUNTIFS(D_ANNEE,$C$4,D_NIVEAU,$F$4,D_SESSION,"S2",D_VI_NIV,3)) -> — | E113: =IF($E10=0,"—",COUNTIFS(D_ANNEE,$C$4,D_NIVEAU,$F$4,D_SESSION,"S2",D_VI_NIV,4)) -> — | F113: =IF($E10=0,"—",COUNTIFS(D_ANNEE,$C$4,D_NIVEAU,$F$4,D_SESSION,"S2",D_VI_NIV,5)) -> —
A114: =A11 -> Endurance | B114: =IF($E11=0,"—",COUNTIFS(D_ANNEE,$C$4,D_NIVEAU,$F$4,D_SESSION,"S2",D_EN_NIV,1)) -> — | C114: =IF($E11=0,"—",COUNTIFS(D_ANNEE,$C$4,D_NIVEAU,$F$4,D_SESSION,"S2",D_EN_NIV,2)) -> — | D114: =IF($E11=0,"—",COUNTIFS(D_ANNEE,$C$4,D_NIVEAU,$F$4,D_SESSION,"S2",D_EN_NIV,3)) -> — | E114: =IF($E11=0,"—",COUNTIFS(D_ANNEE,$C$4,D_NIVEAU,$F$4,D_SESSION,"S2",D_EN_NIV,4)) -> — | F114: =IF($E11=0,"—",COUNTIFS(D_ANNEE,$C$4,D_NIVEAU,$F$4,D_SESSION,"S2",D_EN_NIV,5)) -> —
A115: =A12 -> Coordination | B115: =IF($E12=0,"—",COUNTIFS(D_ANNEE,$C$4,D_NIVEAU,$F$4,D_SESSION,"S2",D_CO_NIV,1)) -> — | C115: =IF($E12=0,"—",COUNTIFS(D_ANNEE,$C$4,D_NIVEAU,$F$4,D_SESSION,"S2",D_CO_NIV,2)) -> — | D115: =IF($E12=0,"—",COUNTIFS(D_ANNEE,$C$4,D_NIVEAU,$F$4,D_SESSION,"S2",D_CO_NIV,3)) -> — | E115: =IF($E12=0,"—",COUNTIFS(D_ANNEE,$C$4,D_NIVEAU,$F$4,D_SESSION,"S2",D_CO_NIV,4)) -> — | F115: =IF($E12=0,"—",COUNTIFS(D_ANNEE,$C$4,D_NIVEAU,$F$4,D_SESSION,"S2",D_CO_NIV,5)) -> —
A116: =A13 -> Gainage | B116: =IF($E13=0,"—",COUNTIFS(D_ANNEE,$C$4,D_NIVEAU,$F$4,D_SESSION,"S2",D_GA_NIV,1)) -> — | C116: =IF($E13=0,"—",COUNTIFS(D_ANNEE,$C$4,D_NIVEAU,$F$4,D_SESSION,"S2",D_GA_NIV,2)) -> — | D116: =IF($E13=0,"—",COUNTIFS(D_ANNEE,$C$4,D_NIVEAU,$F$4,D_SESSION,"S2",D_GA_NIV,3)) -> — | E116: =IF($E13=0,"—",COUNTIFS(D_ANNEE,$C$4,D_NIVEAU,$F$4,D_SESSION,"S2",D_GA_NIV,4)) -> — | F116: =IF($E13=0,"—",COUNTIFS(D_ANNEE,$C$4,D_NIVEAU,$F$4,D_SESSION,"S2",D_GA_NIV,5)) -> —
A117: =A14 -> Adresse | B117: =IF($E14=0,"—",COUNTIFS(D_ANNEE,$C$4,D_NIVEAU,$F$4,D_SESSION,"S2",D_AD_NIV,1)) -> — | C117: =IF($E14=0,"—",COUNTIFS(D_ANNEE,$C$4,D_NIVEAU,$F$4,D_SESSION,"S2",D_AD_NIV,2)) -> — | D117: =IF($E14=0,"—",COUNTIFS(D_ANNEE,$C$4,D_NIVEAU,$F$4,D_SESSION,"S2",D_AD_NIV,3)) -> — | E117: =IF($E14=0,"—",COUNTIFS(D_ANNEE,$C$4,D_NIVEAU,$F$4,D_SESSION,"S2",D_AD_NIV,4)) -> — | F117: =IF($E14=0,"—",COUNTIFS(D_ANNEE,$C$4,D_NIVEAU,$F$4,D_SESSION,"S2",D_AD_NIV,5)) -> —
A118: =A15 -> Force des jambes | B118: =IF($E15=0,"—",COUNTIFS(D_ANNEE,$C$4,D_NIVEAU,$F$4,D_SESSION,"S2",D_FO_NIV,1)) -> — | C118: =IF($E15=0,"—",COUNTIFS(D_ANNEE,$C$4,D_NIVEAU,$F$4,D_SESSION,"S2",D_FO_NIV,2)) -> — | D118: =IF($E15=0,"—",COUNTIFS(D_ANNEE,$C$4,D_NIVEAU,$F$4,D_SESSION,"S2",D_FO_NIV,3)) -> — | E118: =IF($E15=0,"—",COUNTIFS(D_ANNEE,$C$4,D_NIVEAU,$F$4,D_SESSION,"S2",D_FO_NIV,4)) -> — | F118: =IF($E15=0,"—",COUNTIFS(D_ANNEE,$C$4,D_NIVEAU,$F$4,D_SESSION,"S2",D_FO_NIV,5)) -> —
A120: Effectifs d'élèves par niveau atteint, pour l'année et le niveau scolaire sélectionnés. « — » : test non réalisé sur la session.

Sheet STATS ECOLE
A1: STATISTIQUES ÉTABLISSEMENT | J1: PCT_S1 | K1: PCT_S2 | L1: NIV_S1 | M1: NIV_S2
A2: Vue globale de l'établissement, tous niveaux scolaires confondus. | Q2: =HYPERLINK("#ACCUEIL!A1","← ACCUEIL") -> ← ACCUEIL
C3: ANNÉE SCOLAIRE
C4: =ANNEE_ACTIVE -> 2025-2026
A6: EFFECTIF TOTAL (S1) | C6: SCORE MOYEN S1 | E6: SCORE MOYEN S2 | G6: PROGRESSION MOYENNE
A7: =COUNTIFS(D_ANNEE,$C$4,D_SESSION,"S1") -> 0 | C7: =IFERROR(ROUND(AVERAGEIFS(D_MOYNIV,D_ANNEE,$C$4,D_SESSION,"S1"),2),"Non réalisée") -> Non réalisée | E7: =IFERROR(ROUND(AVERAGEIFS(D_MOYNIV,D_ANNEE,$C$4,D_SESSION,"S2"),2),"Non réalisée") -> Non réalisée | G7: =IF(OR(C7="Non réalisée",E7="Non réalisée"),"Non réalisée",IF(E7-C7>0,"+"&ROUND(E7-C7,2),ROUND(E7-C7,2))) -> Non réalisée
A8: personnes | C8: niveau /5 | E8: niveau /5 | G8: niveau
A10: EFFECTIF & SCORE PAR NIVEAU SCOLAIRE
A11: Niveau | B11: Cycle | C11: Eff. S1 | D11: Eff. S2 | E11: Score S1 | F11: Score S2 | G11: Évolution
A12: CP | B12: Cycle 2 | C12: =COUNTIFS(D_ANNEE,$C$4,D_NIVEAU,"CP",D_SESSION,"S1") -> 0 | D12: =COUNTIFS(D_ANNEE,$C$4,D_NIVEAU,"CP",D_SESSION,"S2") -> 0 | E12: =IFERROR(ROUND(AVERAGEIFS(D_MOYNIV,D_ANNEE,$C$4,D_NIVEAU,"CP",D_SESSION,"S1"),2),"Non réalisée") -> Non réalisée | F12: =IFERROR(ROUND(AVERAGEIFS(D_MOYNIV,D_ANNEE,$C$4,D_NIVEAU,"CP",D_SESSION,"S2"),2),"Non réalisée") -> Non réalisée | G12: =IF(OR(E12="Non réalisée",F12="Non réalisée"),"Non réalisée",IF(F12>E12,"▲ +"&ROUND(F12-E12,2),IF(F12<E12,"▼ "&ROUND(F12-E12,2),"➜ stable"))) -> Non réalisée
A13: CE1 | B13: Cycle 2 | C13: =COUNTIFS(D_ANNEE,$C$4,D_NIVEAU,"CE1",D_SESSION,"S1") -> 0 | D13: =COUNTIFS(D_ANNEE,$C$4,D_NIVEAU,"CE1",D_SESSION,"S2") -> 0 | E13: =IFERROR(ROUND(AVERAGEIFS(D_MOYNIV,D_ANNEE,$C$4,D_NIVEAU,"CE1",D_SESSION,"S1"),2),"Non réalisée") -> Non réalisée | F13: =IFERROR(ROUND(AVERAGEIFS(D_MOYNIV,D_ANNEE,$C$4,D_NIVEAU,"CE1",D_SESSION,"S2"),2),"Non réalisée") -> Non réalisée | G13: =IF(OR(E13="Non réalisée",F13="Non réalisée"),"Non réalisée",IF(F13>E13,"▲ +"&ROUND(F13-E13,2),IF(F13<E13,"▼ "&ROUND(F13-E13,2),"➜ stable"))) -> Non réalisée
A14: CE2 | B14: Cycle 2 | C14: =COUNTIFS(D_ANNEE,$C$4,D_NIVEAU,"CE2",D_SESSION,"S1") -> 0 | D14: =COUNTIFS(D_ANNEE,$C$4,D_NIVEAU,"CE2",D_SESSION,"S2") -> 0 | E14: =IFERROR(ROUND(AVERAGEIFS(D_MOYNIV,D_ANNEE,$C$4,D_NIVEAU,"CE2",D_SESSION,"S1"),2),"Non réalisée") -> Non réalisée | F14: =IFERROR(ROUND(AVERAGEIFS(D_MOYNIV,D_ANNEE,$C$4,D_NIVEAU,"CE2",D_SESSION,"S2"),2),"Non réalisée") -> Non réalisée | G14: =IF(OR(E14="Non réalisée",F14="Non réalisée"),"Non réalisée",IF(F14>E14,"▲ +"&ROUND(F14-E14,2),IF(F14<E14,"▼ "&ROUND(F14-E14,2),"➜ stable"))) -> Non réalisée
A15: CM1 | B15: Cycle 3 | C15: =COUNTIFS(D_ANNEE,$C$4,D_NIVEAU,"CM1",D_SESSION,"S1") -> 0 | D15: =COUNTIFS(D_ANNEE,$C$4,D_NIVEAU,"CM1",D_SESSION,"S2") -> 0 | E15: =IFERROR(ROUND(AVERAGEIFS(D_MOYNIV,D_ANNEE,$C$4,D_NIVEAU,"CM1",D_SESSION,"S1"),2),"Non réalisée") -> Non réalisée | F15: =IFERROR(ROUND(AVERAGEIFS(D_MOYNIV,D_ANNEE,$C$4,D_NIVEAU,"CM1",D_SESSION,"S2"),2),"Non réalisée") -> Non réalisée | G15: =IF(OR(E15="Non réalisée",F15="Non réalisée"),"Non réalisée",IF(F15>E15,"▲ +"&ROUND(F15-E15,2),IF(F15<E15,"▼ "&ROUND(F15-E15,2),"➜ stable"))) -> Non réalisée
A16: CM2 | B16: Cycle 3 | C16: =COUNTIFS(D_ANNEE,$C$4,D_NIVEAU,"CM2",D_SESSION,"S1") -> 0 | D16: =COUNTIFS(D_ANNEE,$C$4,D_NIVEAU,"CM2",D_SESSION,"S2") -> 0 | E16: =IFERROR(ROUND(AVERAGEIFS(D_MOYNIV,D_ANNEE,$C$4,D_NIVEAU,"CM2",D_SESSION,"S1"),2),"Non réalisée") -> Non réalisée | F16: =IFERROR(ROUND(AVERAGEIFS(D_MOYNIV,D_ANNEE,$C$4,D_NIVEAU,"CM2",D_SESSION,"S2"),2),"Non réalisée") -> Non réalisée | G16: =IF(OR(E16="Non réalisée",F16="Non réalisée"),"Non réalisée",IF(F16>E16,"▲ +"&ROUND(F16-E16,2),IF(F16<E16,"▼ "&ROUND(F16-E16,2),"➜ stable"))) -> Non réalisée
A18: PERFORMANCE — PROFIL ÉTABLISSEMENT (TOUS NIVEAUX)
A19: Test | B19: Unité | C19: Eff. S1 | D19: Moy. S1 | E19: Eff. S2 | F19: Moy. S2 | G19: Évolution
A20: Équilibre | B20: sec | C20: =COUNTIFS(D_ANNEE,$C$4,D_SESSION,"S1",D_EQ_NIV,">0") -> 0 | D20: =IFERROR(ROUND(AVERAGEIFS(D_EQ_PERF,D_ANNEE,$C$4,D_SESSION,"S1",D_EQ_NIV,">0"),2),"Non réalisée") -> Non réalisée | E20: =COUNTIFS(D_ANNEE,$C$4,D_SESSION,"S2",D_EQ_NIV,">0") -> 0 | F20: =IFERROR(ROUND(AVERAGEIFS(D_EQ_PERF,D_ANNEE,$C$4,D_SESSION,"S2",D_EQ_NIV,">0"),2),"Non réalisée") -> Non réalisée | G20: =IF(OR(D20="Non réalisée",F20="Non réalisée"),"Non réalisée",IF(F20>D20,"▲ +"&ROUND(F20-D20,2),IF(F20<D20,"▼ "&ROUND(F20-D20,2),"➜ stable"))) -> Non réalisée | J20: =IF(D20="Non réalisée",NA(),D20/PARAMETRES!$G$29) -> #N/A | K20: =IF(F20="Non réalisée",NA(),F20/PARAMETRES!$G$29) -> #N/A | L20: =IF(D31="Non réalisée",NA(),D31) -> #N/A | M20: =IF(F31="Non réalisée",NA(),F31) -> #N/A | N20: 5
A21: Souplesse | B21: zone | C21: =COUNTIFS(D_ANNEE,$C$4,D_SESSION,"S1",D_SO_NIV,">0") -> 0 | D21: =IFERROR(ROUND(AVERAGEIFS(D_SO_PERF,D_ANNEE,$C$4,D_SESSION,"S1",D_SO_NIV,">0"),2),"Non réalisée") -> Non réalisée | E21: =COUNTIFS(D_ANNEE,$C$4,D_SESSION,"S2",D_SO_NIV,">0") -> 0 | F21: =IFERROR(ROUND(AVERAGEIFS(D_SO_PERF,D_ANNEE,$C$4,D_SESSION,"S2",D_SO_NIV,">0"),2),"Non réalisée") -> Non réalisée | G21: =IF(OR(D21="Non réalisée",F21="Non réalisée"),"Non réalisée",IF(F21>D21,"▲ +"&ROUND(F21-D21,2),IF(F21<D21,"▼ "&ROUND(F21-D21,2),"➜ stable"))) -> Non réalisée | J21: =IF(D21="Non réalisée",NA(),D21/PARAMETRES!$G$30) -> #N/A | K21: =IF(F21="Non réalisée",NA(),F21/PARAMETRES!$G$30) -> #N/A | L21: =IF(D32="Non réalisée",NA(),D32) -> #N/A | M21: =IF(F32="Non réalisée",NA(),F32) -> #N/A | N21: 5
A22: Vitesse | B22: m | C22: =COUNTIFS(D_ANNEE,$C$4,D_SESSION,"S1",D_VI_NIV,">0") -> 0 | D22: =IFERROR(ROUND(AVERAGEIFS(D_VI_PERF,D_ANNEE,$C$4,D_SESSION,"S1",D_VI_NIV,">0"),2),"Non réalisée") -> Non réalisée | E22: =COUNTIFS(D_ANNEE,$C$4,D_SESSION,"S2",D_VI_NIV,">0") -> 0 | F22: =IFERROR(ROUND(AVERAGEIFS(D_VI_PERF,D_ANNEE,$C$4,D_SESSION,"S2",D_VI_NIV,">0"),2),"Non réalisée") -> Non réalisée | G22: =IF(OR(D22="Non réalisée",F22="Non réalisée"),"Non réalisée",IF(F22>D22,"▲ +"&ROUND(F22-D22,2),IF(F22<D22,"▼ "&ROUND(F22-D22,2),"➜ stable"))) -> Non réalisée | J22: =IF(D22="Non réalisée",NA(),D22/PARAMETRES!$G$32) -> #N/A | K22: =IF(F22="Non réalisée",NA(),F22/PARAMETRES!$G$32) -> #N/A | L22: =IF(D33="Non réalisée",NA(),D33) -> #N/A | M22: =IF(F33="Non réalisée",NA(),F33) -> #N/A | N22: 5
A23: Endurance | B23: long. | C23: =COUNTIFS(D_ANNEE,$C$4,D_SESSION,"S1",D_EN_NIV,">0") -> 0 | D23: =IFERROR(ROUND(AVERAGEIFS(D_EN_PERF,D_ANNEE,$C$4,D_SESSION,"S1",D_EN_NIV,">0"),2),"Non réalisée") -> Non réalisée | E23: =COUNTIFS(D_ANNEE,$C$4,D_SESSION,"S2",D_EN_NIV,">0") -> 0 | F23: =IFERROR(ROUND(AVERAGEIFS(D_EN_PERF,D_ANNEE,$C$4,D_SESSION,"S2",D_EN_NIV,">0"),2),"Non réalisée") -> Non réalisée | G23: =IF(OR(D23="Non réalisée",F23="Non réalisée"),"Non réalisée",IF(F23>D23,"▲ +"&ROUND(F23-D23,2),IF(F23<D23,"▼ "&ROUND(F23-D23,2),"➜ stable"))) -> Non réalisée | J23: =IF(D23="Non réalisée",NA(),D23/PARAMETRES!$G$33) -> #N/A | K23: =IF(F23="Non réalisée",NA(),F23/PARAMETRES!$G$33) -> #N/A | L23: =IF(D34="Non réalisée",NA(),D34) -> #N/A | M23: =IF(F34="Non réalisée",NA(),F34) -> #N/A | N23: 5
A24: Coordination | B24: cases | C24: =COUNTIFS(D_ANNEE,$C$4,D_SESSION,"S1",D_CO_NIV,">0") -> 0 | D24: =IFERROR(ROUND(AVERAGEIFS(D_CO_PERF,D_ANNEE,$C$4,D_SESSION,"S1",D_CO_NIV,">0"),2),"Non réalisée") -> Non réalisée | E24: =COUNTIFS(D_ANNEE,$C$4,D_SESSION,"S2",D_CO_NIV,">0") -> 0 | F24: =IFERROR(ROUND(AVERAGEIFS(D_CO_PERF,D_ANNEE,$C$4,D_SESSION,"S2",D_CO_NIV,">0"),2),"Non réalisée") -> Non réalisée | G24: =IF(OR(D24="Non réalisée",F24="Non réalisée"),"Non réalisée",IF(F24>D24,"▲ +"&ROUND(F24-D24,2),IF(F24<D24,"▼ "&ROUND(F24-D24,2),"➜ stable"))) -> Non réalisée | J24: =IF(D24="Non réalisée",NA(),D24/PARAMETRES!$G$34) -> #N/A | K24: =IF(F24="Non réalisée",NA(),F24/PARAMETRES!$G$34) -> #N/A | L24: =IF(D35="Non réalisée",NA(),D35) -> #N/A | M24: =IF(F35="Non réalisée",NA(),F35) -> #N/A | N24: 5
A25: Gainage | B25: sec | C25: =COUNTIFS(D_ANNEE,$C$4,D_SESSION,"S1",D_GA_NIV,">0") -> 0 | D25: =IFERROR(ROUND(AVERAGEIFS(D_GA_PERF,D_ANNEE,$C$4,D_SESSION,"S1",D_GA_NIV,">0"),2),"Non réalisée") -> Non réalisée | E25: =COUNTIFS(D_ANNEE,$C$4,D_SESSION,"S2",D_GA_NIV,">0") -> 0 | F25: =IFERROR(ROUND(AVERAGEIFS(D_GA_PERF,D_ANNEE,$C$4,D_SESSION,"S2",D_GA_NIV,">0"),2),"Non réalisée") -> Non réalisée | G25: =IF(OR(D25="Non réalisée",F25="Non réalisée"),"Non réalisée",IF(F25>D25,"▲ +"&ROUND(F25-D25,2),IF(F25<D25,"▼ "&ROUND(F25-D25,2),"➜ stable"))) -> Non réalisée | J25: =IF(D25="Non réalisée",NA(),D25/PARAMETRES!$G$35) -> #N/A | K25: =IF(F25="Non réalisée",NA(),F25/PARAMETRES!$G$35) -> #N/A | L25: =IF(D36="Non réalisée",NA(),D36) -> #N/A | M25: =IF(F36="Non réalisée",NA(),F36) -> #N/A | N25: 5
A26: Adresse | B26: lancers | C26: =COUNTIFS(D_ANNEE,$C$4,D_SESSION,"S1",D_AD_NIV,">0") -> 0 | D26: =IFERROR(ROUND(AVERAGEIFS(D_AD_PERF,D_ANNEE,$C$4,D_SESSION,"S1",D_AD_NIV,">0"),2),"Non réalisée") -> Non réalisée | E26: =COUNTIFS(D_ANNEE,$C$4,D_SESSION,"S2",D_AD_NIV,">0") -> 0 | F26: =IFERROR(ROUND(AVERAGEIFS(D_AD_PERF,D_ANNEE,$C$4,D_SESSION,"S2",D_AD_NIV,">0"),2),"Non réalisée") -> Non réalisée | G26: =IF(OR(D26="Non réalisée",F26="Non réalisée"),"Non réalisée",IF(F26>D26,"▲ +"&ROUND(F26-D26,2),IF(F26<D26,"▼ "&ROUND(F26-D26,2),"➜ stable"))) -> Non réalisée | J26: =IF(D26="Non réalisée",NA(),D26/PARAMETRES!$G$36) -> #N/A | K26: =IF(F26="Non réalisée",NA(),F26/PARAMETRES!$G$36) -> #N/A | L26: =IF(D37="Non réalisée",NA(),D37) -> #N/A | M26: =IF(F37="Non réalisée",NA(),F37) -> #N/A | N26: 5
A27: Force des jambes | B27: m | C27: =COUNTIFS(D_ANNEE,$C$4,D_SESSION,"S1",D_FO_NIV,">0") -> 0 | D27: =IFERROR(ROUND(AVERAGEIFS(D_FO_PERF,D_ANNEE,$C$4,D_SESSION,"S1",D_FO_NIV,">0"),2),"Non réalisée") -> Non réalisée | E27: =COUNTIFS(D_ANNEE,$C$4,D_SESSION,"S2",D_FO_NIV,">0") -> 0 | F27: =IFERROR(ROUND(AVERAGEIFS(D_FO_PERF,D_ANNEE,$C$4,D_SESSION,"S2",D_FO_NIV,">0"),2),"Non réalisée") -> Non réalisée | G27: =IF(OR(D27="Non réalisée",F27="Non réalisée"),"Non réalisée",IF(F27>D27,"▲ +"&ROUND(F27-D27,2),IF(F27<D27,"▼ "&ROUND(F27-D27,2),"➜ stable"))) -> Non réalisée | J27: =IF(D27="Non réalisée",NA(),D27/PARAMETRES!$G$37) -> #N/A | K27: =IF(F27="Non réalisée",NA(),F27/PARAMETRES!$G$37) -> #N/A | L27: =IF(D38="Non réalisée",NA(),D38) -> #N/A | M27: =IF(F38="Non réalisée",NA(),F38) -> #N/A | N27: 5
A29: NIVEAU — PROFIL ÉTABLISSEMENT (TOUS NIVEAUX)
A30: Test | C30: Eff. S1 | D30: Niveau moy. S1 | E30: Eff. S2 | F30: Niveau moy. S2 | G30: Évolution
A31: Équilibre | C31: =COUNTIFS(D_ANNEE,$C$4,D_SESSION,"S1",D_EQ_NIV,">0") -> 0 | D31: =IFERROR(ROUND(AVERAGEIFS(D_EQ_NIV,D_ANNEE,$C$4,D_SESSION,"S1",D_EQ_NIV,">0"),2),"Non réalisée") -> Non réalisée | E31: =COUNTIFS(D_ANNEE,$C$4,D_SESSION,"S2",D_EQ_NIV,">0") -> 0 | F31: =IFERROR(ROUND(AVERAGEIFS(D_EQ_NIV,D_ANNEE,$C$4,D_SESSION,"S2",D_EQ_NIV,">0"),2),"Non réalisée") -> Non réalisée | G31: =IF(OR(D31="Non réalisée",F31="Non réalisée"),"Non réalisée",IF(F31>D31,"▲ +"&ROUND(F31-D31,2),IF(F31<D31,"▼ "&ROUND(F31-D31,2),"➜ stable"))) -> Non réalisée
A32: Souplesse | C32: =COUNTIFS(D_ANNEE,$C$4,D_SESSION,"S1",D_SO_NIV,">0") -> 0 | D32: =IFERROR(ROUND(AVERAGEIFS(D_SO_NIV,D_ANNEE,$C$4,D_SESSION,"S1",D_SO_NIV,">0"),2),"Non réalisée") -> Non réalisée | E32: =COUNTIFS(D_ANNEE,$C$4,D_SESSION,"S2",D_SO_NIV,">0") -> 0 | F32: =IFERROR(ROUND(AVERAGEIFS(D_SO_NIV,D_ANNEE,$C$4,D_SESSION,"S2",D_SO_NIV,">0"),2),"Non réalisée") -> Non réalisée | G32: =IF(OR(D32="Non réalisée",F32="Non réalisée"),"Non réalisée",IF(F32>D32,"▲ +"&ROUND(F32-D32,2),IF(F32<D32,"▼ "&ROUND(F32-D32,2),"➜ stable"))) -> Non réalisée
A33: Vitesse | C33: =COUNTIFS(D_ANNEE,$C$4,D_SESSION,"S1",D_VI_NIV,">0") -> 0 | D33: =IFERROR(ROUND(AVERAGEIFS(D_VI_NIV,D_ANNEE,$C$4,D_SESSION,"S1",D_VI_NIV,">0"),2),"Non réalisée") -> Non réalisée | E33: =COUNTIFS(D_ANNEE,$C$4,D_SESSION,"S2",D_VI_NIV,">0") -> 0 | F33: =IFERROR(ROUND(AVERAGEIFS(D_VI_NIV,D_ANNEE,$C$4,D_SESSION,"S2",D_VI_NIV,">0"),2),"Non réalisée") -> Non réalisée | G33: =IF(OR(D33="Non réalisée",F33="Non réalisée"),"Non réalisée",IF(F33>D33,"▲ +"&ROUND(F33-D33,2),IF(F33<D33,"▼ "&ROUND(F33-D33,2),"➜ stable"))) -> Non réalisée
A34: Endurance | C34: =COUNTIFS(D_ANNEE,$C$4,D_SESSION,"S1",D_EN_NIV,">0") -> 0 | D34: =IFERROR(ROUND(AVERAGEIFS(D_EN_NIV,D_ANNEE,$C$4,D_SESSION,"S1",D_EN_NIV,">0"),2),"Non réalisée") -> Non réalisée | E34: =COUNTIFS(D_ANNEE,$C$4,D_SESSION,"S2",D_EN_NIV,">0") -> 0 | F34: =IFERROR(ROUND(AVERAGEIFS(D_EN_NIV,D_ANNEE,$C$4,D_SESSION,"S2",D_EN_NIV,">0"),2),"Non réalisée") -> Non réalisée | G34: =IF(OR(D34="Non réalisée",F34="Non réalisée"),"Non réalisée",IF(F34>D34,"▲ +"&ROUND(F34-D34,2),IF(F34<D34,"▼ "&ROUND(F34-D34,2),"➜ stable"))) -> Non réalisée
A35: Coordination | C35: =COUNTIFS(D_ANNEE,$C$4,D_SESSION,"S1",D_CO_NIV,">0") -> 0 | D35: =IFERROR(ROUND(AVERAGEIFS(D_CO_NIV,D_ANNEE,$C$4,D_SESSION,"S1",D_CO_NIV,">0"),2),"Non réalisée") -> Non réalisée | E35: =COUNTIFS(D_ANNEE,$C$4,D_SESSION,"S2",D_CO_NIV,">0") -> 0 | F35: =IFERROR(ROUND(AVERAGEIFS(D_CO_NIV,D_ANNEE,$C$4,D_SESSION,"S2",D_CO_NIV,">0"),2),"Non réalisée") -> Non réalisée | G35: =IF(OR(D35="Non réalisée",F35="Non réalisée"),"Non réalisée",IF(F35>D35,"▲ +"&ROUND(F35-D35,2),IF(F35<D35,"▼ "&ROUND(F35-D35,2),"➜ stable"))) -> Non réalisée
A36: Gainage | C36: =COUNTIFS(D_ANNEE,$C$4,D_SESSION,"S1",D_GA_NIV,">0") -> 0 | D36: =IFERROR(ROUND(AVERAGEIFS(D_GA_NIV,D_ANNEE,$C$4,D_SESSION,"S1",D_GA_NIV,">0"),2),"Non réalisée") -> Non réalisée | E36: =COUNTIFS(D_ANNEE,$C$4,D_SESSION,"S2",D_GA_NIV,">0") -> 0 | F36: =IFERROR(ROUND(AVERAGEIFS(D_GA_NIV,D_ANNEE,$C$4,D_SESSION,"S2",D_GA_NIV,">0"),2),"Non réalisée") -> Non réalisée | G36: =IF(OR(D36="Non réalisée",F36="Non réalisée"),"Non réalisée",IF(F36>D36,"▲ +"&ROUND(F36-D36,2),IF(F36<D36,"▼ "&ROUND(F36-D36,2),"➜ stable"))) -> Non réalisée
A37: Adresse | C37: =COUNTIFS(D_ANNEE,$C$4,D_SESSION,"S1",D_AD_NIV,">0") -> 0 | D37: =IFERROR(ROUND(AVERAGEIFS(D_AD_NIV,D_ANNEE,$C$4,D_SESSION,"S1",D_AD_NIV,">0"),2),"Non réalisée") -> Non réalisée | E37: =COUNTIFS(D_ANNEE,$C$4,D_SESSION,"S2",D_AD_NIV,">0") -> 0 | F37: =IFERROR(ROUND(AVERAGEIFS(D_AD_NIV,D_ANNEE,$C$4,D_SESSION,"S2",D_AD_NIV,">0"),2),"Non réalisée") -> Non réalisée | G37: =IF(OR(D37="Non réalisée",F37="Non réalisée"),"Non réalisée",IF(F37>D37,"▲ +"&ROUND(F37-D37,2),IF(F37<D37,"▼ "&ROUND(F37-D37,2),"➜ stable"))) -> Non réalisée
A38: Force des jambes | C38: =COUNTIFS(D_ANNEE,$C$4,D_SESSION,"S1",D_FO_NIV,">0") -> 0 | D38: =IFERROR(ROUND(AVERAGEIFS(D_FO_NIV,D_ANNEE,$C$4,D_SESSION,"S1",D_FO_NIV,">0"),2),"Non réalisée") -> Non réalisée | E38: =COUNTIFS(D_ANNEE,$C$4,D_SESSION,"S2",D_FO_NIV,">0") -> 0 | F38: =IFERROR(ROUND(AVERAGEIFS(D_FO_NIV,D_ANNEE,$C$4,D_SESSION,"S2",D_FO_NIV,">0"),2),"Non réalisée") -> Non réalisée | G38: =IF(OR(D38="Non réalisée",F38="Non réalisée"),"Non réalisée",IF(F38>D38,"▲ +"&ROUND(F38-D38,2),IF(F38<D38,"▼ "&ROUND(F38-D38,2),"➜ stable"))) -> Non réalisée
A40: ÉVOLUTION ANNUELLE — HISTORIQUE (SCORE MOYEN /5)
A41: Année scolaire | B41: Effectif S1 | C41: Score moy. S1 | D41: Score moy. S2 | N41: EVO_S1 | O41: EVO_S2
A42: =INDEX(LISTE_ANNEES,1) -> 2025-2026 | B42: =COUNTIFS(D_ANNEE,$A42,D_SESSION,"S1") -> 0 | C42: =IFERROR(ROUND(AVERAGEIFS(D_MOYNIV,D_ANNEE,$A42,D_SESSION,"S1"),2),"À venir") -> À venir | D42: =IFERROR(ROUND(AVERAGEIFS(D_MOYNIV,D_ANNEE,$A42,D_SESSION,"S2"),2),"À venir") -> À venir | N42: =IF(C42="À venir",NA(),C42) -> #N/A | O42: =IF(D42="À venir",NA(),D42) -> #N/A
A43: =INDEX(LISTE_ANNEES,2) -> 2026-2027 | B43: =COUNTIFS(D_ANNEE,$A43,D_SESSION,"S1") -> 0 | C43: =IFERROR(ROUND(AVERAGEIFS(D_MOYNIV,D_ANNEE,$A43,D_SESSION,"S1"),2),"À venir") -> À venir | D43: =IFERROR(ROUND(AVERAGEIFS(D_MOYNIV,D_ANNEE,$A43,D_SESSION,"S2"),2),"À venir") -> À venir | N43: =IF(C43="À venir",NA(),C43) -> #N/A | O43: =IF(D43="À venir",NA(),D43) -> #N/A
A44: =INDEX(LISTE_ANNEES,3) -> 2027-2028 | B44: =COUNTIFS(D_ANNEE,$A44,D_SESSION,"S1") -> 0 | C44: =IFERROR(ROUND(AVERAGEIFS(D_MOYNIV,D_ANNEE,$A44,D_SESSION,"S1"),2),"À venir") -> À venir | D44: =IFERROR(ROUND(AVERAGEIFS(D_MOYNIV,D_ANNEE,$A44,D_SESSION,"S2"),2),"À venir") -> À venir | N44: =IF(C44="À venir",NA(),C44) -> #N/A | O44: =IF(D44="À venir",NA(),D44) -> #N/A
A45: =INDEX(LISTE_ANNEES,4) -> 2028-2029 | B45: =COUNTIFS(D_ANNEE,$A45,D_SESSION,"S1") -> 0 | C45: =IFERROR(ROUND(AVERAGEIFS(D_MOYNIV,D_ANNEE,$A45,D_SESSION,"S1"),2),"À venir") -> À venir | D45: =IFERROR(ROUND(AVERAGEIFS(D_MOYNIV,D_ANNEE,$A45,D_SESSION,"S2"),2),"À venir") -> À venir | N45: =IF(C45="À venir",NA(),C45) -> #N/A | O45: =IF(D45="À venir",NA(),D45) -> #N/A
A46: =INDEX(LISTE_ANNEES,5) -> 2029-2030 | B46: =COUNTIFS(D_ANNEE,$A46,D_SESSION,"S1") -> 0 | C46: =IFERROR(ROUND(AVERAGEIFS(D_MOYNIV,D_ANNEE,$A46,D_SESSION,"S1"),2),"À venir") -> À venir | D46: =IFERROR(ROUND(AVERAGEIFS(D_MOYNIV,D_ANNEE,$A46,D_SESSION,"S2"),2),"À venir") -> À venir | N46: =IF(C46="À venir",NA(),C46) -> #N/A | O46: =IF(D46="À venir",NA(),D46) -> #N/A
A47: =INDEX(LISTE_ANNEES,6) -> 2030-2031 | B47: =COUNTIFS(D_ANNEE,$A47,D_SESSION,"S1") -> 0 | C47: =IFERROR(ROUND(AVERAGEIFS(D_MOYNIV,D_ANNEE,$A47,D_SESSION,"S1"),2),"À venir") -> À venir | D47: =IFERROR(ROUND(AVERAGEIFS(D_MOYNIV,D_ANNEE,$A47,D_SESSION,"S2"),2),"À venir") -> À venir | N47: =IF(C47="À venir",NA(),C47) -> #N/A | O47: =IF(D47="À venir",NA(),D47) -> #N/A
A48: =INDEX(LISTE_ANNEES,7) -> 2031-2032 | B48: =COUNTIFS(D_ANNEE,$A48,D_SESSION,"S1") -> 0 | C48: =IFERROR(ROUND(AVERAGEIFS(D_MOYNIV,D_ANNEE,$A48,D_SESSION,"S1"),2),"À venir") -> À venir | D48: =IFERROR(ROUND(AVERAGEIFS(D_MOYNIV,D_ANNEE,$A48,D_SESSION,"S2"),2),"À venir") -> À venir | N48: =IF(C48="À venir",NA(),C48) -> #N/A | O48: =IF(D48="À venir",NA(),D48) -> #N/A
A49: =INDEX(LISTE_ANNEES,8) -> 2032-2033 | B49: =COUNTIFS(D_ANNEE,$A49,D_SESSION,"S1") -> 0 | C49: =IFERROR(ROUND(AVERAGEIFS(D_MOYNIV,D_ANNEE,$A49,D_SESSION,"S1"),2),"À venir") -> À venir | D49: =IFERROR(ROUND(AVERAGEIFS(D_MOYNIV,D_ANNEE,$A49,D_SESSION,"S2"),2),"À venir") -> À venir | N49: =IF(C49="À venir",NA(),C49) -> #N/A | O49: =IF(D49="À venir",NA(),D49) -> #N/A
A51: INDICATEURS DE PROGRESSION (TOUS TESTS CONFONDUS, ÉCOLE ENTIÈRE)
A52: =IF(SUMIFS(D_NB_PROG,D_ANNEE,$C$4)+SUMIFS(D_NB_STAB,D_ANNEE,$C$4)+SUMIFS(D_NB_REG,D_ANNEE,$C$4)=0,"Non réalisée",ROUND(SUMIFS(D_NB_PROG,D_ANNEE,$C$4)/(SUMIFS(D_NB_PROG,D_ANNEE,$C$4)+SUMIFS(D_NB_STAB,D_ANNEE,$C$4)+SUMIFS(D_NB_REG,D_ANNEE,$C$4))*100,0)&"% "&"EN PROGRESSION") -> Non réalisée | C52: =IF(SUMIFS(D_NB_PROG,D_ANNEE,$C$4)+SUMIFS(D_NB_STAB,D_ANNEE,$C$4)+SUMIFS(D_NB_REG,D_ANNEE,$C$4)=0,"Non réalisée",ROUND(SUMIFS(D_NB_STAB,D_ANNEE,$C$4)/(SUMIFS(D_NB_PROG,D_ANNEE,$C$4)+SUMIFS(D_NB_STAB,D_ANNEE,$C$4)+SUMIFS(D_NB_REG,D_ANNEE,$C$4))*100,0)&"% "&"STABLES") -> Non réalisée | E52: =IF(SUMIFS(D_NB_PROG,D_ANNEE,$C$4)+SUMIFS(D_NB_STAB,D_ANNEE,$C$4)+SUMIFS(D_NB_REG,D_ANNEE,$C$4)=0,"Non réalisée",ROUND(SUMIFS(D_NB_REG,D_ANNEE,$C$4)/(SUMIFS(D_NB_PROG,D_ANNEE,$C$4)+SUMIFS(D_NB_STAB,D_ANNEE,$C$4)+SUMIFS(D_NB_REG,D_ANNEE,$C$4))*100,0)&"% "&"EN RÉGRESSION") -> Non réalisée
A53: ="Basé sur "&(SUMIFS(D_NB_PROG,D_ANNEE,$C$4)+SUMIFS(D_NB_STAB,D_ANNEE,$C$4)+SUMIFS(D_NB_REG,D_ANNEE,$C$4))&" mesures comparables (test réalisé en S1 et en S2 par le même élève), toute l'école confondue." -> Basé sur 0 mesures comparables (test réalisé en S1 et en S2 par le même élève), toute l'école confondue.
A55: RÉPARTITION DES NIVEAUX UGSEL (TOUS TESTS, ÉCOLE ENTIÈRE)
A56: Niveau | B56: Libellé | C56: Effectif S1 | D56: Effectif S2 | E56: % S1 | F56: % S2
A57: 1 | B57: Débutant | C57: =COUNTIFS(D_ANNEE,$C$4,D_SESSION,"S1",D_EQ_NIV,1)+COUNTIFS(D_ANNEE,$C$4,D_SESSION,"S1",D_SO_NIV,1)+COUNTIFS(D_ANNEE,$C$4,D_SESSION,"S1",D_VI_NIV,1)+COUNTIFS(D_ANNEE,$C$4,D_SESSION,"S1",D_EN_NIV,1)+COUNTIFS(D_ANNEE,$C$4,D_SESSION,"S1",D_CO_NIV,1)+COUNTIFS(D_ANNEE,$C$4,D_SESSION,"S1",D_GA_NIV,1)+COUNTIFS(D_ANNEE,$C$4,D_SESSION,"S1",D_AD_NIV,1)+COUNTIFS(D_ANNEE,$C$4,D_SESSION,"S1",D_FO_NIV,1) -> 0 | D57: =COUNTIFS(D_ANNEE,$C$4,D_SESSION,"S2",D_EQ_NIV,1)+COUNTIFS(D_ANNEE,$C$4,D_SESSION,"S2",D_SO_NIV,1)+COUNTIFS(D_ANNEE,$C$4,D_SESSION,"S2",D_VI_NIV,1)+COUNTIFS(D_ANNEE,$C$4,D_SESSION,"S2",D_EN_NIV,1)+COUNTIFS(D_ANNEE,$C$4,D_SESSION,"S2",D_CO_NIV,1)+COUNTIFS(D_ANNEE,$C$4,D_SESSION,"S2",D_GA_NIV,1)+COUNTIFS(D_ANNEE,$C$4,D_SESSION,"S2",D_AD_NIV,1)+COUNTIFS(D_ANNEE,$C$4,D_SESSION,"S2",D_FO_NIV,1) -> 0 | E57: =IFERROR(C57/SUM($C$57:$C$61),0) -> 0 | F57: =IFERROR(D57/SUM($D$57:$D$61),0) -> 0
A58: 2 | B58: En progrès | C58: =COUNTIFS(D_ANNEE,$C$4,D_SESSION,"S1",D_EQ_NIV,2)+COUNTIFS(D_ANNEE,$C$4,D_SESSION,"S1",D_SO_NIV,2)+COUNTIFS(D_ANNEE,$C$4,D_SESSION,"S1",D_VI_NIV,2)+COUNTIFS(D_ANNEE,$C$4,D_SESSION,"S1",D_EN_NIV,2)+COUNTIFS(D_ANNEE,$C$4,D_SESSION,"S1",D_CO_NIV,2)+COUNTIFS(D_ANNEE,$C$4,D_SESSION,"S1",D_GA_NIV,2)+COUNTIFS(D_ANNEE,$C$4,D_SESSION,"S1",D_AD_NIV,2)+COUNTIFS(D_ANNEE,$C$4,D_SESSION,"S1",D_FO_NIV,2) -> 0 | D58: =COUNTIFS(D_ANNEE,$C$4,D_SESSION,"S2",D_EQ_NIV,2)+COUNTIFS(D_ANNEE,$C$4,D_SESSION,"S2",D_SO_NIV,2)+COUNTIFS(D_ANNEE,$C$4,D_SESSION,"S2",D_VI_NIV,2)+COUNTIFS(D_ANNEE,$C$4,D_SESSION,"S2",D_EN_NIV,2)+COUNTIFS(D_ANNEE,$C$4,D_SESSION,"S2",D_CO_NIV,2)+COUNTIFS(D_ANNEE,$C$4,D_SESSION,"S2",D_GA_NIV,2)+COUNTIFS(D_ANNEE,$C$4,D_SESSION,"S2",D_AD_NIV,2)+COUNTIFS(D_ANNEE,$C$4,D_SESSION,"S2",D_FO_NIV,2) -> 0 | E58: =IFERROR(C58/SUM($C$57:$C$61),0) -> 0 | F58: =IFERROR(D58/SUM($D$57:$D$61),0) -> 0
A59: 3 | B59: Acquis | C59: =COUNTIFS(D_ANNEE,$C$4,D_SESSION,"S1",D_EQ_NIV,3)+COUNTIFS(D_ANNEE,$C$4,D_SESSION,"S1",D_SO_NIV,3)+COUNTIFS(D_ANNEE,$C$4,D_SESSION,"S1",D_VI_NIV,3)+COUNTIFS(D_ANNEE,$C$4,D_SESSION,"S1",D_EN_NIV,3)+COUNTIFS(D_ANNEE,$C$4,D_SESSION,"S1",D_CO_NIV,3)+COUNTIFS(D_ANNEE,$C$4,D_SESSION,"S1",D_GA_NIV,3)+COUNTIFS(D_ANNEE,$C$4,D_SESSION,"S1",D_AD_NIV,3)+COUNTIFS(D_ANNEE,$C$4,D_SESSION,"S1",D_FO_NIV,3) -> 0 | D59: =COUNTIFS(D_ANNEE,$C$4,D_SESSION,"S2",D_EQ_NIV,3)+COUNTIFS(D_ANNEE,$C$4,D_SESSION,"S2",D_SO_NIV,3)+COUNTIFS(D_ANNEE,$C$4,D_SESSION,"S2",D_VI_NIV,3)+COUNTIFS(D_ANNEE,$C$4,D_SESSION,"S2",D_EN_NIV,3)+COUNTIFS(D_ANNEE,$C$4,D_SESSION,"S2",D_CO_NIV,3)+COUNTIFS(D_ANNEE,$C$4,D_SESSION,"S2",D_GA_NIV,3)+COUNTIFS(D_ANNEE,$C$4,D_SESSION,"S2",D_AD_NIV,3)+COUNTIFS(D_ANNEE,$C$4,D_SESSION,"S2",D_FO_NIV,3) -> 0 | E59: =IFERROR(C59/SUM($C$57:$C$61),0) -> 0 | F59: =IFERROR(D59/SUM($D$57:$D$61),0) -> 0
A60: 4 | B60: Maîtrisé | C60: =COUNTIFS(D_ANNEE,$C$4,D_SESSION,"S1",D_EQ_NIV,4)+COUNTIFS(D_ANNEE,$C$4,D_SESSION,"S1",D_SO_NIV,4)+COUNTIFS(D_ANNEE,$C$4,D_SESSION,"S1",D_VI_NIV,4)+COUNTIFS(D_ANNEE,$C$4,D_SESSION,"S1",D_EN_NIV,4)+COUNTIFS(D_ANNEE,$C$4,D_SESSION,"S1",D_CO_NIV,4)+COUNTIFS(D_ANNEE,$C$4,D_SESSION,"S1",D_GA_NIV,4)+COUNTIFS(D_ANNEE,$C$4,D_SESSION,"S1",D_AD_NIV,4)+COUNTIFS(D_ANNEE,$C$4,D_SESSION,"S1",D_FO_NIV,4) -> 0 | D60: =COUNTIFS(D_ANNEE,$C$4,D_SESSION,"S2",D_EQ_NIV,4)+COUNTIFS(D_ANNEE,$C$4,D_SESSION,"S2",D_SO_NIV,4)+COUNTIFS(D_ANNEE,$C$4,D_SESSION,"S2",D_VI_NIV,4)+COUNTIFS(D_ANNEE,$C$4,D_SESSION,"S2",D_EN_NIV,4)+COUNTIFS(D_ANNEE,$C$4,D_SESSION,"S2",D_CO_NIV,4)+COUNTIFS(D_ANNEE,$C$4,D_SESSION,"S2",D_GA_NIV,4)+COUNTIFS(D_ANNEE,$C$4,D_SESSION,"S2",D_AD_NIV,4)+COUNTIFS(D_ANNEE,$C$4,D_SESSION,"S2",D_FO_NIV,4) -> 0 | E60: =IFERROR(C60/SUM($C$57:$C$61),0) -> 0 | F60: =IFERROR(D60/SUM($D$57:$D$61),0) -> 0
A61: 5 | B61: Expert | C61: =COUNTIFS(D_ANNEE,$C$4,D_SESSION,"S1",D_EQ_NIV,5)+COUNTIFS(D_ANNEE,$C$4,D_SESSION,"S1",D_SO_NIV,5)+COUNTIFS(D_ANNEE,$C$4,D_SESSION,"S1",D_VI_NIV,5)+COUNTIFS(D_ANNEE,$C$4,D_SESSION,"S1",D_EN_NIV,5)+COUNTIFS(D_ANNEE,$C$4,D_SESSION,"S1",D_CO_NIV,5)+COUNTIFS(D_ANNEE,$C$4,D_SESSION,"S1",D_GA_NIV,5)+COUNTIFS(D_ANNEE,$C$4,D_SESSION,"S1",D_AD_NIV,5)+COUNTIFS(D_ANNEE,$C$4,D_SESSION,"S1",D_FO_NIV,5) -> 0 | D61: =COUNTIFS(D_ANNEE,$C$4,D_SESSION,"S2",D_EQ_NIV,5)+COUNTIFS(D_ANNEE,$C$4,D_SESSION,"S2",D_SO_NIV,5)+COUNTIFS(D_ANNEE,$C$4,D_SESSION,"S2",D_VI_NIV,5)+COUNTIFS(D_ANNEE,$C$4,D_SESSION,"S2",D_EN_NIV,5)+COUNTIFS(D_ANNEE,$C$4,D_SESSION,"S2",D_CO_NIV,5)+COUNTIFS(D_ANNEE,$C$4,D_SESSION,"S2",D_GA_NIV,5)+COUNTIFS(D_ANNEE,$C$4,D_SESSION,"S2",D_AD_NIV,5)+COUNTIFS(D_ANNEE,$C$4,D_SESSION,"S2",D_FO_NIV,5) -> 0 | E61: =IFERROR(C61/SUM($C$57:$C$61),0) -> 0 | F61: =IFERROR(D61/SUM($D$57:$D$61),0) -> 0
A117: PERFORMANCE RÉELLE PAR TEST (S1 vs S2)
E118: S1 | G118: S2 | H118: Évolution
C119: =A20 -> Équilibre | E119: =D20 -> Non réalisée | F119: ▶ | G119: =F20 -> Non réalisée | H119: =IF(OR(ISTEXT(F20),ISTEXT(D20),F20="",D20="",D20=0),"",IF(F20>D20,"▲ +"&ROUND((F20-D20)/D20*100,0)&"%",IF(F20<D20,"▼ "&ROUND((F20-D20)/D20*100,0)&"%","→ stable")))
C120: =A21 -> Souplesse | E120: =D21 -> Non réalisée | F120: ▶ | G120: =F21 -> Non réalisée | H120: =IF(OR(ISTEXT(F21),ISTEXT(D21),F21="",D21="",D21=0),"",IF(F21>D21,"▲ +"&ROUND((F21-D21)/D21*100,0)&"%",IF(F21<D21,"▼ "&ROUND((F21-D21)/D21*100,0)&"%","→ stable")))
C121: =A22 -> Vitesse | E121: =D22 -> Non réalisée | F121: ▶ | G121: =F22 -> Non réalisée | H121: =IF(OR(ISTEXT(F22),ISTEXT(D22),F22="",D22="",D22=0),"",IF(F22>D22,"▲ +"&ROUND((F22-D22)/D22*100,0)&"%",IF(F22<D22,"▼ "&ROUND((F22-D22)/D22*100,0)&"%","→ stable")))
C122: =A23 -> Endurance | E122: =D23 -> Non réalisée | F122: ▶ | G122: =F23 -> Non réalisée | H122: =IF(OR(ISTEXT(F23),ISTEXT(D23),F23="",D23="",D23=0),"",IF(F23>D23,"▲ +"&ROUND((F23-D23)/D23*100,0)&"%",IF(F23<D23,"▼ "&ROUND((F23-D23)/D23*100,0)&"%","→ stable")))
C123: =A24 -> Coordination | E123: =D24 -> Non réalisée | F123: ▶ | G123: =F24 -> Non réalisée | H123: =IF(OR(ISTEXT(F24),ISTEXT(D24),F24="",D24="",D24=0),"",IF(F24>D24,"▲ +"&ROUND((F24-D24)/D24*100,0)&"%",IF(F24<D24,"▼ "&ROUND((F24-D24)/D24*100,0)&"%","→ stable")))
C124: =A25 -> Gainage | E124: =D25 -> Non réalisée | F124: ▶ | G124: =F25 -> Non réalisée | H124: =IF(OR(ISTEXT(F25),ISTEXT(D25),F25="",D25="",D25=0),"",IF(F25>D25,"▲ +"&ROUND((F25-D25)/D25*100,0)&"%",IF(F25<D25,"▼ "&ROUND((F25-D25)/D25*100,0)&"%","→ stable")))
C125: =A26 -> Adresse | E125: =D26 -> Non réalisée | F125: ▶ | G125: =F26 -> Non réalisée | H125: =IF(OR(ISTEXT(F26),ISTEXT(D26),F26="",D26="",D26=0),"",IF(F26>D26,"▲ +"&ROUND((F26-D26)/D26*100,0)&"%",IF(F26<D26,"▼ "&ROUND((F26-D26)/D26*100,0)&"%","→ stable")))
C126: =A27 -> Force des jambes | E126: =D27 -> Non réalisée | F126: ▶ | G126: =F27 -> Non réalisée | H126: =IF(OR(ISTEXT(F27),ISTEXT(D27),F27="",D27="",D27=0),"",IF(F27>D27,"▲ +"&ROUND((F27-D27)/D27*100,0)&"%",IF(F27<D27,"▼ "&ROUND((F27-D27)/D27*100,0)&"%","→ stable")))
A129: PROGRESSION APPARIÉE PAR TEST — MÊMES ÉLÈVES S1 → S2 (ÉCOLE ENTIÈRE)
A130: Test | B130: Appariés | C130: ▲ Progrès | D130: = Stables | E130: ▼ Reculs | F130: % en progrès
A131: Équilibre | B131: =C131+D131+E131 -> 0 | C131: =COUNTIFS(D_PROG_EQ,1,D_ANNEE,$C$4) -> 0 | D131: =COUNTIFS(D_PROG_EQ,0,D_ANNEE,$C$4) -> 0 | E131: =COUNTIFS(D_PROG_EQ,-1,D_ANNEE,$C$4) -> 0 | F131: =IF(B131=0,"—",ROUND(C131/B131*100,0)&" %") -> —
A132: Souplesse | B132: =C132+D132+E132 -> 0 | C132: =COUNTIFS(D_PROG_SO,1,D_ANNEE,$C$4) -> 0 | D132: =COUNTIFS(D_PROG_SO,0,D_ANNEE,$C$4) -> 0 | E132: =COUNTIFS(D_PROG_SO,-1,D_ANNEE,$C$4) -> 0 | F132: =IF(B132=0,"—",ROUND(C132/B132*100,0)&" %") -> —
A133: Vitesse | B133: =C133+D133+E133 -> 0 | C133: =COUNTIFS(D_PROG_VI,1,D_ANNEE,$C$4) -> 0 | D133: =COUNTIFS(D_PROG_VI,0,D_ANNEE,$C$4) -> 0 | E133: =COUNTIFS(D_PROG_VI,-1,D_ANNEE,$C$4) -> 0 | F133: =IF(B133=0,"—",ROUND(C133/B133*100,0)&" %") -> —
A134: Endurance | B134: =C134+D134+E134 -> 0 | C134: =COUNTIFS(D_PROG_EN,1,D_ANNEE,$C$4) -> 0 | D134: =COUNTIFS(D_PROG_EN,0,D_ANNEE,$C$4) -> 0 | E134: =COUNTIFS(D_PROG_EN,-1,D_ANNEE,$C$4) -> 0 | F134: =IF(B134=0,"—",ROUND(C134/B134*100,0)&" %") -> —
A135: Coordination | B135: =C135+D135+E135 -> 0 | C135: =COUNTIFS(D_PROG_CO,1,D_ANNEE,$C$4) -> 0 | D135: =COUNTIFS(D_PROG_CO,0,D_ANNEE,$C$4) -> 0 | E135: =COUNTIFS(D_PROG_CO,-1,D_ANNEE,$C$4) -> 0 | F135: =IF(B135=0,"—",ROUND(C135/B135*100,0)&" %") -> —
A136: Gainage | B136: =C136+D136+E136 -> 0 | C136: =COUNTIFS(D_PROG_GA,1,D_ANNEE,$C$4) -> 0 | D136: =COUNTIFS(D_PROG_GA,0,D_ANNEE,$C$4) -> 0 | E136: =COUNTIFS(D_PROG_GA,-1,D_ANNEE,$C$4) -> 0 | F136: =IF(B136=0,"—",ROUND(C136/B136*100,0)&" %") -> —
A137: Adresse | B137: =C137+D137+E137 -> 0 | C137: =COUNTIFS(D_PROG_AD,1,D_ANNEE,$C$4) -> 0 | D137: =COUNTIFS(D_PROG_AD,0,D_ANNEE,$C$4) -> 0 | E137: =COUNTIFS(D_PROG_AD,-1,D_ANNEE,$C$4) -> 0 | F137: =IF(B137=0,"—",ROUND(C137/B137*100,0)&" %") -> —
A138: Force des jambes | B138: =C138+D138+E138 -> 0 | C138: =COUNTIFS(D_PROG_FO,1,D_ANNEE,$C$4) -> 0 | D138: =COUNTIFS(D_PROG_FO,0,D_ANNEE,$C$4) -> 0 | E138: =COUNTIFS(D_PROG_FO,-1,D_ANNEE,$C$4) -> 0 | F138: =IF(B138=0,"—",ROUND(C138/B138*100,0)&" %") -> —
A139: Ne compte que les élèves ayant réalisé le même test en S1 et en S2 (année sélectionnée, école entière).
A141: SESSIONS COMPLÈTES / PARTIELLES (ÉCOLE ENTIÈRE)
A142: Session | B142: Eff. total | C142: dont complètes | D142: Score moy. (complètes) | E142: Score moy. (toutes)
A143: S1 | B143: =COUNTIFS(D_ANNEE,$C$4,D_SESSION,"S1") -> 0 | C143: =COUNTIFS(D_ANNEE,$C$4,D_SESSION,"S1",D_COMPLET,1) -> 0 | D143: =IFERROR(ROUND(AVERAGEIFS(D_MOYNIV,D_ANNEE,$C$4,D_SESSION,"S1",D_COMPLET,1),2),"—") -> — | E143: =IFERROR(ROUND(AVERAGEIFS(D_MOYNIV,D_ANNEE,$C$4,D_SESSION,"S1"),2),"—") -> —
A144: S2 | B144: =COUNTIFS(D_ANNEE,$C$4,D_SESSION,"S2") -> 0 | C144: =COUNTIFS(D_ANNEE,$C$4,D_SESSION,"S2",D_COMPLET,1) -> 0 | D144: =IFERROR(ROUND(AVERAGEIFS(D_MOYNIV,D_ANNEE,$C$4,D_SESSION,"S2",D_COMPLET,1),2),"—") -> — | E144: =IFERROR(ROUND(AVERAGEIFS(D_MOYNIV,D_ANNEE,$C$4,D_SESSION,"S2"),2),"—") -> —
A145: Complète = tous les tests du cycle réalisés (5 en cycle 2, 8 en cycle 3). Les moyennes générales incluent aussi les sessions partielles.

Sheet SUIVI LONGITUDINAL
A1: SUIVI LONGITUDINAL | Q1: =HYPERLINK("#ACCUEIL!A1","← ACCUEIL") -> ← ACCUEIL
A2: Suivez la progression d'un élève, test par test, sur l'ensemble de sa scolarité (8 années). | S2: =IFERROR(INDEX(D_IDUNIQUE,MATCH(ROW()-1,D_RANG_SUIVI,0)),"") | T2: =IF($S2="","",UPPER(INDEX(D_NOM,MATCH($S2,D_ID,0)))&" "&INDEX(D_PRENOM,MATCH($S2,D_ID,0))&" — "&INDEX(D_NIVEAU_ACTUEL,MATCH($S2,D_ID,0)))
C3: ÉLÈVE (ID) | G3: TEST PHYSIQUE | Q3: NIVEAU SCOLAIRE | S3: =IFERROR(INDEX(D_IDUNIQUE,MATCH(ROW()-1,D_RANG_SUIVI,0)),"") | T3: =IF($S3="","",UPPER(INDEX(D_NOM,MATCH($S3,D_ID,0)))&" "&INDEX(D_PRENOM,MATCH($S3,D_ID,0))&" — "&INDEX(D_NIVEAU_ACTUEL,MATCH($S3,D_ID,0)))
J4: =IFERROR(INDEX($S$2:$S$1201,MATCH($C$4,$T$2:$T$1201,0)),"") | K4: =IF($J$4="",0,IFERROR(MATCH($J$4,D_ID,0),0)) -> 0 | L4: =IFERROR(INDEX($C$200:$C$207,MATCH($G$4,$B$200:$B$207,0)),"EQ") -> EQ | M4: =IFERROR(INDEX($D$200:$D$207,MATCH($G$4,$B$200:$B$207,0)),"") | N4: =IFERROR(MATCH($G$4,$B$200:$B$207,0),1) -> 1 | Q4: (Tous) | S4: =IFERROR(INDEX(D_IDUNIQUE,MATCH(ROW()-1,D_RANG_SUIVI,0)),"") | T4: =IF($S4="","",UPPER(INDEX(D_NOM,MATCH($S4,D_ID,0)))&" "&INDEX(D_PRENOM,MATCH($S4,D_ID,0))&" — "&INDEX(D_NIVEAU_ACTUEL,MATCH($S4,D_ID,0)))
S5: =IFERROR(INDEX(D_IDUNIQUE,MATCH(ROW()-1,D_RANG_SUIVI,0)),"") | T5: =IF($S5="","",UPPER(INDEX(D_NOM,MATCH($S5,D_ID,0)))&" "&INDEX(D_PRENOM,MATCH($S5,D_ID,0))&" — "&INDEX(D_NIVEAU_ACTUEL,MATCH($S5,D_ID,0)))
B6: Nom : | C6: =IF($K$4=0,"Aucun élève sélectionné",INDEX(D_NOM,$K$4)) -> Aucun élève sélectionné | E6: Prénom : | F6: =IF($K$4=0,"Aucun élève sélectionné",INDEX(D_PRENOM,$K$4)) -> Aucun élève sélectionné | S6: =IFERROR(INDEX(D_IDUNIQUE,MATCH(ROW()-1,D_RANG_SUIVI,0)),"") | T6: =IF($S6="","",UPPER(INDEX(D_NOM,MATCH($S6,D_ID,0)))&" "&INDEX(D_PRENOM,MATCH($S6,D_ID,0))&" — "&INDEX(D_NIVEAU_ACTUEL,MATCH($S6,D_ID,0)))
A7: ="Test sélectionné : "&$G$4&" (unité : "&$M$4&")" -> Test sélectionné : (unité : ) | S7: =IFERROR(INDEX(D_IDUNIQUE,MATCH(ROW()-1,D_RANG_SUIVI,0)),"") | T7: =IF($S7="","",UPPER(INDEX(D_NOM,MATCH($S7,D_ID,0)))&" "&INDEX(D_PRENOM,MATCH($S7,D_ID,0))&" — "&INDEX(D_NIVEAU_ACTUEL,MATCH($S7,D_ID,0)))
S8: =IFERROR(INDEX(D_IDUNIQUE,MATCH(ROW()-1,D_RANG_SUIVI,0)),"") | T8: =IF($S8="","",UPPER(INDEX(D_NOM,MATCH($S8,D_ID,0)))&" "&INDEX(D_PRENOM,MATCH($S8,D_ID,0))&" — "&INDEX(D_NIVEAU_ACTUEL,MATCH($S8,D_ID,0)))
A9: ÉVOLUTION DU TEST SÉLECTIONNÉ — HISTORIQUE SUR 8 ANNÉES | S9: =IFERROR(INDEX(D_IDUNIQUE,MATCH(ROW()-1,D_RANG_SUIVI,0)),"") | T9: =IF($S9="","",UPPER(INDEX(D_NOM,MATCH($S9,D_ID,0)))&" "&INDEX(D_PRENOM,MATCH($S9,D_ID,0))&" — "&INDEX(D_NIVEAU_ACTUEL,MATCH($S9,D_ID,0)))
B10: Année scolaire | C10: Niveau scolaire | D10: Perf. S1 | E10: Niveau S1 | F10: Perf. S2 | G10: Niveau S2 | H10: Évolution | I10: Moy. niveau | L10: PERF_S1 | M10: PERF_S2 | N10: NIV_S1 | O10: NIV_S2 | S10: =IFERROR(INDEX(D_IDUNIQUE,MATCH(ROW()-1,D_RANG_SUIVI,0)),"") | T10: =IF($S10="","",UPPER(INDEX(D_NOM,MATCH($S10,D_ID,0)))&" "&INDEX(D_PRENOM,MATCH($S10,D_ID,0))&" — "&INDEX(D_NIVEAU_ACTUEL,MATCH($S10,D_ID,0)))
B11: =INDEX(LISTE_ANNEES,1) -> 2025-2026 | C11: =IF(AND(J11=0,K11=0),"",IF(J11<>0,INDEX(D_NIVEAU,J11),INDEX(D_NIVEAU,K11))) | D11: =IF(J11=0,"",INDEX(CHOOSE($N$4,D_EQ_PERF,D_SO_PERF,D_VI_PERF,D_EN_PERF,D_CO_PERF,D_GA_PERF,D_AD_PERF,D_FO_PERF),J11)) | E11: =IF(J11=0,"",INDEX(CHOOSE($N$4,D_EQ_NIV,D_SO_NIV,D_VI_NIV,D_EN_NIV,D_CO_NIV,D_GA_NIV,D_AD_NIV,D_FO_NIV),J11)) | F11: =IF(K11=0,"",INDEX(CHOOSE($N$4,D_EQ_PERF,D_SO_PERF,D_VI_PERF,D_EN_PERF,D_CO_PERF,D_GA_PERF,D_AD_PERF,D_FO_PERF),K11)) | G11: =IF(K11=0,"",INDEX(CHOOSE($N$4,D_EQ_NIV,D_SO_NIV,D_VI_NIV,D_EN_NIV,D_CO_NIV,D_GA_NIV,D_AD_NIV,D_FO_NIV),K11)) | H11: =IF(OR(E11="",G11=""),"Non testé",IF(G11-E11>0,"▲ +"&(G11-E11)&" niv.",IF(G11-E11<0,"▼ "&(G11-E11)&" niv.","➜ stable"))) -> Non testé | I11: =IFERROR(ROUND(AVERAGEIFS(CHOOSE($N$4,D_EQ_NIV,D_SO_NIV,D_VI_NIV,D_EN_NIV,D_CO_NIV,D_GA_NIV,D_AD_NIV,D_FO_NIV),D_ANNEE,B11,D_NIVEAU,C11,CHOOSE($N$4,D_EQ_NIV,D_SO_NIV,D_VI_NIV,D_EN_NIV,D_CO_NIV,D_GA_NIV,D_AD_NIV,D_FO_NIV),">0"),1),"Non réalisée") -> Non réalisée | J11: =IFERROR(MATCH($J$4&"|"&$B11&"|"&"S1",D_KEY,0),0) -> 0 | K11: =IFERROR(MATCH($J$4&"|"&$B11&"|"&"S2",D_KEY,0),0) -> 0 | L11: =IF(D11="",NA(),D11) -> #N/A | M11: =IF(F11="",NA(),F11) -> #N/A | N11: =IF(E11="",NA(),E11) -> #N/A | O11: =IF(G11="",NA(),G11) -> #N/A | P11: {=IFERROR(SMALL(IF((ISNUMBER($L$11:$L$18)+ISNUMBER($M$11:$M$18))>0,ROW($L$11:$L$18)-10),1),1)} -> 1 | S11: =IFERROR(INDEX(D_IDUNIQUE,MATCH(ROW()-1,D_RANG_SUIVI,0)),"") | T11: =IF($S11="","",UPPER(INDEX(D_NOM,MATCH($S11,D_ID,0)))&" "&INDEX(D_PRENOM,MATCH($S11,D_ID,0))&" — "&INDEX(D_NIVEAU_ACTUEL,MATCH($S11,D_ID,0)))
B12: =INDEX(LISTE_ANNEES,2) -> 2026-2027 | C12: =IF(AND(J12=0,K12=0),"",IF(J12<>0,INDEX(D_NIVEAU,J12),INDEX(D_NIVEAU,K12))) | D12: =IF(J12=0,"",INDEX(CHOOSE($N$4,D_EQ_PERF,D_SO_PERF,D_VI_PERF,D_EN_PERF,D_CO_PERF,D_GA_PERF,D_AD_PERF,D_FO_PERF),J12)) | E12: =IF(J12=0,"",INDEX(CHOOSE($N$4,D_EQ_NIV,D_SO_NIV,D_VI_NIV,D_EN_NIV,D_CO_NIV,D_GA_NIV,D_AD_NIV,D_FO_NIV),J12)) | F12: =IF(K12=0,"",INDEX(CHOOSE($N$4,D_EQ_PERF,D_SO_PERF,D_VI_PERF,D_EN_PERF,D_CO_PERF,D_GA_PERF,D_AD_PERF,D_FO_PERF),K12)) | G12: =IF(K12=0,"",INDEX(CHOOSE($N$4,D_EQ_NIV,D_SO_NIV,D_VI_NIV,D_EN_NIV,D_CO_NIV,D_GA_NIV,D_AD_NIV,D_FO_NIV),K12)) | H12: =IF(OR(E12="",G12=""),"Non testé",IF(G12-E12>0,"▲ +"&(G12-E12)&" niv.",IF(G12-E12<0,"▼ "&(G12-E12)&" niv.","➜ stable"))) -> Non testé | I12: =IFERROR(ROUND(AVERAGEIFS(CHOOSE($N$4,D_EQ_NIV,D_SO_NIV,D_VI_NIV,D_EN_NIV,D_CO_NIV,D_GA_NIV,D_AD_NIV,D_FO_NIV),D_ANNEE,B12,D_NIVEAU,C12,CHOOSE($N$4,D_EQ_NIV,D_SO_NIV,D_VI_NIV,D_EN_NIV,D_CO_NIV,D_GA_NIV,D_AD_NIV,D_FO_NIV),">0"),1),"Non réalisée") -> Non réalisée | J12: =IFERROR(MATCH($J$4&"|"&$B12&"|"&"S1",D_KEY,0),0) -> 0 | K12: =IFERROR(MATCH($J$4&"|"&$B12&"|"&"S2",D_KEY,0),0) -> 0 | L12: =IF(D12="",NA(),D12) -> #N/A | M12: =IF(F12="",NA(),F12) -> #N/A | N12: =IF(E12="",NA(),E12) -> #N/A | O12: =IF(G12="",NA(),G12) -> #N/A | P12: =MAX(1,SUMPRODUCT(--((ISNUMBER($L$11:$L$18)+ISNUMBER($M$11:$M$18))>0))) -> 1 | S12: =IFERROR(INDEX(D_IDUNIQUE,MATCH(ROW()-1,D_RANG_SUIVI,0)),"") | T12: =IF($S12="","",UPPER(INDEX(D_NOM,MATCH($S12,D_ID,0)))&" "&INDEX(D_PRENOM,MATCH($S12,D_ID,0))&" — "&INDEX(D_NIVEAU_ACTUEL,MATCH($S12,D_ID,0)))
B13: =INDEX(LISTE_ANNEES,3) -> 2027-2028 | C13: =IF(AND(J13=0,K13=0),"",IF(J13<>0,INDEX(D_NIVEAU,J13),INDEX(D_NIVEAU,K13))) | D13: =IF(J13=0,"",INDEX(CHOOSE($N$4,D_EQ_PERF,D_SO_PERF,D_VI_PERF,D_EN_PERF,D_CO_PERF,D_GA_PERF,D_AD_PERF,D_FO_PERF),J13)) | E13: =IF(J13=0,"",INDEX(CHOOSE($N$4,D_EQ_NIV,D_SO_NIV,D_VI_NIV,D_EN_NIV,D_CO_NIV,D_GA_NIV,D_AD_NIV,D_FO_NIV),J13)) | F13: =IF(K13=0,"",INDEX(CHOOSE($N$4,D_EQ_PERF,D_SO_PERF,D_VI_PERF,D_EN_PERF,D_CO_PERF,D_GA_PERF,D_AD_PERF,D_FO_PERF),K13)) | G13: =IF(K13=0,"",INDEX(CHOOSE($N$4,D_EQ_NIV,D_SO_NIV,D_VI_NIV,D_EN_NIV,D_CO_NIV,D_GA_NIV,D_AD_NIV,D_FO_NIV),K13)) | H13: =IF(OR(E13="",G13=""),"Non testé",IF(G13-E13>0,"▲ +"&(G13-E13)&" niv.",IF(G13-E13<0,"▼ "&(G13-E13)&" niv.","➜ stable"))) -> Non testé | I13: =IFERROR(ROUND(AVERAGEIFS(CHOOSE($N$4,D_EQ_NIV,D_SO_NIV,D_VI_NIV,D_EN_NIV,D_CO_NIV,D_GA_NIV,D_AD_NIV,D_FO_NIV),D_ANNEE,B13,D_NIVEAU,C13,CHOOSE($N$4,D_EQ_NIV,D_SO_NIV,D_VI_NIV,D_EN_NIV,D_CO_NIV,D_GA_NIV,D_AD_NIV,D_FO_NIV),">0"),1),"Non réalisée") -> Non réalisée | J13: =IFERROR(MATCH($J$4&"|"&$B13&"|"&"S1",D_KEY,0),0) -> 0 | K13: =IFERROR(MATCH($J$4&"|"&$B13&"|"&"S2",D_KEY,0),0) -> 0 | L13: =IF(D13="",NA(),D13) -> #N/A | M13: =IF(F13="",NA(),F13) -> #N/A | N13: =IF(E13="",NA(),E13) -> #N/A | O13: =IF(G13="",NA(),G13) -> #N/A | S13: =IFERROR(INDEX(D_IDUNIQUE,MATCH(ROW()-1,D_RANG_SUIVI,0)),"") | T13: =IF($S13="","",UPPER(INDEX(D_NOM,MATCH($S13,D_ID,0)))&" "&INDEX(D_PRENOM,MATCH($S13,D_ID,0))&" — "&INDEX(D_NIVEAU_ACTUEL,MATCH($S13,D_ID,0)))
B14: =INDEX(LISTE_ANNEES,4) -> 2028-2029 | C14: =IF(AND(J14=0,K14=0),"",IF(J14<>0,INDEX(D_NIVEAU,J14),INDEX(D_NIVEAU,K14))) | D14: =IF(J14=0,"",INDEX(CHOOSE($N$4,D_EQ_PERF,D_SO_PERF,D_VI_PERF,D_EN_PERF,D_CO_PERF,D_GA_PERF,D_AD_PERF,D_FO_PERF),J14)) | E14: =IF(J14=0,"",INDEX(CHOOSE($N$4,D_EQ_NIV,D_SO_NIV,D_VI_NIV,D_EN_NIV,D_CO_NIV,D_GA_NIV,D_AD_NIV,D_FO_NIV),J14)) | F14: =IF(K14=0,"",INDEX(CHOOSE($N$4,D_EQ_PERF,D_SO_PERF,D_VI_PERF,D_EN_PERF,D_CO_PERF,D_GA_PERF,D_AD_PERF,D_FO_PERF),K14)) | G14: =IF(K14=0,"",INDEX(CHOOSE($N$4,D_EQ_NIV,D_SO_NIV,D_VI_NIV,D_EN_NIV,D_CO_NIV,D_GA_NIV,D_AD_NIV,D_FO_NIV),K14)) | H14: =IF(OR(E14="",G14=""),"Non testé",IF(G14-E14>0,"▲ +"&(G14-E14)&" niv.",IF(G14-E14<0,"▼ "&(G14-E14)&" niv.","➜ stable"))) -> Non testé | I14: =IFERROR(ROUND(AVERAGEIFS(CHOOSE($N$4,D_EQ_NIV,D_SO_NIV,D_VI_NIV,D_EN_NIV,D_CO_NIV,D_GA_NIV,D_AD_NIV,D_FO_NIV),D_ANNEE,B14,D_NIVEAU,C14,CHOOSE($N$4,D_EQ_NIV,D_SO_NIV,D_VI_NIV,D_EN_NIV,D_CO_NIV,D_GA_NIV,D_AD_NIV,D_FO_NIV),">0"),1),"Non réalisée") -> Non réalisée | J14: =IFERROR(MATCH($J$4&"|"&$B14&"|"&"S1",D_KEY,0),0) -> 0 | K14: =IFERROR(MATCH($J$4&"|"&$B14&"|"&"S2",D_KEY,0),0) -> 0 | L14: =IF(D14="",NA(),D14) -> #N/A | M14: =IF(F14="",NA(),F14) -> #N/A | N14: =IF(E14="",NA(),E14) -> #N/A | O14: =IF(G14="",NA(),G14) -> #N/A | S14: =IFERROR(INDEX(D_IDUNIQUE,MATCH(ROW()-1,D_RANG_SUIVI,0)),"") | T14: =IF($S14="","",UPPER(INDEX(D_NOM,MATCH($S14,D_ID,0)))&" "&INDEX(D_PRENOM,MATCH($S14,D_ID,0))&" — "&INDEX(D_NIVEAU_ACTUEL,MATCH($S14,D_ID,0)))
B15: =INDEX(LISTE_ANNEES,5) -> 2029-2030 | C15: =IF(AND(J15=0,K15=0),"",IF(J15<>0,INDEX(D_NIVEAU,J15),INDEX(D_NIVEAU,K15))) | D15: =IF(J15=0,"",INDEX(CHOOSE($N$4,D_EQ_PERF,D_SO_PERF,D_VI_PERF,D_EN_PERF,D_CO_PERF,D_GA_PERF,D_AD_PERF,D_FO_PERF),J15)) | E15: =IF(J15=0,"",INDEX(CHOOSE($N$4,D_EQ_NIV,D_SO_NIV,D_VI_NIV,D_EN_NIV,D_CO_NIV,D_GA_NIV,D_AD_NIV,D_FO_NIV),J15)) | F15: =IF(K15=0,"",INDEX(CHOOSE($N$4,D_EQ_PERF,D_SO_PERF,D_VI_PERF,D_EN_PERF,D_CO_PERF,D_GA_PERF,D_AD_PERF,D_FO_PERF),K15)) | G15: =IF(K15=0,"",INDEX(CHOOSE($N$4,D_EQ_NIV,D_SO_NIV,D_VI_NIV,D_EN_NIV,D_CO_NIV,D_GA_NIV,D_AD_NIV,D_FO_NIV),K15)) | H15: =IF(OR(E15="",G15=""),"Non testé",IF(G15-E15>0,"▲ +"&(G15-E15)&" niv.",IF(G15-E15<0,"▼ "&(G15-E15)&" niv.","➜ stable"))) -> Non testé | I15: =IFERROR(ROUND(AVERAGEIFS(CHOOSE($N$4,D_EQ_NIV,D_SO_NIV,D_VI_NIV,D_EN_NIV,D_CO_NIV,D_GA_NIV,D_AD_NIV,D_FO_NIV),D_ANNEE,B15,D_NIVEAU,C15,CHOOSE($N$4,D_EQ_NIV,D_SO_NIV,D_VI_NIV,D_EN_NIV,D_CO_NIV,D_GA_NIV,D_AD_NIV,D_FO_NIV),">0"),1),"Non réalisée") -> Non réalisée | J15: =IFERROR(MATCH($J$4&"|"&$B15&"|"&"S1",D_KEY,0),0) -> 0 | K15: =IFERROR(MATCH($J$4&"|"&$B15&"|"&"S2",D_KEY,0),0) -> 0 | L15: =IF(D15="",NA(),D15) -> #N/A | M15: =IF(F15="",NA(),F15) -> #N/A | N15: =IF(E15="",NA(),E15) -> #N/A | O15: =IF(G15="",NA(),G15) -> #N/A | S15: =IFERROR(INDEX(D_IDUNIQUE,MATCH(ROW()-1,D_RANG_SUIVI,0)),"") | T15: =IF($S15="","",UPPER(INDEX(D_NOM,MATCH($S15,D_ID,0)))&" "&INDEX(D_PRENOM,MATCH($S15,D_ID,0))&" — "&INDEX(D_NIVEAU_ACTUEL,MATCH($S15,D_ID,0)))
B16: =INDEX(LISTE_ANNEES,6) -> 2030-2031 | C16: =IF(AND(J16=0,K16=0),"",IF(J16<>0,INDEX(D_NIVEAU,J16),INDEX(D_NIVEAU,K16))) | D16: =IF(J16=0,"",INDEX(CHOOSE($N$4,D_EQ_PERF,D_SO_PERF,D_VI_PERF,D_EN_PERF,D_CO_PERF,D_GA_PERF,D_AD_PERF,D_FO_PERF),J16)) | E16: =IF(J16=0,"",INDEX(CHOOSE($N$4,D_EQ_NIV,D_SO_NIV,D_VI_NIV,D_EN_NIV,D_CO_NIV,D_GA_NIV,D_AD_NIV,D_FO_NIV),J16)) | F16: =IF(K16=0,"",INDEX(CHOOSE($N$4,D_EQ_PERF,D_SO_PERF,D_VI_PERF,D_EN_PERF,D_CO_PERF,D_GA_PERF,D_AD_PERF,D_FO_PERF),K16)) | G16: =IF(K16=0,"",INDEX(CHOOSE($N$4,D_EQ_NIV,D_SO_NIV,D_VI_NIV,D_EN_NIV,D_CO_NIV,D_GA_NIV,D_AD_NIV,D_FO_NIV),K16)) | H16: =IF(OR(E16="",G16=""),"Non testé",IF(G16-E16>0,"▲ +"&(G16-E16)&" niv.",IF(G16-E16<0,"▼ "&(G16-E16)&" niv.","➜ stable"))) -> Non testé | I16: =IFERROR(ROUND(AVERAGEIFS(CHOOSE($N$4,D_EQ_NIV,D_SO_NIV,D_VI_NIV,D_EN_NIV,D_CO_NIV,D_GA_NIV,D_AD_NIV,D_FO_NIV),D_ANNEE,B16,D_NIVEAU,C16,CHOOSE($N$4,D_EQ_NIV,D_SO_NIV,D_VI_NIV,D_EN_NIV,D_CO_NIV,D_GA_NIV,D_AD_NIV,D_FO_NIV),">0"),1),"Non réalisée") -> Non réalisée | J16: =IFERROR(MATCH($J$4&"|"&$B16&"|"&"S1",D_KEY,0),0) -> 0 | K16: =IFERROR(MATCH($J$4&"|"&$B16&"|"&"S2",D_KEY,0),0) -> 0 | L16: =IF(D16="",NA(),D16) -> #N/A | M16: =IF(F16="",NA(),F16) -> #N/A | N16: =IF(E16="",NA(),E16) -> #N/A | O16: =IF(G16="",NA(),G16) -> #N/A | S16: =IFERROR(INDEX(D_IDUNIQUE,MATCH(ROW()-1,D_RANG_SUIVI,0)),"") | T16: =IF($S16="","",UPPER(INDEX(D_NOM,MATCH($S16,D_ID,0)))&" "&INDEX(D_PRENOM,MATCH($S16,D_ID,0))&" — "&INDEX(D_NIVEAU_ACTUEL,MATCH($S16,D_ID,0)))
B17: =INDEX(LISTE_ANNEES,7) -> 2031-2032 | C17: =IF(AND(J17=0,K17=0),"",IF(J17<>0,INDEX(D_NIVEAU,J17),INDEX(D_NIVEAU,K17))) | D17: =IF(J17=0,"",INDEX(CHOOSE($N$4,D_EQ_PERF,D_SO_PERF,D_VI_PERF,D_EN_PERF,D_CO_PERF,D_GA_PERF,D_AD_PERF,D_FO_PERF),J17)) | E17: =IF(J17=0,"",INDEX(CHOOSE($N$4,D_EQ_NIV,D_SO_NIV,D_VI_NIV,D_EN_NIV,D_CO_NIV,D_GA_NIV,D_AD_NIV,D_FO_NIV),J17)) | F17: =IF(K17=0,"",INDEX(CHOOSE($N$4,D_EQ_PERF,D_SO_PERF,D_VI_PERF,D_EN_PERF,D_CO_PERF,D_GA_PERF,D_AD_PERF,D_FO_PERF),K17)) | G17: =IF(K17=0,"",INDEX(CHOOSE($N$4,D_EQ_NIV,D_SO_NIV,D_VI_NIV,D_EN_NIV,D_CO_NIV,D_GA_NIV,D_AD_NIV,D_FO_NIV),K17)) | H17: =IF(OR(E17="",G17=""),"Non testé",IF(G17-E17>0,"▲ +"&(G17-E17)&" niv.",IF(G17-E17<0,"▼ "&(G17-E17)&" niv.","➜ stable"))) -> Non testé | I17: =IFERROR(ROUND(AVERAGEIFS(CHOOSE($N$4,D_EQ_NIV,D_SO_NIV,D_VI_NIV,D_EN_NIV,D_CO_NIV,D_GA_NIV,D_AD_NIV,D_FO_NIV),D_ANNEE,B17,D_NIVEAU,C17,CHOOSE($N$4,D_EQ_NIV,D_SO_NIV,D_VI_NIV,D_EN_NIV,D_CO_NIV,D_GA_NIV,D_AD_NIV,D_FO_NIV),">0"),1),"Non réalisée") -> Non réalisée | J17: =IFERROR(MATCH($J$4&"|"&$B17&"|"&"S1",D_KEY,0),0) -> 0 | K17: =IFERROR(MATCH($J$4&"|"&$B17&"|"&"S2",D_KEY,0),0) -> 0 | L17: =IF(D17="",NA(),D17) -> #N/A | M17: =IF(F17="",NA(),F17) -> #N/A | N17: =IF(E17="",NA(),E17) -> #N/A | O17: =IF(G17="",NA(),G17) -> #N/A | S17: =IFERROR(INDEX(D_IDUNIQUE,MATCH(ROW()-1,D_RANG_SUIVI,0)),"") | T17: =IF($S17="","",UPPER(INDEX(D_NOM,MATCH($S17,D_ID,0)))&" "&INDEX(D_PRENOM,MATCH($S17,D_ID,0))&" — "&INDEX(D_NIVEAU_ACTUEL,MATCH($S17,D_ID,0)))
B18: =INDEX(LISTE_ANNEES,8) -> 2032-2033 | C18: =IF(AND(J18=0,K18=0),"",IF(J18<>0,INDEX(D_NIVEAU,J18),INDEX(D_NIVEAU,K18))) | D18: =IF(J18=0,"",INDEX(CHOOSE($N$4,D_EQ_PERF,D_SO_PERF,D_VI_PERF,D_EN_PERF,D_CO_PERF,D_GA_PERF,D_AD_PERF,D_FO_PERF),J18)) | E18: =IF(J18=0,"",INDEX(CHOOSE($N$4,D_EQ_NIV,D_SO_NIV,D_VI_NIV,D_EN_NIV,D_CO_NIV,D_GA_NIV,D_AD_NIV,D_FO_NIV),J18)) | F18: =IF(K18=0,"",INDEX(CHOOSE($N$4,D_EQ_PERF,D_SO_PERF,D_VI_PERF,D_EN_PERF,D_CO_PERF,D_GA_PERF,D_AD_PERF,D_FO_PERF),K18)) | G18: =IF(K18=0,"",INDEX(CHOOSE($N$4,D_EQ_NIV,D_SO_NIV,D_VI_NIV,D_EN_NIV,D_CO_NIV,D_GA_NIV,D_AD_NIV,D_FO_NIV),K18)) | H18: =IF(OR(E18="",G18=""),"Non testé",IF(G18-E18>0,"▲ +"&(G18-E18)&" niv.",IF(G18-E18<0,"▼ "&(G18-E18)&" niv.","➜ stable"))) -> Non testé | I18: =IFERROR(ROUND(AVERAGEIFS(CHOOSE($N$4,D_EQ_NIV,D_SO_NIV,D_VI_NIV,D_EN_NIV,D_CO_NIV,D_GA_NIV,D_AD_NIV,D_FO_NIV),D_ANNEE,B18,D_NIVEAU,C18,CHOOSE($N$4,D_EQ_NIV,D_SO_NIV,D_VI_NIV,D_EN_NIV,D_CO_NIV,D_GA_NIV,D_AD_NIV,D_FO_NIV),">0"),1),"Non réalisée") -> Non réalisée | J18: =IFERROR(MATCH($J$4&"|"&$B18&"|"&"S1",D_KEY,0),0) -> 0 | K18: =IFERROR(MATCH($J$4&"|"&$B18&"|"&"S2",D_KEY,0),0) -> 0 | L18: =IF(D18="",NA(),D18) -> #N/A | M18: =IF(F18="",NA(),F18) -> #N/A | N18: =IF(E18="",NA(),E18) -> #N/A | O18: =IF(G18="",NA(),G18) -> #N/A | S18: =IFERROR(INDEX(D_IDUNIQUE,MATCH(ROW()-1,D_RANG_SUIVI,0)),"") | T18: =IF($S18="","",UPPER(INDEX(D_NOM,MATCH($S18,D_ID,0)))&" "&INDEX(D_PRENOM,MATCH($S18,D_ID,0))&" — "&INDEX(D_NIVEAU_ACTUEL,MATCH($S18,D_ID,0)))
S19: =IFERROR(INDEX(D_IDUNIQUE,MATCH(ROW()-1,D_RANG_SUIVI,0)),"") | T19: =IF($S19="","",UPPER(INDEX(D_NOM,MATCH($S19,D_ID,0)))&" "&INDEX(D_PRENOM,MATCH($S19,D_ID,0))&" — "&INDEX(D_NIVEAU_ACTUEL,MATCH($S19,D_ID,0)))
S20: =IFERROR(INDEX(D_IDUNIQUE,MATCH(ROW()-1,D_RANG_SUIVI,0)),"") | T20: =IF($S20="","",UPPER(INDEX(D_NOM,MATCH($S20,D_ID,0)))&" "&INDEX(D_PRENOM,MATCH($S20,D_ID,0))&" — "&INDEX(D_NIVEAU_ACTUEL,MATCH($S20,D_ID,0)))
S21: =IFERROR(INDEX(D_IDUNIQUE,MATCH(ROW()-1,D_RANG_SUIVI,0)),"") | T21: =IF($S21="","",UPPER(INDEX(D_NOM,MATCH($S21,D_ID,0)))&" "&INDEX(D_PRENOM,MATCH($S21,D_ID,0))&" — "&INDEX(D_NIVEAU_ACTUEL,MATCH($S21,D_ID,0)))
S22: =IFERROR(INDEX(D_IDUNIQUE,MATCH(ROW()-1,D_RANG_SUIVI,0)),"") | T22: =IF($S22="","",UPPER(INDEX(D_NOM,MATCH($S22,D_ID,0)))&" "&INDEX(D_PRENOM,MATCH($S22,D_ID,0))&" — "&INDEX(D_NIVEAU_ACTUEL,MATCH($S22,D_ID,0)))
S23: =IFERROR(INDEX(D_IDUNIQUE,MATCH(ROW()-1,D_RANG_SUIVI,0)),"") | T23: =IF($S23="","",UPPER(INDEX(D_NOM,MATCH($S23,D_ID,0)))&" "&INDEX(D_PRENOM,MATCH($S23,D_ID,0))&" — "&INDEX(D_NIVEAU_ACTUEL,MATCH($S23,D_ID,0)))
S24: =IFERROR(INDEX(D_IDUNIQUE,MATCH(ROW()-1,D_RANG_SUIVI,0)),"") | T24: =IF($S24="","",UPPER(INDEX(D_NOM,MATCH($S24,D_ID,0)))&" "&INDEX(D_PRENOM,MATCH($S24,D_ID,0))&" — "&INDEX(D_NIVEAU_ACTUEL,MATCH($S24,D_ID,0)))
S25: =IFERROR(INDEX(D_IDUNIQUE,MATCH(ROW()-1,D_RANG_SUIVI,0)),"") | T25: =IF($S25="","",UPPER(INDEX(D_NOM,MATCH($S25,D_ID,0)))&" "&INDEX(D_PRENOM,MATCH($S25,D_ID,0))&" — "&INDEX(D_NIVEAU_ACTUEL,MATCH($S25,D_ID,0)))
S26: =IFERROR(INDEX(D_IDUNIQUE,MATCH(ROW()-1,D_RANG_SUIVI,0)),"") | T26: =IF($S26="","",UPPER(INDEX(D_NOM,MATCH($S26,D_ID,0)))&" "&INDEX(D_PRENOM,MATCH($S26,D_ID,0))&" — "&INDEX(D_NIVEAU_ACTUEL,MATCH($S26,D_ID,0)))
S27: =IFERROR(INDEX(D_IDUNIQUE,MATCH(ROW()-1,D_RANG_SUIVI,0)),"") | T27: =IF($S27="","",UPPER(INDEX(D_NOM,MATCH($S27,D_ID,0)))&" "&INDEX(D_PRENOM,MATCH($S27,D_ID,0))&" — "&INDEX(D_NIVEAU_ACTUEL,MATCH($S27,D_ID,0)))
S28: =IFERROR(INDEX(D_IDUNIQUE,MATCH(ROW()-1,D_RANG_SUIVI,0)),"") | T28: =IF($S28="","",UPPER(INDEX(D_NOM,MATCH($S28,D_ID,0)))&" "&INDEX(D_PRENOM,MATCH($S28,D_ID,0))&" — "&INDEX(D_NIVEAU_ACTUEL,MATCH($S28,D_ID,0)))
S29: =IFERROR(INDEX(D_IDUNIQUE,MATCH(ROW()-1,D_RANG_SUIVI,0)),"") | T29: =IF($S29="","",UPPER(INDEX(D_NOM,MATCH($S29,D_ID,0)))&" "&INDEX(D_PRENOM,MATCH($S29,D_ID,0))&" — "&INDEX(D_NIVEAU_ACTUEL,MATCH($S29,D_ID,0)))
S30: =IFERROR(INDEX(D_IDUNIQUE,MATCH(ROW()-1,D_RANG_SUIVI,0)),"") | T30: =IF($S30="","",UPPER(INDEX(D_NOM,MATCH($S30,D_ID,0)))&" "&INDEX(D_PRENOM,MATCH($S30,D_ID,0))&" — "&INDEX(D_NIVEAU_ACTUEL,MATCH($S30,D_ID,0)))
... S57: =IFERROR(INDEX(D_IDUNIQUE,MATCH(ROW()-1,D_RANG_SUIVI,0)),"") | T57: =IF($S57="","",UPPER(INDEX(D_NOM,MATCH($S57,D_ID,0)))&" "&INDEX(D_PRENOM,MATCH($S57,D_ID,0))&" — "&INDEX(D_NIVEAU_ACTUEL,MATCH($S57,D_ID,0)))
A58: HISTORIQUE COMPLET — LES 8 TESTS SUR LES 8 ANNÉES SCOLAIRES | S58: =IFERROR(INDEX(D_IDUNIQUE,MATCH(ROW()-1,D_RANG_SUIVI,0)),"") | T58: =IF($S58="","",UPPER(INDEX(D_NOM,MATCH($S58,D_ID,0)))&" "&INDEX(D_PRENOM,MATCH($S58,D_ID,0))&" — "&INDEX(D_NIVEAU_ACTUEL,MATCH($S58,D_ID,0)))
A59: Tableau de référence indépendant du test sélectionné ci-dessus : chaque performance est toujours accompagnée de son niveau UGSEL correspondant. | S59: =IFERROR(INDEX(D_IDUNIQUE,MATCH(ROW()-1,D_RANG_SUIVI,0)),"") | T59: =IF($S59="","",UPPER(INDEX(D_NOM,MATCH($S59,D_ID,0)))&" "&INDEX(D_PRENOM,MATCH($S59,D_ID,0))&" — "&INDEX(D_NIVEAU_ACTUEL,MATCH($S59,D_ID,0)))
B60: Année scolaire | C60: Niveau scolaire | D60: Test | E60: Perf. S1 | F60: Niveau S1 | G60: Perf. S2 | H60: Niveau S2 | I60: Évolution | L60: Moy. niveau | S60: =IFERROR(INDEX(D_IDUNIQUE,MATCH(ROW()-1,D_RANG_SUIVI,0)),"") | T60: =IF($S60="","",UPPER(INDEX(D_NOM,MATCH($S60,D_ID,0)))&" "&INDEX(D_PRENOM,MATCH($S60,D_ID,0))&" — "&INDEX(D_NIVEAU_ACTUEL,MATCH($S60,D_ID,0)))
B61: =INDEX(LISTE_ANNEES,1) -> 2025-2026 | C61: =IF(AND($J$61=0,$K$61=0),"",IF($J$61<>0,INDEX(D_NIVEAU,$J$61),INDEX(D_NIVEAU,$K$61))) | D61: Équilibre | E61: =IF($J$61=0,"",INDEX(D_EQ_PERF,$J$61)) | F61: =IF($J$61=0,"",INDEX(D_EQ_NIV,$J$61)) | G61: =IF($K$61=0,"",INDEX(D_EQ_PERF,$K$61)) | H61: =IF($K$61=0,"",INDEX(D_EQ_NIV,$K$61)) | I61: =IF(OR(F61="",H61=""),"Non testé",IF(H61-F61>0,"▲ +"&(H61-F61),IF(H61-F61<0,"▼ "&(H61-F61),"➜ stable"))) -> Non testé | J61: =IFERROR(MATCH($J$4&"|"&$B$61&"|"&"S1",D_KEY,0),0) -> 0 | K61: =IFERROR(MATCH($J$4&"|"&$B$61&"|"&"S2",D_KEY,0),0) -> 0 | L61: =IFERROR(ROUND(AVERAGEIFS(D_EQ_NIV,D_ANNEE,B61,D_NIVEAU,C61,D_EQ_NIV,">0"),1),"Non réalisée") -> Non réalisée | S61: =IFERROR(INDEX(D_IDUNIQUE,MATCH(ROW()-1,D_RANG_SUIVI,0)),"") | T61: =IF($S61="","",UPPER(INDEX(D_NOM,MATCH($S61,D_ID,0)))&" "&INDEX(D_PRENOM,MATCH($S61,D_ID,0))&" — "&INDEX(D_NIVEAU_ACTUEL,MATCH($S61,D_ID,0)))
D62: Souplesse | E62: =IF($J$61=0,"",INDEX(D_SO_PERF,$J$61)) | F62: =IF($J$61=0,"",INDEX(D_SO_NIV,$J$61)) | G62: =IF($K$61=0,"",INDEX(D_SO_PERF,$K$61)) | H62: =IF($K$61=0,"",INDEX(D_SO_NIV,$K$61)) | I62: =IF(OR(F62="",H62=""),"Non testé",IF(H62-F62>0,"▲ +"&(H62-F62),IF(H62-F62<0,"▼ "&(H62-F62),"➜ stable"))) -> Non testé | L62: =IFERROR(ROUND(AVERAGEIFS(D_SO_NIV,D_ANNEE,B61,D_NIVEAU,C61,D_SO_NIV,">0"),1),"Non réalisée") -> Non réalisée | S62: =IFERROR(INDEX(D_IDUNIQUE,MATCH(ROW()-1,D_RANG_SUIVI,0)),"") | T62: =IF($S62="","",UPPER(INDEX(D_NOM,MATCH($S62,D_ID,0)))&" "&INDEX(D_PRENOM,MATCH($S62,D_ID,0))&" — "&INDEX(D_NIVEAU_ACTUEL,MATCH($S62,D_ID,0)))
D63: Vitesse | E63: =IF($J$61=0,"",INDEX(D_VI_PERF,$J$61)) | F63: =IF($J$61=0,"",INDEX(D_VI_NIV,$J$61)) | G63: =IF($K$61=0,"",INDEX(D_VI_PERF,$K$61)) | H63: =IF($K$61=0,"",INDEX(D_VI_NIV,$K$61)) | I63: =IF(OR(F63="",H63=""),"Non testé",IF(H63-F63>0,"▲ +"&(H63-F63),IF(H63-F63<0,"▼ "&(H63-F63),"➜ stable"))) -> Non testé | L63: =IFERROR(ROUND(AVERAGEIFS(D_VI_NIV,D_ANNEE,B61,D_NIVEAU,C61,D_VI_NIV,">0"),1),"Non réalisée") -> Non réalisée | S63: =IFERROR(INDEX(D_IDUNIQUE,MATCH(ROW()-1,D_RANG_SUIVI,0)),"") | T63: =IF($S63="","",UPPER(INDEX(D_NOM,MATCH($S63,D_ID,0)))&" "&INDEX(D_PRENOM,MATCH($S63,D_ID,0))&" — "&INDEX(D_NIVEAU_ACTUEL,MATCH($S63,D_ID,0)))
D64: Endurance | E64: =IF($J$61=0,"",INDEX(D_EN_PERF,$J$61)) | F64: =IF($J$61=0,"",INDEX(D_EN_NIV,$J$61)) | G64: =IF($K$61=0,"",INDEX(D_EN_PERF,$K$61)) | H64: =IF($K$61=0,"",INDEX(D_EN_NIV,$K$61)) | I64: =IF(OR(F64="",H64=""),"Non testé",IF(H64-F64>0,"▲ +"&(H64-F64),IF(H64-F64<0,"▼ "&(H64-F64),"➜ stable"))) -> Non testé | L64: =IFERROR(ROUND(AVERAGEIFS(D_EN_NIV,D_ANNEE,B61,D_NIVEAU,C61,D_EN_NIV,">0"),1),"Non réalisée") -> Non réalisée | S64: =IFERROR(INDEX(D_IDUNIQUE,MATCH(ROW()-1,D_RANG_SUIVI,0)),"") | T64: =IF($S64="","",UPPER(INDEX(D_NOM,MATCH($S64,D_ID,0)))&" "&INDEX(D_PRENOM,MATCH($S64,D_ID,0))&" — "&INDEX(D_NIVEAU_ACTUEL,MATCH($S64,D_ID,0)))
D65: Coordination | E65: =IF($J$61=0,"",INDEX(D_CO_PERF,$J$61)) | F65: =IF($J$61=0,"",INDEX(D_CO_NIV,$J$61)) | G65: =IF($K$61=0,"",INDEX(D_CO_PERF,$K$61)) | H65: =IF($K$61=0,"",INDEX(D_CO_NIV,$K$61)) | I65: =IF(OR(F65="",H65=""),"Non testé",IF(H65-F65>0,"▲ +"&(H65-F65),IF(H65-F65<0,"▼ "&(H65-F65),"➜ stable"))) -> Non testé | L65: =IFERROR(ROUND(AVERAGEIFS(D_CO_NIV,D_ANNEE,B61,D_NIVEAU,C61,D_CO_NIV,">0"),1),"Non réalisée") -> Non réalisée | S65: =IFERROR(INDEX(D_IDUNIQUE,MATCH(ROW()-1,D_RANG_SUIVI,0)),"") | T65: =IF($S65="","",UPPER(INDEX(D_NOM,MATCH($S65,D_ID,0)))&" "&INDEX(D_PRENOM,MATCH($S65,D_ID,0))&" — "&INDEX(D_NIVEAU_ACTUEL,MATCH($S65,D_ID,0)))
D66: Gainage | E66: =IF($J$61=0,"",INDEX(D_GA_PERF,$J$61)) | F66: =IF($J$61=0,"",INDEX(D_GA_NIV,$J$61)) | G66: =IF($K$61=0,"",INDEX(D_GA_PERF,$K$61)) | H66: =IF($K$61=0,"",INDEX(D_GA_NIV,$K$61)) | I66: =IF(OR(F66="",H66=""),"Non testé",IF(H66-F66>0,"▲ +"&(H66-F66),IF(H66-F66<0,"▼ "&(H66-F66),"➜ stable"))) -> Non testé | L66: =IFERROR(ROUND(AVERAGEIFS(D_GA_NIV,D_ANNEE,B61,D_NIVEAU,C61,D_GA_NIV,">0"),1),"Non réalisée") -> Non réalisée | S66: =IFERROR(INDEX(D_IDUNIQUE,MATCH(ROW()-1,D_RANG_SUIVI,0)),"") | T66: =IF($S66="","",UPPER(INDEX(D_NOM,MATCH($S66,D_ID,0)))&" "&INDEX(D_PRENOM,MATCH($S66,D_ID,0))&" — "&INDEX(D_NIVEAU_ACTUEL,MATCH($S66,D_ID,0)))
D67: Adresse | E67: =IF($J$61=0,"",INDEX(D_AD_PERF,$J$61)) | F67: =IF($J$61=0,"",INDEX(D_AD_NIV,$J$61)) | G67: =IF($K$61=0,"",INDEX(D_AD_PERF,$K$61)) | H67: =IF($K$61=0,"",INDEX(D_AD_NIV,$K$61)) | I67: =IF(OR(F67="",H67=""),"Non testé",IF(H67-F67>0,"▲ +"&(H67-F67),IF(H67-F67<0,"▼ "&(H67-F67),"➜ stable"))) -> Non testé | L67: =IFERROR(ROUND(AVERAGEIFS(D_AD_NIV,D_ANNEE,B61,D_NIVEAU,C61,D_AD_NIV,">0"),1),"Non réalisée") -> Non réalisée | S67: =IFERROR(INDEX(D_IDUNIQUE,MATCH(ROW()-1,D_RANG_SUIVI,0)),"") | T67: =IF($S67="","",UPPER(INDEX(D_NOM,MATCH($S67,D_ID,0)))&" "&INDEX(D_PRENOM,MATCH($S67,D_ID,0))&" — "&INDEX(D_NIVEAU_ACTUEL,MATCH($S67,D_ID,0)))
D68: Force des jambes | E68: =IF($J$61=0,"",INDEX(D_FO_PERF,$J$61)) | F68: =IF($J$61=0,"",INDEX(D_FO_NIV,$J$61)) | G68: =IF($K$61=0,"",INDEX(D_FO_PERF,$K$61)) | H68: =IF($K$61=0,"",INDEX(D_FO_NIV,$K$61)) | I68: =IF(OR(F68="",H68=""),"Non testé",IF(H68-F68>0,"▲ +"&(H68-F68),IF(H68-F68<0,"▼ "&(H68-F68),"➜ stable"))) -> Non testé | L68: =IFERROR(ROUND(AVERAGEIFS(D_FO_NIV,D_ANNEE,B61,D_NIVEAU,C61,D_FO_NIV,">0"),1),"Non réalisée") -> Non réalisée | S68: =IFERROR(INDEX(D_IDUNIQUE,MATCH(ROW()-1,D_RANG_SUIVI,0)),"") | T68: =IF($S68="","",UPPER(INDEX(D_NOM,MATCH($S68,D_ID,0)))&" "&INDEX(D_PRENOM,MATCH($S68,D_ID,0))&" — "&INDEX(D_NIVEAU_ACTUEL,MATCH($S68,D_ID,0)))
B69: =INDEX(LISTE_ANNEES,2) -> 2026-2027 | C69: =IF(AND($J$69=0,$K$69=0),"",IF($J$69<>0,INDEX(D_NIVEAU,$J$69),INDEX(D_NIVEAU,$K$69))) | D69: Équilibre | E69: =IF($J$69=0,"",INDEX(D_EQ_PERF,$J$69)) | F69: =IF($J$69=0,"",INDEX(D_EQ_NIV,$J$69)) | G69: =IF($K$69=0,"",INDEX(D_EQ_PERF,$K$69)) | H69: =IF($K$69=0,"",INDEX(D_EQ_NIV,$K$69)) | I69: =IF(OR(F69="",H69=""),"Non testé",IF(H69-F69>0,"▲ +"&(H69-F69),IF(H69-F69<0,"▼ "&(H69-F69),"➜ stable"))) -> Non testé | J69: =IFERROR(MATCH($J$4&"|"&$B$69&"|"&"S1",D_KEY,0),0) -> 0 | K69: =IFERROR(MATCH($J$4&"|"&$B$69&"|"&"S2",D_KEY,0),0) -> 0 | L69: =IFERROR(ROUND(AVERAGEIFS(D_EQ_NIV,D_ANNEE,B69,D_NIVEAU,C69,D_EQ_NIV,">0"),1),"Non réalisée") -> Non réalisée | S69: =IFERROR(INDEX(D_IDUNIQUE,MATCH(ROW()-1,D_RANG_SUIVI,0)),"") | T69: =IF($S69="","",UPPER(INDEX(D_NOM,MATCH($S69,D_ID,0)))&" "&INDEX(D_PRENOM,MATCH($S69,D_ID,0))&" — "&INDEX(D_NIVEAU_ACTUEL,MATCH($S69,D_ID,0)))
D70: Souplesse | E70: =IF($J$69=0,"",INDEX(D_SO_PERF,$J$69)) | F70: =IF($J$69=0,"",INDEX(D_SO_NIV,$J$69)) | G70: =IF($K$69=0,"",INDEX(D_SO_PERF,$K$69)) | H70: =IF($K$69=0,"",INDEX(D_SO_NIV,$K$69)) | I70: =IF(OR(F70="",H70=""),"Non testé",IF(H70-F70>0,"▲ +"&(H70-F70),IF(H70-F70<0,"▼ "&(H70-F70),"➜ stable"))) -> Non testé | L70: =IFERROR(ROUND(AVERAGEIFS(D_SO_NIV,D_ANNEE,B69,D_NIVEAU,C69,D_SO_NIV,">0"),1),"Non réalisée") -> Non réalisée | S70: =IFERROR(INDEX(D_IDUNIQUE,MATCH(ROW()-1,D_RANG_SUIVI,0)),"") | T70: =IF($S70="","",UPPER(INDEX(D_NOM,MATCH($S70,D_ID,0)))&" "&INDEX(D_PRENOM,MATCH($S70,D_ID,0))&" — "&INDEX(D_NIVEAU_ACTUEL,MATCH($S70,D_ID,0)))
D71: Vitesse | E71: =IF($J$69=0,"",INDEX(D_VI_PERF,$J$69)) | F71: =IF($J$69=0,"",INDEX(D_VI_NIV,$J$69)) | G71: =IF($K$69=0,"",INDEX(D_VI_PERF,$K$69)) | H71: =IF($K$69=0,"",INDEX(D_VI_NIV,$K$69)) | I71: =IF(OR(F71="",H71=""),"Non testé",IF(H71-F71>0,"▲ +"&(H71-F71),IF(H71-F71<0,"▼ "&(H71-F71),"➜ stable"))) -> Non testé | L71: =IFERROR(ROUND(AVERAGEIFS(D_VI_NIV,D_ANNEE,B69,D_NIVEAU,C69,D_VI_NIV,">0"),1),"Non réalisée") -> Non réalisée | S71: =IFERROR(INDEX(D_IDUNIQUE,MATCH(ROW()-1,D_RANG_SUIVI,0)),"") | T71: =IF($S71="","",UPPER(INDEX(D_NOM,MATCH($S71,D_ID,0)))&" "&INDEX(D_PRENOM,MATCH($S71,D_ID,0))&" — "&INDEX(D_NIVEAU_ACTUEL,MATCH($S71,D_ID,0)))
D72: Endurance | E72: =IF($J$69=0,"",INDEX(D_EN_PERF,$J$69)) | F72: =IF($J$69=0,"",INDEX(D_EN_NIV,$J$69)) | G72: =IF($K$69=0,"",INDEX(D_EN_PERF,$K$69)) | H72: =IF($K$69=0,"",INDEX(D_EN_NIV,$K$69)) | I72: =IF(OR(F72="",H72=""),"Non testé",IF(H72-F72>0,"▲ +"&(H72-F72),IF(H72-F72<0,"▼ "&(H72-F72),"➜ stable"))) -> Non testé | L72: =IFERROR(ROUND(AVERAGEIFS(D_EN_NIV,D_ANNEE,B69,D_NIVEAU,C69,D_EN_NIV,">0"),1),"Non réalisée") -> Non réalisée | S72: =IFERROR(INDEX(D_IDUNIQUE,MATCH(ROW()-1,D_RANG_SUIVI,0)),"") | T72: =IF($S72="","",UPPER(INDEX(D_NOM,MATCH($S72,D_ID,0)))&" "&INDEX(D_PRENOM,MATCH($S72,D_ID,0))&" — "&INDEX(D_NIVEAU_ACTUEL,MATCH($S72,D_ID,0)))
D73: Coordination | E73: =IF($J$69=0,"",INDEX(D_CO_PERF,$J$69)) | F73: =IF($J$69=0,"",INDEX(D_CO_NIV,$J$69)) | G73: =IF($K$69=0,"",INDEX(D_CO_PERF,$K$69)) | H73: =IF($K$69=0,"",INDEX(D_CO_NIV,$K$69)) | I73: =IF(OR(F73="",H73=""),"Non testé",IF(H73-F73>0,"▲ +"&(H73-F73),IF(H73-F73<0,"▼ "&(H73-F73),"➜ stable"))) -> Non testé | L73: =IFERROR(ROUND(AVERAGEIFS(D_CO_NIV,D_ANNEE,B69,D_NIVEAU,C69,D_CO_NIV,">0"),1),"Non réalisée") -> Non réalisée | S73: =IFERROR(INDEX(D_IDUNIQUE,MATCH(ROW()-1,D_RANG_SUIVI,0)),"") | T73: =IF($S73="","",UPPER(INDEX(D_NOM,MATCH($S73,D_ID,0)))&" "&INDEX(D_PRENOM,MATCH($S73,D_ID,0))&" — "&INDEX(D_NIVEAU_ACTUEL,MATCH($S73,D_ID,0)))
D74: Gainage | E74: =IF($J$69=0,"",INDEX(D_GA_PERF,$J$69)) | F74: =IF($J$69=0,"",INDEX(D_GA_NIV,$J$69)) | G74: =IF($K$69=0,"",INDEX(D_GA_PERF,$K$69)) | H74: =IF($K$69=0,"",INDEX(D_GA_NIV,$K$69)) | I74: =IF(OR(F74="",H74=""),"Non testé",IF(H74-F74>0,"▲ +"&(H74-F74),IF(H74-F74<0,"▼ "&(H74-F74),"➜ stable"))) -> Non testé | L74: =IFERROR(ROUND(AVERAGEIFS(D_GA_NIV,D_ANNEE,B69,D_NIVEAU,C69,D_GA_NIV,">0"),1),"Non réalisée") -> Non réalisée | S74: =IFERROR(INDEX(D_IDUNIQUE,MATCH(ROW()-1,D_RANG_SUIVI,0)),"") | T74: =IF($S74="","",UPPER(INDEX(D_NOM,MATCH($S74,D_ID,0)))&" "&INDEX(D_PRENOM,MATCH($S74,D_ID,0))&" — "&INDEX(D_NIVEAU_ACTUEL,MATCH($S74,D_ID,0)))
D75: Adresse | E75: =IF($J$69=0,"",INDEX(D_AD_PERF,$J$69)) | F75: =IF($J$69=0,"",INDEX(D_AD_NIV,$J$69)) | G75: =IF($K$69=0,"",INDEX(D_AD_PERF,$K$69)) | H75: =IF($K$69=0,"",INDEX(D_AD_NIV,$K$69)) | I75: =IF(OR(F75="",H75=""),"Non testé",IF(H75-F75>0,"▲ +"&(H75-F75),IF(H75-F75<0,"▼ "&(H75-F75),"➜ stable"))) -> Non testé | L75: =IFERROR(ROUND(AVERAGEIFS(D_AD_NIV,D_ANNEE,B69,D_NIVEAU,C69,D_AD_NIV,">0"),1),"Non réalisée") -> Non réalisée | S75: =IFERROR(INDEX(D_IDUNIQUE,MATCH(ROW()-1,D_RANG_SUIVI,0)),"") | T75: =IF($S75="","",UPPER(INDEX(D_NOM,MATCH($S75,D_ID,0)))&" "&INDEX(D_PRENOM,MATCH($S75,D_ID,0))&" — "&INDEX(D_NIVEAU_ACTUEL,MATCH($S75,D_ID,0)))
D76: Force des jambes | E76: =IF($J$69=0,"",INDEX(D_FO_PERF,$J$69)) | F76: =IF($J$69=0,"",INDEX(D_FO_NIV,$J$69)) | G76: =IF($K$69=0,"",INDEX(D_FO_PERF,$K$69)) | H76: =IF($K$69=0,"",INDEX(D_FO_NIV,$K$69)) | I76: =IF(OR(F76="",H76=""),"Non testé",IF(H76-F76>0,"▲ +"&(H76-F76),IF(H76-F76<0,"▼ "&(H76-F76),"➜ stable"))) -> Non testé | L76: =IFERROR(ROUND(AVERAGEIFS(D_FO_NIV,D_ANNEE,B69,D_NIVEAU,C69,D_FO_NIV,">0"),1),"Non réalisée") -> Non réalisée | S76: =IFERROR(INDEX(D_IDUNIQUE,MATCH(ROW()-1,D_RANG_SUIVI,0)),"") | T76: =IF($S76="","",UPPER(INDEX(D_NOM,MATCH($S76,D_ID,0)))&" "&INDEX(D_PRENOM,MATCH($S76,D_ID,0))&" — "&INDEX(D_NIVEAU_ACTUEL,MATCH($S76,D_ID,0)))
B77: =INDEX(LISTE_ANNEES,3) -> 2027-2028 | C77: =IF(AND($J$77=0,$K$77=0),"",IF($J$77<>0,INDEX(D_NIVEAU,$J$77),INDEX(D_NIVEAU,$K$77))) | D77: Équilibre | E77: =IF($J$77=0,"",INDEX(D_EQ_PERF,$J$77)) | F77: =IF($J$77=0,"",INDEX(D_EQ_NIV,$J$77)) | G77: =IF($K$77=0,"",INDEX(D_EQ_PERF,$K$77)) | H77: =IF($K$77=0,"",INDEX(D_EQ_NIV,$K$77)) | I77: =IF(OR(F77="",H77=""),"Non testé",IF(H77-F77>0,"▲ +"&(H77-F77),IF(H77-F77<0,"▼ "&(H77-F77),"➜ stable"))) -> Non testé | J77: =IFERROR(MATCH($J$4&"|"&$B$77&"|"&"S1",D_KEY,0),0) -> 0 | K77: =IFERROR(MATCH($J$4&"|"&$B$77&"|"&"S2",D_KEY,0),0) -> 0 | L77: =IFERROR(ROUND(AVERAGEIFS(D_EQ_NIV,D_ANNEE,B77,D_NIVEAU,C77,D_EQ_NIV,">0"),1),"Non réalisée") -> Non réalisée | S77: =IFERROR(INDEX(D_IDUNIQUE,MATCH(ROW()-1,D_RANG_SUIVI,0)),"") | T77: =IF($S77="","",UPPER(INDEX(D_NOM,MATCH($S77,D_ID,0)))&" "&INDEX(D_PRENOM,MATCH($S77,D_ID,0))&" — "&INDEX(D_NIVEAU_ACTUEL,MATCH($S77,D_ID,0)))
D78: Souplesse | E78: =IF($J$77=0,"",INDEX(D_SO_PERF,$J$77)) | F78: =IF($J$77=0,"",INDEX(D_SO_NIV,$J$77)) | G78: =IF($K$77=0,"",INDEX(D_SO_PERF,$K$77)) | H78: =IF($K$77=0,"",INDEX(D_SO_NIV,$K$77)) | I78: =IF(OR(F78="",H78=""),"Non testé",IF(H78-F78>0,"▲ +"&(H78-F78),IF(H78-F78<0,"▼ "&(H78-F78),"➜ stable"))) -> Non testé | L78: =IFERROR(ROUND(AVERAGEIFS(D_SO_NIV,D_ANNEE,B77,D_NIVEAU,C77,D_SO_NIV,">0"),1),"Non réalisée") -> Non réalisée | S78: =IFERROR(INDEX(D_IDUNIQUE,MATCH(ROW()-1,D_RANG_SUIVI,0)),"") | T78: =IF($S78="","",UPPER(INDEX(D_NOM,MATCH($S78,D_ID,0)))&" "&INDEX(D_PRENOM,MATCH($S78,D_ID,0))&" — "&INDEX(D_NIVEAU_ACTUEL,MATCH($S78,D_ID,0)))
D79: Vitesse | E79: =IF($J$77=0,"",INDEX(D_VI_PERF,$J$77)) | F79: =IF($J$77=0,"",INDEX(D_VI_NIV,$J$77)) | G79: =IF($K$77=0,"",INDEX(D_VI_PERF,$K$77)) | H79: =IF($K$77=0,"",INDEX(D_VI_NIV,$K$77)) | I79: =IF(OR(F79="",H79=""),"Non testé",IF(H79-F79>0,"▲ +"&(H79-F79),IF(H79-F79<0,"▼ "&(H79-F79),"➜ stable"))) -> Non testé | L79: =IFERROR(ROUND(AVERAGEIFS(D_VI_NIV,D_ANNEE,B77,D_NIVEAU,C77,D_VI_NIV,">0"),1),"Non réalisée") -> Non réalisée | S79: =IFERROR(INDEX(D_IDUNIQUE,MATCH(ROW()-1,D_RANG_SUIVI,0)),"") | T79: =IF($S79="","",UPPER(INDEX(D_NOM,MATCH($S79,D_ID,0)))&" "&INDEX(D_PRENOM,MATCH($S79,D_ID,0))&" — "&INDEX(D_NIVEAU_ACTUEL,MATCH($S79,D_ID,0)))
D80: Endurance | E80: =IF($J$77=0,"",INDEX(D_EN_PERF,$J$77)) | F80: =IF($J$77=0,"",INDEX(D_EN_NIV,$J$77)) | G80: =IF($K$77=0,"",INDEX(D_EN_PERF,$K$77)) | H80: =IF($K$77=0,"",INDEX(D_EN_NIV,$K$77)) | I80: =IF(OR(F80="",H80=""),"Non testé",IF(H80-F80>0,"▲ +"&(H80-F80),IF(H80-F80<0,"▼ "&(H80-F80),"➜ stable"))) -> Non testé | L80: =IFERROR(ROUND(AVERAGEIFS(D_EN_NIV,D_ANNEE,B77,D_NIVEAU,C77,D_EN_NIV,">0"),1),"Non réalisée") -> Non réalisée | S80: =IFERROR(INDEX(D_IDUNIQUE,MATCH(ROW()-1,D_RANG_SUIVI,0)),"") | T80: =IF($S80="","",UPPER(INDEX(D_NOM,MATCH($S80,D_ID,0)))&" "&INDEX(D_PRENOM,MATCH($S80,D_ID,0))&" — "&INDEX(D_NIVEAU_ACTUEL,MATCH($S80,D_ID,0)))
D81: Coordination | E81: =IF($J$77=0,"",INDEX(D_CO_PERF,$J$77)) | F81: =IF($J$77=0,"",INDEX(D_CO_NIV,$J$77)) | G81: =IF($K$77=0,"",INDEX(D_CO_PERF,$K$77)) | H81: =IF($K$77=0,"",INDEX(D_CO_NIV,$K$77)) | I81: =IF(OR(F81="",H81=""),"Non testé",IF(H81-F81>0,"▲ +"&(H81-F81),IF(H81-F81<0,"▼ "&(H81-F81),"➜ stable"))) -> Non testé | L81: =IFERROR(ROUND(AVERAGEIFS(D_CO_NIV,D_ANNEE,B77,D_NIVEAU,C77,D_CO_NIV,">0"),1),"Non réalisée") -> Non réalisée | S81: =IFERROR(INDEX(D_IDUNIQUE,MATCH(ROW()-1,D_RANG_SUIVI,0)),"") | T81: =IF($S81="","",UPPER(INDEX(D_NOM,MATCH($S81,D_ID,0)))&" "&INDEX(D_PRENOM,MATCH($S81,D_ID,0))&" — "&INDEX(D_NIVEAU_ACTUEL,MATCH($S81,D_ID,0)))
D82: Gainage | E82: =IF($J$77=0,"",INDEX(D_GA_PERF,$J$77)) | F82: =IF($J$77=0,"",INDEX(D_GA_NIV,$J$77)) | G82: =IF($K$77=0,"",INDEX(D_GA_PERF,$K$77)) | H82: =IF($K$77=0,"",INDEX(D_GA_NIV,$K$77)) | I82: =IF(OR(F82="",H82=""),"Non testé",IF(H82-F82>0,"▲ +"&(H82-F82),IF(H82-F82<0,"▼ "&(H82-F82),"➜ stable"))) -> Non testé | L82: =IFERROR(ROUND(AVERAGEIFS(D_GA_NIV,D_ANNEE,B77,D_NIVEAU,C77,D_GA_NIV,">0"),1),"Non réalisée") -> Non réalisée | S82: =IFERROR(INDEX(D_IDUNIQUE,MATCH(ROW()-1,D_RANG_SUIVI,0)),"") | T82: =IF($S82="","",UPPER(INDEX(D_NOM,MATCH($S82,D_ID,0)))&" "&INDEX(D_PRENOM,MATCH($S82,D_ID,0))&" — "&INDEX(D_NIVEAU_ACTUEL,MATCH($S82,D_ID,0)))
D83: Adresse | E83: =IF($J$77=0,"",INDEX(D_AD_PERF,$J$77)) | F83: =IF($J$77=0,"",INDEX(D_AD_NIV,$J$77)) | G83: =IF($K$77=0,"",INDEX(D_AD_PERF,$K$77)) | H83: =IF($K$77=0,"",INDEX(D_AD_NIV,$K$77)) | I83: =IF(OR(F83="",H83=""),"Non testé",IF(H83-F83>0,"▲ +"&(H83-F83),IF(H83-F83<0,"▼ "&(H83-F83),"➜ stable"))) -> Non testé | L83: =IFERROR(ROUND(AVERAGEIFS(D_AD_NIV,D_ANNEE,B77,D_NIVEAU,C77,D_AD_NIV,">0"),1),"Non réalisée") -> Non réalisée | S83: =IFERROR(INDEX(D_IDUNIQUE,MATCH(ROW()-1,D_RANG_SUIVI,0)),"") | T83: =IF($S83="","",UPPER(INDEX(D_NOM,MATCH($S83,D_ID,0)))&" "&INDEX(D_PRENOM,MATCH($S83,D_ID,0))&" — "&INDEX(D_NIVEAU_ACTUEL,MATCH($S83,D_ID,0)))
D84: Force des jambes | E84: =IF($J$77=0,"",INDEX(D_FO_PERF,$J$77)) | F84: =IF($J$77=0,"",INDEX(D_FO_NIV,$J$77)) | G84: =IF($K$77=0,"",INDEX(D_FO_PERF,$K$77)) | H84: =IF($K$77=0,"",INDEX(D_FO_NIV,$K$77)) | I84: =IF(OR(F84="",H84=""),"Non testé",IF(H84-F84>0,"▲ +"&(H84-F84),IF(H84-F84<0,"▼ "&(H84-F84),"➜ stable"))) -> Non testé | L84: =IFERROR(ROUND(AVERAGEIFS(D_FO_NIV,D_ANNEE,B77,D_NIVEAU,C77,D_FO_NIV,">0"),1),"Non réalisée") -> Non réalisée | S84: =IFERROR(INDEX(D_IDUNIQUE,MATCH(ROW()-1,D_RANG_SUIVI,0)),"") | T84: =IF($S84="","",UPPER(INDEX(D_NOM,MATCH($S84,D_ID,0)))&" "&INDEX(D_PRENOM,MATCH($S84,D_ID,0))&" — "&INDEX(D_NIVEAU_ACTUEL,MATCH($S84,D_ID,0)))
B85: =INDEX(LISTE_ANNEES,4) -> 2028-2029 | C85: =IF(AND($J$85=0,$K$85=0),"",IF($J$85<>0,INDEX(D_NIVEAU,$J$85),INDEX(D_NIVEAU,$K$85))) | D85: Équilibre | E85: =IF($J$85=0,"",INDEX(D_EQ_PERF,$J$85)) | F85: =IF($J$85=0,"",INDEX(D_EQ_NIV,$J$85)) | G85: =IF($K$85=0,"",INDEX(D_EQ_PERF,$K$85)) | H85: =IF($K$85=0,"",INDEX(D_EQ_NIV,$K$85)) | I85: =IF(OR(F85="",H85=""),"Non testé",IF(H85-F85>0,"▲ +"&(H85-F85),IF(H85-F85<0,"▼ "&(H85-F85),"➜ stable"))) -> Non testé | J85: =IFERROR(MATCH($J$4&"|"&$B$85&"|"&"S1",D_KEY,0),0) -> 0 | K85: =IFERROR(MATCH($J$4&"|"&$B$85&"|"&"S2",D_KEY,0),0) -> 0 | L85: =IFERROR(ROUND(AVERAGEIFS(D_EQ_NIV,D_ANNEE,B85,D_NIVEAU,C85,D_EQ_NIV,">0"),1),"Non réalisée") -> Non réalisée | S85: =IFERROR(INDEX(D_IDUNIQUE,MATCH(ROW()-1,D_RANG_SUIVI,0)),"") | T85: =IF($S85="","",UPPER(INDEX(D_NOM,MATCH($S85,D_ID,0)))&" "&INDEX(D_PRENOM,MATCH($S85,D_ID,0))&" — "&INDEX(D_NIVEAU_ACTUEL,MATCH($S85,D_ID,0)))
D86: Souplesse | E86: =IF($J$85=0,"",INDEX(D_SO_PERF,$J$85)) | F86: =IF($J$85=0,"",INDEX(D_SO_NIV,$J$85)) | G86: =IF($K$85=0,"",INDEX(D_SO_PERF,$K$85)) | H86: =IF($K$85=0,"",INDEX(D_SO_NIV,$K$85)) | I86: =IF(OR(F86="",H86=""),"Non testé",IF(H86-F86>0,"▲ +"&(H86-F86),IF(H86-F86<0,"▼ "&(H86-F86),"➜ stable"))) -> Non testé | L86: =IFERROR(ROUND(AVERAGEIFS(D_SO_NIV,D_ANNEE,B85,D_NIVEAU,C85,D_SO_NIV,">0"),1),"Non réalisée") -> Non réalisée | S86: =IFERROR(INDEX(D_IDUNIQUE,MATCH(ROW()-1,D_RANG_SUIVI,0)),"") | T86: =IF($S86="","",UPPER(INDEX(D_NOM,MATCH($S86,D_ID,0)))&" "&INDEX(D_PRENOM,MATCH($S86,D_ID,0))&" — "&INDEX(D_NIVEAU_ACTUEL,MATCH($S86,D_ID,0)))
D87: Vitesse | E87: =IF($J$85=0,"",INDEX(D_VI_PERF,$J$85)) | F87: =IF($J$85=0,"",INDEX(D_VI_NIV,$J$85)) | G87: =IF($K$85=0,"",INDEX(D_VI_PERF,$K$85)) | H87: =IF($K$85=0,"",INDEX(D_VI_NIV,$K$85)) | I87: =IF(OR(F87="",H87=""),"Non testé",IF(H87-F87>0,"▲ +"&(H87-F87),IF(H87-F87<0,"▼ "&(H87-F87),"➜ stable"))) -> Non testé | L87: =IFERROR(ROUND(AVERAGEIFS(D_VI_NIV,D_ANNEE,B85,D_NIVEAU,C85,D_VI_NIV,">0"),1),"Non réalisée") -> Non réalisée | S87: =IFERROR(INDEX(D_IDUNIQUE,MATCH(ROW()-1,D_RANG_SUIVI,0)),"") | T87: =IF($S87="","",UPPER(INDEX(D_NOM,MATCH($S87,D_ID,0)))&" "&INDEX(D_PRENOM,MATCH($S87,D_ID,0))&" — "&INDEX(D_NIVEAU_ACTUEL,MATCH($S87,D_ID,0)))
D88: Endurance | E88: =IF($J$85=0,"",INDEX(D_EN_PERF,$J$85)) | F88: =IF($J$85=0,"",INDEX(D_EN_NIV,$J$85)) | G88: =IF($K$85=0,"",INDEX(D_EN_PERF,$K$85)) | H88: =IF($K$85=0,"",INDEX(D_EN_NIV,$K$85)) | I88: =IF(OR(F88="",H88=""),"Non testé",IF(H88-F88>0,"▲ +"&(H88-F88),IF(H88-F88<0,"▼ "&(H88-F88),"➜ stable"))) -> Non testé | L88: =IFERROR(ROUND(AVERAGEIFS(D_EN_NIV,D_ANNEE,B85,D_NIVEAU,C85,D_EN_NIV,">0"),1),"Non réalisée") -> Non réalisée | S88: =IFERROR(INDEX(D_IDUNIQUE,MATCH(ROW()-1,D_RANG_SUIVI,0)),"") | T88: =IF($S88="","",UPPER(INDEX(D_NOM,MATCH($S88,D_ID,0)))&" "&INDEX(D_PRENOM,MATCH($S88,D_ID,0))&" — "&INDEX(D_NIVEAU_ACTUEL,MATCH($S88,D_ID,0)))
D89: Coordination | E89: =IF($J$85=0,"",INDEX(D_CO_PERF,$J$85)) | F89: =IF($J$85=0,"",INDEX(D_CO_NIV,$J$85)) | G89: =IF($K$85=0,"",INDEX(D_CO_PERF,$K$85)) | H89: =IF($K$85=0,"",INDEX(D_CO_NIV,$K$85)) | I89: =IF(OR(F89="",H89=""),"Non testé",IF(H89-F89>0,"▲ +"&(H89-F89),IF(H89-F89<0,"▼ "&(H89-F89),"➜ stable"))) -> Non testé | L89: =IFERROR(ROUND(AVERAGEIFS(D_CO_NIV,D_ANNEE,B85,D_NIVEAU,C85,D_CO_NIV,">0"),1),"Non réalisée") -> Non réalisée | S89: =IFERROR(INDEX(D_IDUNIQUE,MATCH(ROW()-1,D_RANG_SUIVI,0)),"") | T89: =IF($S89="","",UPPER(INDEX(D_NOM,MATCH($S89,D_ID,0)))&" "&INDEX(D_PRENOM,MATCH($S89,D_ID,0))&" — "&INDEX(D_NIVEAU_ACTUEL,MATCH($S89,D_ID,0)))
D90: Gainage | E90: =IF($J$85=0,"",INDEX(D_GA_PERF,$J$85)) | F90: =IF($J$85=0,"",INDEX(D_GA_NIV,$J$85)) | G90: =IF($K$85=0,"",INDEX(D_GA_PERF,$K$85)) | H90: =IF($K$85=0,"",INDEX(D_GA_NIV,$K$85)) | I90: =IF(OR(F90="",H90=""),"Non testé",IF(H90-F90>0,"▲ +"&(H90-F90),IF(H90-F90<0,"▼ "&(H90-F90),"➜ stable"))) -> Non testé | L90: =IFERROR(ROUND(AVERAGEIFS(D_GA_NIV,D_ANNEE,B85,D_NIVEAU,C85,D_GA_NIV,">0"),1),"Non réalisée") -> Non réalisée | S90: =IFERROR(INDEX(D_IDUNIQUE,MATCH(ROW()-1,D_RANG_SUIVI,0)),"") | T90: =IF($S90="","",UPPER(INDEX(D_NOM,MATCH($S90,D_ID,0)))&" "&INDEX(D_PRENOM,MATCH($S90,D_ID,0))&" — "&INDEX(D_NIVEAU_ACTUEL,MATCH($S90,D_ID,0)))
D91: Adresse | E91: =IF($J$85=0,"",INDEX(D_AD_PERF,$J$85)) | F91: =IF($J$85=0,"",INDEX(D_AD_NIV,$J$85)) | G91: =IF($K$85=0,"",INDEX(D_AD_PERF,$K$85)) | H91: =IF($K$85=0,"",INDEX(D_AD_NIV,$K$85)) | I91: =IF(OR(F91="",H91=""),"Non testé",IF(H91-F91>0,"▲ +"&(H91-F91),IF(H91-F91<0,"▼ "&(H91-F91),"➜ stable"))) -> Non testé | L91: =IFERROR(ROUND(AVERAGEIFS(D_AD_NIV,D_ANNEE,B85,D_NIVEAU,C85,D_AD_NIV,">0"),1),"Non réalisée") -> Non réalisée | S91: =IFERROR(INDEX(D_IDUNIQUE,MATCH(ROW()-1,D_RANG_SUIVI,0)),"") | T91: =IF($S91="","",UPPER(INDEX(D_NOM,MATCH($S91,D_ID,0)))&" "&INDEX(D_PRENOM,MATCH($S91,D_ID,0))&" — "&INDEX(D_NIVEAU_ACTUEL,MATCH($S91,D_ID,0)))
D92: Force des jambes | E92: =IF($J$85=0,"",INDEX(D_FO_PERF,$J$85)) | F92: =IF($J$85=0,"",INDEX(D_FO_NIV,$J$85)) | G92: =IF($K$85=0,"",INDEX(D_FO_PERF,$K$85)) | H92: =IF($K$85=0,"",INDEX(D_FO_NIV,$K$85)) | I92: =IF(OR(F92="",H92=""),"Non testé",IF(H92-F92>0,"▲ +"&(H92-F92),IF(H92-F92<0,"▼ "&(H92-F92),"➜ stable"))) -> Non testé | L92: =IFERROR(ROUND(AVERAGEIFS(D_FO_NIV,D_ANNEE,B85,D_NIVEAU,C85,D_FO_NIV,">0"),1),"Non réalisée") -> Non réalisée | S92: =IFERROR(INDEX(D_IDUNIQUE,MATCH(ROW()-1,D_RANG_SUIVI,0)),"") | T92: =IF($S92="","",UPPER(INDEX(D_NOM,MATCH($S92,D_ID,0)))&" "&INDEX(D_PRENOM,MATCH($S92,D_ID,0))&" — "&INDEX(D_NIVEAU_ACTUEL,MATCH($S92,D_ID,0)))
B93: =INDEX(LISTE_ANNEES,5) -> 2029-2030 | C93: =IF(AND($J$93=0,$K$93=0),"",IF($J$93<>0,INDEX(D_NIVEAU,$J$93),INDEX(D_NIVEAU,$K$93))) | D93: Équilibre | E93: =IF($J$93=0,"",INDEX(D_EQ_PERF,$J$93)) | F93: =IF($J$93=0,"",INDEX(D_EQ_NIV,$J$93)) | G93: =IF($K$93=0,"",INDEX(D_EQ_PERF,$K$93)) | H93: =IF($K$93=0,"",INDEX(D_EQ_NIV,$K$93)) | I93: =IF(OR(F93="",H93=""),"Non testé",IF(H93-F93>0,"▲ +"&(H93-F93),IF(H93-F93<0,"▼ "&(H93-F93),"➜ stable"))) -> Non testé | J93: =IFERROR(MATCH($J$4&"|"&$B$93&"|"&"S1",D_KEY,0),0) -> 0 | K93: =IFERROR(MATCH($J$4&"|"&$B$93&"|"&"S2",D_KEY,0),0) -> 0 | L93: =IFERROR(ROUND(AVERAGEIFS(D_EQ_NIV,D_ANNEE,B93,D_NIVEAU,C93,D_EQ_NIV,">0"),1),"Non réalisée") -> Non réalisée | S93: =IFERROR(INDEX(D_IDUNIQUE,MATCH(ROW()-1,D_RANG_SUIVI,0)),"") | T93: =IF($S93="","",UPPER(INDEX(D_NOM,MATCH($S93,D_ID,0)))&" "&INDEX(D_PRENOM,MATCH($S93,D_ID,0))&" — "&INDEX(D_NIVEAU_ACTUEL,MATCH($S93,D_ID,0)))
D94: Souplesse | E94: =IF($J$93=0,"",INDEX(D_SO_PERF,$J$93)) | F94: =IF($J$93=0,"",INDEX(D_SO_NIV,$J$93)) | G94: =IF($K$93=0,"",INDEX(D_SO_PERF,$K$93)) | H94: =IF($K$93=0,"",INDEX(D_SO_NIV,$K$93)) | I94: =IF(OR(F94="",H94=""),"Non testé",IF(H94-F94>0,"▲ +"&(H94-F94),IF(H94-F94<0,"▼ "&(H94-F94),"➜ stable"))) -> Non testé | L94: =IFERROR(ROUND(AVERAGEIFS(D_SO_NIV,D_ANNEE,B93,D_NIVEAU,C93,D_SO_NIV,">0"),1),"Non réalisée") -> Non réalisée | S94: =IFERROR(INDEX(D_IDUNIQUE,MATCH(ROW()-1,D_RANG_SUIVI,0)),"") | T94: =IF($S94="","",UPPER(INDEX(D_NOM,MATCH($S94,D_ID,0)))&" "&INDEX(D_PRENOM,MATCH($S94,D_ID,0))&" — "&INDEX(D_NIVEAU_ACTUEL,MATCH($S94,D_ID,0)))
D95: Vitesse | E95: =IF($J$93=0,"",INDEX(D_VI_PERF,$J$93)) | F95: =IF($J$93=0,"",INDEX(D_VI_NIV,$J$93)) | G95: =IF($K$93=0,"",INDEX(D_VI_PERF,$K$93)) | H95: =IF($K$93=0,"",INDEX(D_VI_NIV,$K$93)) | I95: =IF(OR(F95="",H95=""),"Non testé",IF(H95-F95>0,"▲ +"&(H95-F95),IF(H95-F95<0,"▼ "&(H95-F95),"➜ stable"))) -> Non testé | L95: =IFERROR(ROUND(AVERAGEIFS(D_VI_NIV,D_ANNEE,B93,D_NIVEAU,C93,D_VI_NIV,">0"),1),"Non réalisée") -> Non réalisée | S95: =IFERROR(INDEX(D_IDUNIQUE,MATCH(ROW()-1,D_RANG_SUIVI,0)),"") | T95: =IF($S95="","",UPPER(INDEX(D_NOM,MATCH($S95,D_ID,0)))&" "&INDEX(D_PRENOM,MATCH($S95,D_ID,0))&" — "&INDEX(D_NIVEAU_ACTUEL,MATCH($S95,D_ID,0)))
D96: Endurance | E96: =IF($J$93=0,"",INDEX(D_EN_PERF,$J$93)) | F96: =IF($J$93=0,"",INDEX(D_EN_NIV,$J$93)) | G96: =IF($K$93=0,"",INDEX(D_EN_PERF,$K$93)) | H96: =IF($K$93=0,"",INDEX(D_EN_NIV,$K$93)) | I96: =IF(OR(F96="",H96=""),"Non testé",IF(H96-F96>0,"▲ +"&(H96-F96),IF(H96-F96<0,"▼ "&(H96-F96),"➜ stable"))) -> Non testé | L96: =IFERROR(ROUND(AVERAGEIFS(D_EN_NIV,D_ANNEE,B93,D_NIVEAU,C93,D_EN_NIV,">0"),1),"Non réalisée") -> Non réalisée | S96: =IFERROR(INDEX(D_IDUNIQUE,MATCH(ROW()-1,D_RANG_SUIVI,0)),"") | T96: =IF($S96="","",UPPER(INDEX(D_NOM,MATCH($S96,D_ID,0)))&" "&INDEX(D_PRENOM,MATCH($S96,D_ID,0))&" — "&INDEX(D_NIVEAU_ACTUEL,MATCH($S96,D_ID,0)))
D97: Coordination | E97: =IF($J$93=0,"",INDEX(D_CO_PERF,$J$93)) | F97: =IF($J$93=0,"",INDEX(D_CO_NIV,$J$93)) | G97: =IF($K$93=0,"",INDEX(D_CO_PERF,$K$93)) | H97: =IF($K$93=0,"",INDEX(D_CO_NIV,$K$93)) | I97: =IF(OR(F97="",H97=""),"Non testé",IF(H97-F97>0,"▲ +"&(H97-F97),IF(H97-F97<0,"▼ "&(H97-F97),"➜ stable"))) -> Non testé | L97: =IFERROR(ROUND(AVERAGEIFS(D_CO_NIV,D_ANNEE,B93,D_NIVEAU,C93,D_CO_NIV,">0"),1),"Non réalisée") -> Non réalisée | S97: =IFERROR(INDEX(D_IDUNIQUE,MATCH(ROW()-1,D_RANG_SUIVI,0)),"") | T97: =IF($S97="","",UPPER(INDEX(D_NOM,MATCH($S97,D_ID,0)))&" "&INDEX(D_PRENOM,MATCH($S97,D_ID,0))&" — "&INDEX(D_NIVEAU_ACTUEL,MATCH($S97,D_ID,0)))
D98: Gainage | E98: =IF($J$93=0,"",INDEX(D_GA_PERF,$J$93)) | F98: =IF($J$93=0,"",INDEX(D_GA_NIV,$J$93)) | G98: =IF($K$93=0,"",INDEX(D_GA_PERF,$K$93)) | H98: =IF($K$93=0,"",INDEX(D_GA_NIV,$K$93)) | I98: =IF(OR(F98="",H98=""),"Non testé",IF(H98-F98>0,"▲ +"&(H98-F98),IF(H98-F98<0,"▼ "&(H98-F98),"➜ stable"))) -> Non testé | L98: =IFERROR(ROUND(AVERAGEIFS(D_GA_NIV,D_ANNEE,B93,D_NIVEAU,C93,D_GA_NIV,">0"),1),"Non réalisée") -> Non réalisée | S98: =IFERROR(INDEX(D_IDUNIQUE,MATCH(ROW()-1,D_RANG_SUIVI,0)),"") | T98: =IF($S98="","",UPPER(INDEX(D_NOM,MATCH($S98,D_ID,0)))&" "&INDEX(D_PRENOM,MATCH($S98,D_ID,0))&" — "&INDEX(D_NIVEAU_ACTUEL,MATCH($S98,D_ID,0)))
D99: Adresse | E99: =IF($J$93=0,"",INDEX(D_AD_PERF,$J$93)) | F99: =IF($J$93=0,"",INDEX(D_AD_NIV,$J$93)) | G99: =IF($K$93=0,"",INDEX(D_AD_PERF,$K$93)) | H99: =IF($K$93=0,"",INDEX(D_AD_NIV,$K$93)) | I99: =IF(OR(F99="",H99=""),"Non testé",IF(H99-F99>0,"▲ +"&(H99-F99),IF(H99-F99<0,"▼ "&(H99-F99),"➜ stable"))) -> Non testé | L99: =IFERROR(ROUND(AVERAGEIFS(D_AD_NIV,D_ANNEE,B93,D_NIVEAU,C93,D_AD_NIV,">0"),1),"Non réalisée") -> Non réalisée | S99: =IFERROR(INDEX(D_IDUNIQUE,MATCH(ROW()-1,D_RANG_SUIVI,0)),"") | T99: =IF($S99="","",UPPER(INDEX(D_NOM,MATCH($S99,D_ID,0)))&" "&INDEX(D_PRENOM,MATCH($S99,D_ID,0))&" — "&INDEX(D_NIVEAU_ACTUEL,MATCH($S99,D_ID,0)))
D100: Force des jambes | E100: =IF($J$93=0,"",INDEX(D_FO_PERF,$J$93)) | F100: =IF($J$93=0,"",INDEX(D_FO_NIV,$J$93)) | G100: =IF($K$93=0,"",INDEX(D_FO_PERF,$K$93)) | H100: =IF($K$93=0,"",INDEX(D_FO_NIV,$K$93)) | I100: =IF(OR(F100="",H100=""),"Non testé",IF(H100-F100>0,"▲ +"&(H100-F100),IF(H100-F100<0,"▼ "&(H100-F100),"➜ stable"))) -> Non testé | L100: =IFERROR(ROUND(AVERAGEIFS(D_FO_NIV,D_ANNEE,B93,D_NIVEAU,C93,D_FO_NIV,">0"),1),"Non réalisée") -> Non réalisée | S100: =IFERROR(INDEX(D_IDUNIQUE,MATCH(ROW()-1,D_RANG_SUIVI,0)),"") | T100: =IF($S100="","",UPPER(INDEX(D_NOM,MATCH($S100,D_ID,0)))&" "&INDEX(D_PRENOM,MATCH($S100,D_ID,0))&" — "&INDEX(D_NIVEAU_ACTUEL,MATCH($S100,D_ID,0)))
B101: =INDEX(LISTE_ANNEES,6) -> 2030-2031 | C101: =IF(AND($J$101=0,$K$101=0),"",IF($J$101<>0,INDEX(D_NIVEAU,$J$101),INDEX(D_NIVEAU,$K$101))) | D101: Équilibre | E101: =IF($J$101=0,"",INDEX(D_EQ_PERF,$J$101)) | F101: =IF($J$101=0,"",INDEX(D_EQ_NIV,$J$101)) | G101: =IF($K$101=0,"",INDEX(D_EQ_PERF,$K$101)) | H101: =IF($K$101=0,"",INDEX(D_EQ_NIV,$K$101)) | I101: =IF(OR(F101="",H101=""),"Non testé",IF(H101-F101>0,"▲ +"&(H101-F101),IF(H101-F101<0,"▼ "&(H101-F101),"➜ stable"))) -> Non testé | J101: =IFERROR(MATCH($J$4&"|"&$B$101&"|"&"S1",D_KEY,0),0) -> 0 | K101: =IFERROR(MATCH($J$4&"|"&$B$101&"|"&"S2",D_KEY,0),0) -> 0 | L101: =IFERROR(ROUND(AVERAGEIFS(D_EQ_NIV,D_ANNEE,B101,D_NIVEAU,C101,D_EQ_NIV,">0"),1),"Non réalisée") -> Non réalisée | S101: =IFERROR(INDEX(D_IDUNIQUE,MATCH(ROW()-1,D_RANG_SUIVI,0)),"") | T101: =IF($S101="","",UPPER(INDEX(D_NOM,MATCH($S101,D_ID,0)))&" "&INDEX(D_PRENOM,MATCH($S101,D_ID,0))&" — "&INDEX(D_NIVEAU_ACTUEL,MATCH($S101,D_ID,0)))
D102: Souplesse | E102: =IF($J$101=0,"",INDEX(D_SO_PERF,$J$101)) | F102: =IF($J$101=0,"",INDEX(D_SO_NIV,$J$101)) | G102: =IF($K$101=0,"",INDEX(D_SO_PERF,$K$101)) | H102: =IF($K$101=0,"",INDEX(D_SO_NIV,$K$101)) | I102: =IF(OR(F102="",H102=""),"Non testé",IF(H102-F102>0,"▲ +"&(H102-F102),IF(H102-F102<0,"▼ "&(H102-F102),"➜ stable"))) -> Non testé | L102: =IFERROR(ROUND(AVERAGEIFS(D_SO_NIV,D_ANNEE,B101,D_NIVEAU,C101,D_SO_NIV,">0"),1),"Non réalisée") -> Non réalisée | S102: =IFERROR(INDEX(D_IDUNIQUE,MATCH(ROW()-1,D_RANG_SUIVI,0)),"") | T102: =IF($S102="","",UPPER(INDEX(D_NOM,MATCH($S102,D_ID,0)))&" "&INDEX(D_PRENOM,MATCH($S102,D_ID,0))&" — "&INDEX(D_NIVEAU_ACTUEL,MATCH($S102,D_ID,0)))
D103: Vitesse | E103: =IF($J$101=0,"",INDEX(D_VI_PERF,$J$101)) | F103: =IF($J$101=0,"",INDEX(D_VI_NIV,$J$101)) | G103: =IF($K$101=0,"",INDEX(D_VI_PERF,$K$101)) | H103: =IF($K$101=0,"",INDEX(D_VI_NIV,$K$101)) | I103: =IF(OR(F103="",H103=""),"Non testé",IF(H103-F103>0,"▲ +"&(H103-F103),IF(H103-F103<0,"▼ "&(H103-F103),"➜ stable"))) -> Non testé | L103: =IFERROR(ROUND(AVERAGEIFS(D_VI_NIV,D_ANNEE,B101,D_NIVEAU,C101,D_VI_NIV,">0"),1),"Non réalisée") -> Non réalisée | S103: =IFERROR(INDEX(D_IDUNIQUE,MATCH(ROW()-1,D_RANG_SUIVI,0)),"") | T103: =IF($S103="","",UPPER(INDEX(D_NOM,MATCH($S103,D_ID,0)))&" "&INDEX(D_PRENOM,MATCH($S103,D_ID,0))&" — "&INDEX(D_NIVEAU_ACTUEL,MATCH($S103,D_ID,0)))
D104: Endurance | E104: =IF($J$101=0,"",INDEX(D_EN_PERF,$J$101)) | F104: =IF($J$101=0,"",INDEX(D_EN_NIV,$J$101)) | G104: =IF($K$101=0,"",INDEX(D_EN_PERF,$K$101)) | H104: =IF($K$101=0,"",INDEX(D_EN_NIV,$K$101)) | I104: =IF(OR(F104="",H104=""),"Non testé",IF(H104-F104>0,"▲ +"&(H104-F104),IF(H104-F104<0,"▼ "&(H104-F104),"➜ stable"))) -> Non testé | L104: =IFERROR(ROUND(AVERAGEIFS(D_EN_NIV,D_ANNEE,B101,D_NIVEAU,C101,D_EN_NIV,">0"),1),"Non réalisée") -> Non réalisée | S104: =IFERROR(INDEX(D_IDUNIQUE,MATCH(ROW()-1,D_RANG_SUIVI,0)),"") | T104: =IF($S104="","",UPPER(INDEX(D_NOM,MATCH($S104,D_ID,0)))&" "&INDEX(D_PRENOM,MATCH($S104,D_ID,0))&" — "&INDEX(D_NIVEAU_ACTUEL,MATCH($S104,D_ID,0)))
D105: Coordination | E105: =IF($J$101=0,"",INDEX(D_CO_PERF,$J$101)) | F105: =IF($J$101=0,"",INDEX(D_CO_NIV,$J$101)) | G105: =IF($K$101=0,"",INDEX(D_CO_PERF,$K$101)) | H105: =IF($K$101=0,"",INDEX(D_CO_NIV,$K$101)) | I105: =IF(OR(F105="",H105=""),"Non testé",IF(H105-F105>0,"▲ +"&(H105-F105),IF(H105-F105<0,"▼ "&(H105-F105),"➜ stable"))) -> Non testé | L105: =IFERROR(ROUND(AVERAGEIFS(D_CO_NIV,D_ANNEE,B101,D_NIVEAU,C101,D_CO_NIV,">0"),1),"Non réalisée") -> Non réalisée | S105: =IFERROR(INDEX(D_IDUNIQUE,MATCH(ROW()-1,D_RANG_SUIVI,0)),"") | T105: =IF($S105="","",UPPER(INDEX(D_NOM,MATCH($S105,D_ID,0)))&" "&INDEX(D_PRENOM,MATCH($S105,D_ID,0))&" — "&INDEX(D_NIVEAU_ACTUEL,MATCH($S105,D_ID,0)))
D106: Gainage | E106: =IF($J$101=0,"",INDEX(D_GA_PERF,$J$101)) | F106: =IF($J$101=0,"",INDEX(D_GA_NIV,$J$101)) | G106: =IF($K$101=0,"",INDEX(D_GA_PERF,$K$101)) | H106: =IF($K$101=0,"",INDEX(D_GA_NIV,$K$101)) | I106: =IF(OR(F106="",H106=""),"Non testé",IF(H106-F106>0,"▲ +"&(H106-F106),IF(H106-F106<0,"▼ "&(H106-F106),"➜ stable"))) -> Non testé | L106: =IFERROR(ROUND(AVERAGEIFS(D_GA_NIV,D_ANNEE,B101,D_NIVEAU,C101,D_GA_NIV,">0"),1),"Non réalisée") -> Non réalisée | S106: =IFERROR(INDEX(D_IDUNIQUE,MATCH(ROW()-1,D_RANG_SUIVI,0)),"") | T106: =IF($S106="","",UPPER(INDEX(D_NOM,MATCH($S106,D_ID,0)))&" "&INDEX(D_PRENOM,MATCH($S106,D_ID,0))&" — "&INDEX(D_NIVEAU_ACTUEL,MATCH($S106,D_ID,0)))
D107: Adresse | E107: =IF($J$101=0,"",INDEX(D_AD_PERF,$J$101)) | F107: =IF($J$101=0,"",INDEX(D_AD_NIV,$J$101)) | G107: =IF($K$101=0,"",INDEX(D_AD_PERF,$K$101)) | H107: =IF($K$101=0,"",INDEX(D_AD_NIV,$K$101)) | I107: =IF(OR(F107="",H107=""),"Non testé",IF(H107-F107>0,"▲ +"&(H107-F107),IF(H107-F107<0,"▼ "&(H107-F107),"➜ stable"))) -> Non testé | L107: =IFERROR(ROUND(AVERAGEIFS(D_AD_NIV,D_ANNEE,B101,D_NIVEAU,C101,D_AD_NIV,">0"),1),"Non réalisée") -> Non réalisée | S107: =IFERROR(INDEX(D_IDUNIQUE,MATCH(ROW()-1,D_RANG_SUIVI,0)),"") | T107: =IF($S107="","",UPPER(INDEX(D_NOM,MATCH($S107,D_ID,0)))&" "&INDEX(D_PRENOM,MATCH($S107,D_ID,0))&" — "&INDEX(D_NIVEAU_ACTUEL,MATCH($S107,D_ID,0)))
D108: Force des jambes | E108: =IF($J$101=0,"",INDEX(D_FO_PERF,$J$101)) | F108: =IF($J$101=0,"",INDEX(D_FO_NIV,$J$101)) | G108: =IF($K$101=0,"",INDEX(D_FO_PERF,$K$101)) | H108: =IF($K$101=0,"",INDEX(D_FO_NIV,$K$101)) | I108: =IF(OR(F108="",H108=""),"Non testé",IF(H108-F108>0,"▲ +"&(H108-F108),IF(H108-F108<0,"▼ "&(H108-F108),"➜ stable"))) -> Non testé | L108: =IFERROR(ROUND(AVERAGEIFS(D_FO_NIV,D_ANNEE,B101,D_NIVEAU,C101,D_FO_NIV,">0"),1),"Non réalisée") -> Non réalisée | S108: =IFERROR(INDEX(D_IDUNIQUE,MATCH(ROW()-1,D_RANG_SUIVI,0)),"") | T108: =IF($S108="","",UPPER(INDEX(D_NOM,MATCH($S108,D_ID,0)))&" "&INDEX(D_PRENOM,MATCH($S108,D_ID,0))&" — "&INDEX(D_NIVEAU_ACTUEL,MATCH($S108,D_ID,0)))
B109: =INDEX(LISTE_ANNEES,7) -> 2031-2032 | C109: =IF(AND($J$109=0,$K$109=0),"",IF($J$109<>0,INDEX(D_NIVEAU,$J$109),INDEX(D_NIVEAU,$K$109))) | D109: Équilibre | E109: =IF($J$109=0,"",INDEX(D_EQ_PERF,$J$109)) | F109: =IF($J$109=0,"",INDEX(D_EQ_NIV,$J$109)) | G109: =IF($K$109=0,"",INDEX(D_EQ_PERF,$K$109)) | H109: =IF($K$109=0,"",INDEX(D_EQ_NIV,$K$109)) | I109: =IF(OR(F109="",H109=""),"Non testé",IF(H109-F109>0,"▲ +"&(H109-F109),IF(H109-F109<0,"▼ "&(H109-F109),"➜ stable"))) -> Non testé | J109: =IFERROR(MATCH($J$4&"|"&$B$109&"|"&"S1",D_KEY,0),0) -> 0 | K109: =IFERROR(MATCH($J$4&"|"&$B$109&"|"&"S2",D_KEY,0),0) -> 0 | L109: =IFERROR(ROUND(AVERAGEIFS(D_EQ_NIV,D_ANNEE,B109,D_NIVEAU,C109,D_EQ_NIV,">0"),1),"Non réalisée") -> Non réalisée | S109: =IFERROR(INDEX(D_IDUNIQUE,MATCH(ROW()-1,D_RANG_SUIVI,0)),"") | T109: =IF($S109="","",UPPER(INDEX(D_NOM,MATCH($S109,D_ID,0)))&" "&INDEX(D_PRENOM,MATCH($S109,D_ID,0))&" — "&INDEX(D_NIVEAU_ACTUEL,MATCH($S109,D_ID,0)))
D110: Souplesse | E110: =IF($J$109=0,"",INDEX(D_SO_PERF,$J$109)) | F110: =IF($J$109=0,"",INDEX(D_SO_NIV,$J$109)) | G110: =IF($K$109=0,"",INDEX(D_SO_PERF,$K$109)) | H110: =IF($K$109=0,"",INDEX(D_SO_NIV,$K$109)) | I110: =IF(OR(F110="",H110=""),"Non testé",IF(H110-F110>0,"▲ +"&(H110-F110),IF(H110-F110<0,"▼ "&(H110-F110),"➜ stable"))) -> Non testé | L110: =IFERROR(ROUND(AVERAGEIFS(D_SO_NIV,D_ANNEE,B109,D_NIVEAU,C109,D_SO_NIV,">0"),1),"Non réalisée") -> Non réalisée | S110: =IFERROR(INDEX(D_IDUNIQUE,MATCH(ROW()-1,D_RANG_SUIVI,0)),"") | T110: =IF($S110="","",UPPER(INDEX(D_NOM,MATCH($S110,D_ID,0)))&" "&INDEX(D_PRENOM,MATCH($S110,D_ID,0))&" — "&INDEX(D_NIVEAU_ACTUEL,MATCH($S110,D_ID,0)))
D111: Vitesse | E111: =IF($J$109=0,"",INDEX(D_VI_PERF,$J$109)) | F111: =IF($J$109=0,"",INDEX(D_VI_NIV,$J$109)) | G111: =IF($K$109=0,"",INDEX(D_VI_PERF,$K$109)) | H111: =IF($K$109=0,"",INDEX(D_VI_NIV,$K$109)) | I111: =IF(OR(F111="",H111=""),"Non testé",IF(H111-F111>0,"▲ +"&(H111-F111),IF(H111-F111<0,"▼ "&(H111-F111),"➜ stable"))) -> Non testé | L111: =IFERROR(ROUND(AVERAGEIFS(D_VI_NIV,D_ANNEE,B109,D_NIVEAU,C109,D_VI_NIV,">0"),1),"Non réalisée") -> Non réalisée | S111: =IFERROR(INDEX(D_IDUNIQUE,MATCH(ROW()-1,D_RANG_SUIVI,0)),"") | T111: =IF($S111="","",UPPER(INDEX(D_NOM,MATCH($S111,D_ID,0)))&" "&INDEX(D_PRENOM,MATCH($S111,D_ID,0))&" — "&INDEX(D_NIVEAU_ACTUEL,MATCH($S111,D_ID,0)))
D112: Endurance | E112: =IF($J$109=0,"",INDEX(D_EN_PERF,$J$109)) | F112: =IF($J$109=0,"",INDEX(D_EN_NIV,$J$109)) | G112: =IF($K$109=0,"",INDEX(D_EN_PERF,$K$109)) | H112: =IF($K$109=0,"",INDEX(D_EN_NIV,$K$109)) | I112: =IF(OR(F112="",H112=""),"Non testé",IF(H112-F112>0,"▲ +"&(H112-F112),IF(H112-F112<0,"▼ "&(H112-F112),"➜ stable"))) -> Non testé | L112: =IFERROR(ROUND(AVERAGEIFS(D_EN_NIV,D_ANNEE,B109,D_NIVEAU,C109,D_EN_NIV,">0"),1),"Non réalisée") -> Non réalisée | S112: =IFERROR(INDEX(D_IDUNIQUE,MATCH(ROW()-1,D_RANG_SUIVI,0)),"") | T112: =IF($S112="","",UPPER(INDEX(D_NOM,MATCH($S112,D_ID,0)))&" "&INDEX(D_PRENOM,MATCH($S112,D_ID,0))&" — "&INDEX(D_NIVEAU_ACTUEL,MATCH($S112,D_ID,0)))
D113: Coordination | E113: =IF($J$109=0,"",INDEX(D_CO_PERF,$J$109)) | F113: =IF($J$109=0,"",INDEX(D_CO_NIV,$J$109)) | G113: =IF($K$109=0,"",INDEX(D_CO_PERF,$K$109)) | H113: =IF($K$109=0,"",INDEX(D_CO_NIV,$K$109)) | I113: =IF(OR(F113="",H113=""),"Non testé",IF(H113-F113>0,"▲ +"&(H113-F113),IF(H113-F113<0,"▼ "&(H113-F113),"➜ stable"))) -> Non testé | L113: =IFERROR(ROUND(AVERAGEIFS(D_CO_NIV,D_ANNEE,B109,D_NIVEAU,C109,D_CO_NIV,">0"),1),"Non réalisée") -> Non réalisée | S113: =IFERROR(INDEX(D_IDUNIQUE,MATCH(ROW()-1,D_RANG_SUIVI,0)),"") | T113: =IF($S113="","",UPPER(INDEX(D_NOM,MATCH($S113,D_ID,0)))&" "&INDEX(D_PRENOM,MATCH($S113,D_ID,0))&" — "&INDEX(D_NIVEAU_ACTUEL,MATCH($S113,D_ID,0)))
D114: Gainage | E114: =IF($J$109=0,"",INDEX(D_GA_PERF,$J$109)) | F114: =IF($J$109=0,"",INDEX(D_GA_NIV,$J$109)) | G114: =IF($K$109=0,"",INDEX(D_GA_PERF,$K$109)) | H114: =IF($K$109=0,"",INDEX(D_GA_NIV,$K$109)) | I114: =IF(OR(F114="",H114=""),"Non testé",IF(H114-F114>0,"▲ +"&(H114-F114),IF(H114-F114<0,"▼ "&(H114-F114),"➜ stable"))) -> Non testé | L114: =IFERROR(ROUND(AVERAGEIFS(D_GA_NIV,D_ANNEE,B109,D_NIVEAU,C109,D_GA_NIV,">0"),1),"Non réalisée") -> Non réalisée | S114: =IFERROR(INDEX(D_IDUNIQUE,MATCH(ROW()-1,D_RANG_SUIVI,0)),"") | T114: =IF($S114="","",UPPER(INDEX(D_NOM,MATCH($S114,D_ID,0)))&" "&INDEX(D_PRENOM,MATCH($S114,D_ID,0))&" — "&INDEX(D_NIVEAU_ACTUEL,MATCH($S114,D_ID,0)))
D115: Adresse | E115: =IF($J$109=0,"",INDEX(D_AD_PERF,$J$109)) | F115: =IF($J$109=0,"",INDEX(D_AD_NIV,$J$109)) | G115: =IF($K$109=0,"",INDEX(D_AD_PERF,$K$109)) | H115: =IF($K$109=0,"",INDEX(D_AD_NIV,$K$109)) | I115: =IF(OR(F115="",H115=""),"Non testé",IF(H115-F115>0,"▲ +"&(H115-F115),IF(H115-F115<0,"▼ "&(H115-F115),"➜ stable"))) -> Non testé | L115: =IFERROR(ROUND(AVERAGEIFS(D_AD_NIV,D_ANNEE,B109,D_NIVEAU,C109,D_AD_NIV,">0"),1),"Non réalisée") -> Non réalisée | S115: =IFERROR(INDEX(D_IDUNIQUE,MATCH(ROW()-1,D_RANG_SUIVI,0)),"") | T115: =IF($S115="","",UPPER(INDEX(D_NOM,MATCH($S115,D_ID,0)))&" "&INDEX(D_PRENOM,MATCH($S115,D_ID,0))&" — "&INDEX(D_NIVEAU_ACTUEL,MATCH($S115,D_ID,0)))
D116: Force des jambes | E116: =IF($J$109=0,"",INDEX(D_FO_PERF,$J$109)) | F116: =IF($J$109=0,"",INDEX(D_FO_NIV,$J$109)) | G116: =IF($K$109=0,"",INDEX(D_FO_PERF,$K$109)) | H116: =IF($K$109=0,"",INDEX(D_FO_NIV,$K$109)) | I116: =IF(OR(F116="",H116=""),"Non testé",IF(H116-F116>0,"▲ +"&(H116-F116),IF(H116-F116<0,"▼ "&(H116-F116),"➜ stable"))) -> Non testé | L116: =IFERROR(ROUND(AVERAGEIFS(D_FO_NIV,D_ANNEE,B109,D_NIVEAU,C109,D_FO_NIV,">0"),1),"Non réalisée") -> Non réalisée | S116: =IFERROR(INDEX(D_IDUNIQUE,MATCH(ROW()-1,D_RANG_SUIVI,0)),"") | T116: =IF($S116="","",UPPER(INDEX(D_NOM,MATCH($S116,D_ID,0)))&" "&INDEX(D_PRENOM,MATCH($S116,D_ID,0))&" — "&INDEX(D_NIVEAU_ACTUEL,MATCH($S116,D_ID,0)))
B117: =INDEX(LISTE_ANNEES,8) -> 2032-2033 | C117: =IF(AND($J$117=0,$K$117=0),"",IF($J$117<>0,INDEX(D_NIVEAU,$J$117),INDEX(D_NIVEAU,$K$117))) | D117: Équilibre | E117: =IF($J$117=0,"",INDEX(D_EQ_PERF,$J$117)) | F117: =IF($J$117=0,"",INDEX(D_EQ_NIV,$J$117)) | G117: =IF($K$117=0,"",INDEX(D_EQ_PERF,$K$117)) | H117: =IF($K$117=0,"",INDEX(D_EQ_NIV,$K$117)) | I117: =IF(OR(F117="",H117=""),"Non testé",IF(H117-F117>0,"▲ +"&(H117-F117),IF(H117-F117<0,"▼ "&(H117-F117),"➜ stable"))) -> Non testé | J117: =IFERROR(MATCH($J$4&"|"&$B$117&"|"&"S1",D_KEY,0),0) -> 0 | K117: =IFERROR(MATCH($J$4&"|"&$B$117&"|"&"S2",D_KEY,0),0) -> 0 | L117: =IFERROR(ROUND(AVERAGEIFS(D_EQ_NIV,D_ANNEE,B117,D_NIVEAU,C117,D_EQ_NIV,">0"),1),"Non réalisée") -> Non réalisée | S117: =IFERROR(INDEX(D_IDUNIQUE,MATCH(ROW()-1,D_RANG_SUIVI,0)),"") | T117: =IF($S117="","",UPPER(INDEX(D_NOM,MATCH($S117,D_ID,0)))&" "&INDEX(D_PRENOM,MATCH($S117,D_ID,0))&" — "&INDEX(D_NIVEAU_ACTUEL,MATCH($S117,D_ID,0)))
D118: Souplesse | E118: =IF($J$117=0,"",INDEX(D_SO_PERF,$J$117)) | F118: =IF($J$117=0,"",INDEX(D_SO_NIV,$J$117)) | G118: =IF($K$117=0,"",INDEX(D_SO_PERF,$K$117)) | H118: =IF($K$117=0,"",INDEX(D_SO_NIV,$K$117)) | I118: =IF(OR(F118="",H118=""),"Non testé",IF(H118-F118>0,"▲ +"&(H118-F118),IF(H118-F118<0,"▼ "&(H118-F118),"➜ stable"))) -> Non testé | L118: =IFERROR(ROUND(AVERAGEIFS(D_SO_NIV,D_ANNEE,B117,D_NIVEAU,C117,D_SO_NIV,">0"),1),"Non réalisée") -> Non réalisée | S118: =IFERROR(INDEX(D_IDUNIQUE,MATCH(ROW()-1,D_RANG_SUIVI,0)),"") | T118: =IF($S118="","",UPPER(INDEX(D_NOM,MATCH($S118,D_ID,0)))&" "&INDEX(D_PRENOM,MATCH($S118,D_ID,0))&" — "&INDEX(D_NIVEAU_ACTUEL,MATCH($S118,D_ID,0)))
