Workbook
Name ANNEE_ACTIVE: PARAMETRES!$C$6
Name ANNEES_VERROU: PARAMETRES!$D$70:$D$77
Name D_AD_NIV: DONNEES!$W$2:$W$1201
Name D_AD_PERF: DONNEES!$O$2:$O$1201
Name D_ANNEE: DONNEES!$A$2:$A$1201
Name D_CO_NIV: DONNEES!$U$2:$U$1201
Name D_CO_PERF: DONNEES!$M$2:$M$1201
Name D_COMPLET: DONNEES!$BB$2:$BB$1201
Name D_CYCLE: DONNEES!$Z$2:$Z$1201
Name D_EN_NIV: DONNEES!$T$2:$T$1201
Name D_EN_PERF: DONNEES!$L$2:$L$1201
Name D_EQ_NIV: DONNEES!$Q$2:$Q$1201
Name D_EQ_PERF: DONNEES!$I$2:$I$1201
Name D_FO_NIV: DONNEES!$X$2:$X$1201
Name D_FO_PERF: DONNEES!$P$2:$P$1201
Name D_GA_NIV: DONNEES!$V$2:$V$1201
Name D_GA_PERF: DONNEES!$N$2:$N$1201
Name D_ID: DONNEES!$D$2:$D$1201
Name D_IDUNIQUE: DONNEES!$AB$2:$AB$1201
Name D_KEY: DONNEES!$AA$2:$AA$1201
Name D_KEY_DOUBLON: DONNEES!$AS$2:$AS$1201
Name D_KEY_NIVSES: DONNEES!$AU$2:$AU$1201
Name D_KEY_STATUT: DONNEES!$AT$2:$AT$1201
Name D_MOYNIV: DONNEES!$Y$2:$Y$1201
Name D_NAISS: DONNEES!$H$2:$H$1201
Name D_NB_PROG: DONNEES!$AX$2:$AX$1201
Name D_NB_REG: DONNEES!$AZ$2:$AZ$1201
Name D_NB_STAB: DONNEES!$AY$2:$AY$1201
Name D_NBTESTS: DONNEES!$BA$2:$BA$1201
Name D_NIVEAU: DONNEES!$B$2:$B$1201
Name D_NIVEAU_ACTUEL: DONNEES!$AF$2:$AF$1201
Name D_NOM: DONNEES!$E$2:$E$1201
Name D_PRENOM: DONNEES!$F$2:$F$1201
Name D_PROG_AD: DONNEES!$AN$2:$AN$1201
Name D_PROG_CO: DONNEES!$AL$2:$AL$1201
Name D_PROG_EN: DONNEES!$AK$2:$AK$1201
Name D_PROG_EQ: DONNEES!$AH$2:$AH$1201
Name D_PROG_FO: DONNEES!$AO$2:$AO$1201
Name D_PROG_GA: DONNEES!$AM$2:$AM$1201
Name D_PROG_SO: DONNEES!$AI$2:$AI$1201
Name D_PROG_VI: DONNEES!$AJ$2:$AJ$1201
Name D_RANG_PROFIL: DONNEES!$AV$2:$AV$1201
Name D_RANG_RECUP: DONNEES!$AR$2:$AR$1201
Name D_RANG_SUIVI: DONNEES!$AW$2:$AW$1201
Name D_S2ROW: DONNEES!$AG$2:$AG$1201
Name D_SESSION: DONNEES!$C$2:$C$1201
Name D_SEXE: DONNEES!$G$2:$G$1201
Name D_SO_NIV: DONNEES!$R$2:$R$1201
Name D_SO_PERF: DONNEES!$J$2:$J$1201
Name D_STATUT: DONNEES!$AQ$2:$AQ$1201
Name D_VI_NIV: DONNEES!$S$2:$S$1201
Name D_VI_PERF: DONNEES!$K$2:$K$1201
Name ETABLISSEMENT_NOM: PARAMETRES!$C$4
Name GR_CAT: 'FICHE PARENTS'!$A$9:INDEX('FICHE PARENTS'!$A$9:$A$16,'PROFIL ELEVE'!$X$4)
Name GR_CAT: 'PROFIL ELEVE'!$B$30:INDEX('PROFIL ELEVE'!$B$30:$B$37,'PROFIL ELEVE'!$X$4)
Name GR_CAT: 'STATS NIVEAU'!$A$8:INDEX('STATS NIVEAU'!$A$8:$A$15,'STATS NIVEAU'!$Q$1)
Name GR_LBL: 'PROFIL ELEVE'!$F$30:INDEX('PROFIL ELEVE'!$F$30:$F$37,'PROFIL ELEVE'!$X$4)
Name GR_LBL: 'STATS NIVEAU'!$S$8:INDEX('STATS NIVEAU'!$S$8:$S$15,'STATS NIVEAU'!$Q$1)
Name GR_MOY: 'PROFIL ELEVE'!$E$30:INDEX('PROFIL ELEVE'!$E$30:$E$37,'PROFIL ELEVE'!$X$4)
Name GR_MOY: 'PROFIL ELEVE'!$E$30:INDEX('PROFIL ELEVE'!$E$30:$E$37,'PROFIL ELEVE'!$X$4)

Sheet ACCUEIL
D1: TESTE ET AMÉLIORE TA FORME
A3: =IF(T(ETABLISSEMENT_NOM)="",CONCATENATE("⚠ Renseigner ÉCOLE et VILLE dans l'onglet SAISIE | Année scolaire active : ",ANNEE_ACTIVE),CONCATENATE(ETABLISSEMENT_NOM," — ",PARAMETRES!C5," | Année scolaire active : ",ANNEE_ACTIVE)) -> ⚠ Renseigner ÉCOLE et VILLE dans l'onglet SAISIE | Année scolaire active : 2025-2026
A5: LES 8 TESTS DE FORME
A9: Équilibre | D9: Souplesse | G9: Vitesse | J9: Endurance
A14: Coordination | D14: Gainage | G14: Adresse | J14: Force des jambes
A17: TABLEAU DE BORD
B18: ÉLÈVES SUIVIS | D18: NIVEAUX PRÉSENTS | F18: TESTS RÉALISÉS | H18: TAUX DE COMPLÉTUDE | K18: ANNÉE SCOLAIRE ACTIVE
B19: =SUMPRODUCT((D_ANNEE=ANNEE_ACTIVE)*(D_ID<>"")/DONNEES!$AP$2:$AP$1201) -> 0 | D19: =SUMPRODUCT(--((C220:C224+D220:D224)>0)) -> 0 | F19: =SUM(F220:F224) -> 0 | H19: =IF(SUM(G220:G224)=0,"—",TEXT(SUM(F220:F224)/SUM(G220:G224),"0%")) -> — | K19: =ANNEE_ACTIVE -> 2025-2026
B20: cette année | D20: niveaux scolaires | F20: résultats saisis | H20: des tests attendus | K20: en cours
A22: INDICATEURS COMPLÉMENTAIRES
A23: PASSAGES ENREGISTRÉS | D23: TAUX DE PROGRESSION | G23: TEST LE PLUS RÉUSSI | J23: TEST LE MOINS RÉUSSI
A24: =SUM(C220:C224)+SUM(D220:D224) -> 0 | D24: =IF(OR(IFERROR(ROUND(AVERAGEIFS(D_MOYNIV,D_ANNEE,ANNEE_ACTIVE,D_SESSION,"S1"),2),"")="",IFERROR(ROUND(AVERAGEIFS(D_MOYNIV,D_ANNEE,ANNEE_ACTIVE,D_SESSION,"S2"),2),"")=""),"—",IF(IFERROR(ROUND(AVERAGEIFS(D_MOYNIV,D_ANNEE,ANNEE_ACTIVE,D_SESSION,"S2"),2),"")>IFERROR(ROUND(AVERAGEIFS(D_MOYNIV,D_ANNEE,ANNEE_ACTIVE,D_SESSION,"S1"),2),""),"▲ +"&ROUND(IFERROR(ROUND(AVERAGEIFS(D_MOYNIV,D_ANNEE,ANNEE_ACTIVE,D_SESSION,"S2"),2),"")-IFERROR(ROUND(AVERAGEIFS(D_MOYNIV,D_ANNEE,ANNEE_ACTIVE,D_SESSION,"S1"),2),""),2),IF(IFERROR(ROUND(AVERAGEIFS(D_MOYNIV,D_ANNEE,ANNEE_ACTIVE,D_SESSION,"S2"),2),"")<IFERROR(ROUND(AVERAGEIFS(D_MOYNIV,D_ANNEE,ANNEE_ACTIVE,D_SESSION,"S1"),2),""),"▼ "&ROUND(IFERROR(ROUND(AVERAGEIFS(D_MOYNIV,D_ANNEE,ANNEE_ACTIVE,D_SESSION,"S2"),2),"")-IFERROR(ROUND(AVERAGEIFS(D_MOYNIV,D_ANNEE,ANNEE_ACTIVE,D_SESSION,"S1"),2),""),2),"➜ stable"))) -> — | G24: =IFERROR(INDEX(B227:B234,MATCH(MAX(C227:C234),C227:C234,0)),"—") -> — | J24: =IFERROR(INDEX(B227:B234,MATCH(MIN(C227:C234),C227:C234,0)),"—") -> —
A25: S1 + S2 cumulées | D25: moyenne niveau S1→S2 | G25: meilleur niveau moyen | J25: niveau moyen le plus faible
A27: RÉPARTITION DES NIVEAUX UGSEL — ÉCOLE ENTIÈRE
A28: ="1 · "&TEXT(N236,"0%") -> 1 · 0% | C28: ="2 · "&TEXT(N237,"0%") -> 2 · 0% | E28: ="3 · "&TEXT(N238,"0%") -> 3 · 0% | G28: ="4 · "&TEXT(N239,"0%") -> 4 · 0% | I28: ="5 · "&TEXT(N240,"0%") -> 5 · 0%
A33: NAVIGATION
A35: =HYPERLINK("#'SAISIE'!A1","SAISIE Saisir les performances") -> SAISIE Saisir les performances | E35: =HYPERLINK("#'PROFIL ELEVE'!A1","PROFIL ELEVE Fiche individuelle élève") -> PROFIL ELEVE Fiche individuelle élève | I35: =HYPERLINK("#'STATS NIVEAU'!A1","STATS NIVEAU Statistiques par niveau") -> STATS NIVEAU Statistiques par niveau
A39: =HYPERLINK("#'STATS ECOLE'!A1","STATS ECOLE Vue établissement") -> STATS ECOLE Vue établissement | E39: =HYPERLINK("#'SUIVI LONGITUDINAL'!A1","SUIVI LONGITUDINAL Progression CP → CM2") -> SUIVI LONGITUDINAL Progression CP → CM2 | I39: =HYPERLINK("#'EXPORT UGSEL'!A1","EXPORT UGSEL Export anonymisé") -> EXPORT UGSEL Export anonymisé
A43: =HYPERLINK("#'FICHE PARENTS'!A1","FICHE PARENTS Document imprimable famille") -> FICHE PARENTS Document imprimable famille | E43: =HYPERLINK("#COHORTE!A1","COHORTE Suivi d'une classe entière") -> COHORTE Suivi d'une classe entière | I43: =HYPERLINK("#'EXPORT BRUT'!A1","EXPORT BRUT Données complètes à plat") -> EXPORT BRUT Données complètes à plat
A47: =HYPERLINK("#PARAMETRES!A1","PARAMETRES Seuils, listes, année active") -> PARAMETRES Seuils, listes, année active | E47: =HYPERLINK("#AIDE!A1","AIDE Mode d'emploi") -> AIDE Mode d'emploi | I47: =HYPERLINK("#RESSOURCES!A1","RESSOURCES Liens et documents UGSEL") -> RESSOURCES Liens et documents UGSEL
A51: Cliquez sur un bouton pour ouvrir l'onglet. Statistiques basées sur l'année scolaire active (voir PARAMETRES). · Version 26 — août 2026
A53: AVANCEMENT DE LA SAISIE PAR NIVEAU SCOLAIRE
B55: Niveau | C55: Élèves S1 | E55: Élèves S2 | G55: Tests saisis | I55: Avancement
B56: =B220 -> CP | C56: =C220 -> 0 | E56: =D220 -> 0 | G56: =IF(G220=0,"—",F220&" / "&G220) -> — | I56: =IF(G220=0,"—",REPT("█",ROUND(F220/G220*12,0))&REPT("░",12-ROUND(F220/G220*12,0))&" "&TEXT(F220/G220,"0%")) -> —
B57: =B221 -> CE1 | C57: =C221 -> 0 | E57: =D221 -> 0 | G57: =IF(G221=0,"—",F221&" / "&G221) -> — | I57: =IF(G221=0,"—",REPT("█",ROUND(F221/G221*12,0))&REPT("░",12-ROUND(F221/G221*12,0))&" "&TEXT(F221/G221,"0%")) -> —
B58: =B222 -> CE2 | C58: =C222 -> 0 | E58: =D222 -> 0 | G58: =IF(G222=0,"—",F222&" / "&G222) -> — | I58: =IF(G222=0,"—",REPT("█",ROUND(F222/G222*12,0))&REPT("░",12-ROUND(F222/G222*12,0))&" "&TEXT(F222/G222,"0%")) -> —
B59: =B223 -> CM1 | C59: =C223 -> 0 | E59: =D223 -> 0 | G59: =IF(G223=0,"—",F223&" / "&G223) -> — | I59: =IF(G223=0,"—",REPT("█",ROUND(F223/G223*12,0))&REPT("░",12-ROUND(F223/G223*12,0))&" "&TEXT(F223/G223,"0%")) -> —
B60: =B224 -> CM2 | C60: =C224 -> 0 | E60: =D224 -> 0 | G60: =IF(G224=0,"—",F224&" / "&G224) -> — | I60: =IF(G224=0,"—",REPT("█",ROUND(F224/G224*12,0))&REPT("░",12-ROUND(F224/G224*12,0))&" "&TEXT(F224/G224,"0%")) -> —
A61: Tests saisis / attendus pour l'année active — attendus = (élèves S1 + élèves S2) × tests du cycle (5 en cycle 2, 8 en cycle 3).
B219: Niveau | C219: Eff S1 | D219: Eff S2 | E219: NbTests | F219: Filled | G219: Possible
B220: CP | C220: =COUNTIFS(D_ANNEE,ANNEE_ACTIVE,D_NIVEAU,"CP",D_SESSION,"S1") -> 0 | D220: =COUNTIFS(D_ANNEE,ANNEE_ACTIVE,D_NIVEAU,"CP",D_SESSION,"S2") -> 0 | E220: =IF(VLOOKUP("CP",TABLE_CYCLE,2,0)=2,5,8) -> 5 | F220: =COUNTIFS(D_ANNEE,ANNEE_ACTIVE,D_NIVEAU,"CP",D_EQ_NIV,">0")+COUNTIFS(D_ANNEE,ANNEE_ACTIVE,D_NIVEAU,"CP",D_SO_NIV,">0")+COUNTIFS(D_ANNEE,ANNEE_ACTIVE,D_NIVEAU,"CP",D_VI_NIV,">0")+COUNTIFS(D_ANNEE,ANNEE_ACTIVE,D_NIVEAU,"CP",D_EN_NIV,">0")+COUNTIFS(D_ANNEE,ANNEE_ACTIVE,D_NIVEAU,"CP",D_CO_NIV,">0")+COUNTIFS(D_ANNEE,ANNEE_ACTIVE,D_NIVEAU,"CP",D_GA_NIV,">0")+COUNTIFS(D_ANNEE,ANNEE_ACTIVE,D_NIVEAU,"CP",D_AD_NIV,">0")+COUNTIFS(D_ANNEE,ANNEE_ACTIVE,D_NIVEAU,"CP",D_FO_NIV,">0") -> 0 | G220: =(C220+D220)*E220 -> 0
B221: CE1 | C221: =COUNTIFS(D_ANNEE,ANNEE_ACTIVE,D_NIVEAU,"CE1",D_SESSION,"S1") -> 0 | D221: =COUNTIFS(D_ANNEE,ANNEE_ACTIVE,D_NIVEAU,"CE1",D_SESSION,"S2") -> 0 | E221: =IF(VLOOKUP("CE1",TABLE_CYCLE,2,0)=2,5,8) -> 5 | F221: =COUNTIFS(D_ANNEE,ANNEE_ACTIVE,D_NIVEAU,"CE1",D_EQ_NIV,">0")+COUNTIFS(D_ANNEE,ANNEE_ACTIVE,D_NIVEAU,"CE1",D_SO_NIV,">0")+COUNTIFS(D_ANNEE,ANNEE_ACTIVE,D_NIVEAU,"CE1",D_VI_NIV,">0")+COUNTIFS(D_ANNEE,ANNEE_ACTIVE,D_NIVEAU,"CE1",D_EN_NIV,">0")+COUNTIFS(D_ANNEE,ANNEE_ACTIVE,D_NIVEAU,"CE1",D_CO_NIV,">0")+COUNTIFS(D_ANNEE,ANNEE_ACTIVE,D_NIVEAU,"CE1",D_GA_NIV,">0")+COUNTIFS(D_ANNEE,ANNEE_ACTIVE,D_NIVEAU,"CE1",D_AD_NIV,">0")+COUNTIFS(D_ANNEE,ANNEE_ACTIVE,D_NIVEAU,"CE1",D_FO_NIV,">0") -> 0 | G221: =(C221+D221)*E221 -> 0
B222: CE2 | C222: =COUNTIFS(D_ANNEE,ANNEE_ACTIVE,D_NIVEAU,"CE2",D_SESSION,"S1") -> 0 | D222: =COUNTIFS(D_ANNEE,ANNEE_ACTIVE,D_NIVEAU,"CE2",D_SESSION,"S2") -> 0 | E222: =IF(VLOOKUP("CE2",TABLE_CYCLE,2,0)=2,5,8) -> 5 | F222: =COUNTIFS(D_ANNEE,ANNEE_ACTIVE,D_NIVEAU,"CE2",D_EQ_NIV,">0")+COUNTIFS(D_ANNEE,ANNEE_ACTIVE,D_NIVEAU,"CE2",D_SO_NIV,">0")+COUNTIFS(D_ANNEE,ANNEE_ACTIVE,D_NIVEAU,"CE2",D_VI_NIV,">0")+COUNTIFS(D_ANNEE,ANNEE_ACTIVE,D_NIVEAU,"CE2",D_EN_NIV,">0")+COUNTIFS(D_ANNEE,ANNEE_ACTIVE,D_NIVEAU,"CE2",D_CO_NIV,">0")+COUNTIFS(D_ANNEE,ANNEE_ACTIVE,D_NIVEAU,"CE2",D_GA_NIV,">0")+COUNTIFS(D_ANNEE,ANNEE_ACTIVE,D_NIVEAU,"CE2",D_AD_NIV,">0")+COUNTIFS(D_ANNEE,ANNEE_ACTIVE,D_NIVEAU,"CE2",D_FO_NIV,">0") -> 0 | G222: =(C222+D222)*E222 -> 0
B223: CM1 | C223: =COUNTIFS(D_ANNEE,ANNEE_ACTIVE,D_NIVEAU,"CM1",D_SESSION,"S1") -> 0 | D223: =COUNTIFS(D_ANNEE,ANNEE_ACTIVE,D_NIVEAU,"CM1",D_SESSION,"S2") -> 0 | E223: =IF(VLOOKUP("CM1",TABLE_CYCLE,2,0)=2,5,8) -> 8 | F223: =COUNTIFS(D_ANNEE,ANNEE_ACTIVE,D_NIVEAU,"CM1",D_EQ_NIV,">0")+COUNTIFS(D_ANNEE,ANNEE_ACTIVE,D_NIVEAU,"CM1",D_SO_NIV,">0")+COUNTIFS(D_ANNEE,ANNEE_ACTIVE,D_NIVEAU,"CM1",D_VI_NIV,">0")+COUNTIFS(D_ANNEE,ANNEE_ACTIVE,D_NIVEAU,"CM1",D_EN_NIV,">0")+COUNTIFS(D_ANNEE,ANNEE_ACTIVE,D_NIVEAU,"CM1",D_CO_NIV,">0")+COUNTIFS(D_ANNEE,ANNEE_ACTIVE,D_NIVEAU,"CM1",D_GA_NIV,">0")+COUNTIFS(D_ANNEE,ANNEE_ACTIVE,D_NIVEAU,"CM1",D_AD_NIV,">0")+COUNTIFS(D_ANNEE,ANNEE_ACTIVE,D_NIVEAU,"CM1",D_FO_NIV,">0") -> 0 | G223: =(C223+D223)*E223 -> 0
B224: CM2 | C224: =COUNTIFS(D_ANNEE,ANNEE_ACTIVE,D_NIVEAU,"CM2",D_SESSION,"S1") -> 0 | D224: =COUNTIFS(D_ANNEE,ANNEE_ACTIVE,D_NIVEAU,"CM2",D_SESSION,"S2") -> 0 | E224: =IF(VLOOKUP("CM2",TABLE_CYCLE,2,0)=2,5,8) -> 8 | F224: =COUNTIFS(D_ANNEE,ANNEE_ACTIVE,D_NIVEAU,"CM2",D_EQ_NIV,">0")+COUNTIFS(D_ANNEE,ANNEE_ACTIVE,D_NIVEAU,"CM2",D_SO_NIV,">0")+COUNTIFS(D_ANNEE,ANNEE_ACTIVE,D_NIVEAU,"CM2",D_VI_NIV,">0")+COUNTIFS(D_ANNEE,ANNEE_ACTIVE,D_NIVEAU,"CM2",D_EN_NIV,">0")+COUNTIFS(D_ANNEE,ANNEE_ACTIVE,D_NIVEAU,"CM2",D_CO_NIV,">0")+COUNTIFS(D_ANNEE,ANNEE_ACTIVE,D_NIVEAU,"CM2",D_GA_NIV,">0")+COUNTIFS(D_ANNEE,ANNEE_ACTIVE,D_NIVEAU,"CM2",D_AD_NIV,">0")+COUNTIFS(D_ANNEE,ANNEE_ACTIVE,D_NIVEAU,"CM2",D_FO_NIV,">0") -> 0 | G224: =(C224+D224)*E224 -> 0
B226: Test | C226: NivMoyen
B227: Équilibre | C227: =IFERROR(AVERAGEIFS(D_EQ_NIV,D_ANNEE,ANNEE_ACTIVE,D_EQ_NIV,">0"),"")
B228: Souplesse | C228: =IFERROR(AVERAGEIFS(D_SO_NIV,D_ANNEE,ANNEE_ACTIVE,D_SO_NIV,">0"),"")
B229: Vitesse | C229: =IFERROR(AVERAGEIFS(D_VI_NIV,D_ANNEE,ANNEE_ACTIVE,D_VI_NIV,">0"),"")
B230: Endurance | C230: =IFERROR(AVERAGEIFS(D_EN_NIV,D_ANNEE,ANNEE_ACTIVE,D_EN_NIV,">0"),"")
...

Sheet AIDE
B1: MODE D'EMPLOI — TESTE ET AMÉLIORE TA FORME
B2: =HYPERLINK("#ACCUEIL!A1","← ACCUEIL") -> ← ACCUEIL
B3: SOMMAIRE — cliquez sur une rubrique
B4: =HYPERLINK("#AIDE!B23","› DÉMARRAGE") -> › DÉMARRAGE
B5: =HYPERLINK("#AIDE!B26","› ANNÉE, NIVEAU ET SESSION PAR LIGNE") -> › ANNÉE, NIVEAU ET SESSION PAR LIGNE
B6: =HYPERLINK("#AIDE!B30","› RÈGLE DES TESTS") -> › RÈGLE DES TESTS
B7: =HYPERLINK("#AIDE!B34","› COLONNE ÉTAT") -> › COLONNE ÉTAT
B8: =HYPERLINK("#AIDE!B41","› RÉCUPÉRER UNE CLASSE") -> › RÉCUPÉRER UNE CLASSE
B9: =HYPERLINK("#AIDE!B45","› ÉCHELLE UGSEL (1 À 5)") -> › ÉCHELLE UGSEL (1 À 5)
B10: =HYPERLINK("#AIDE!B47","› IMPRESSION") -> › IMPRESSION
B11: =HYPERLINK("#AIDE!B50","› IMPORT D'UNE LISTE D'ÉLÈVES") -> › IMPORT D'UNE LISTE D'ÉLÈVES
B12: =HYPERLINK("#AIDE!B53","› ANNÉES CLÔTURÉES") -> › ANNÉES CLÔTURÉES
B13: =HYPERLINK("#AIDE!B57","› ARCHIVAGE (APRÈS CHAQUE SESSION)") -> › ARCHIVAGE (APRÈS CHAQUE SESSION)
B14: =HYPERLINK("#AIDE!B63","› EXPORTS") -> › EXPORTS
B15: =HYPERLINK("#AIDE!B66","› ANALYSES AUTOMATIQUES") -> › ANALYSES AUTOMATIQUES
B16: =HYPERLINK("#AIDE!B71","› SUIVI DE COHORTE ET ANALYSES") -> › SUIVI DE COHORTE ET ANALYSES
B17: =HYPERLINK("#AIDE!B76","› RESSOURCES ET LIENS") -> › RESSOURCES ET LIENS
B18: =HYPERLINK("#AIDE!B79","› SUR TABLETTE OU TÉLÉPHONE (EXCEL MOBILE)") -> › SUR TABLETTE OU TÉLÉPHONE (EXCEL MOBILE)
B19: =HYPERLINK("#AIDE!B82","› PROTECTION") -> › PROTECTION
B20: =HYPERLINK("#AIDE!B85","› LIBREOFFICE CALC") -> › LIBREOFFICE CALC
B23: DÉMARRAGE
B24: • 1. Renseignez ÉCOLE et VILLE en haut de la feuille SAISIE : sans ces informations, la saisie des élèves est bloquée (elles sont indispensables au suivi longitudinal).
B25: • 2. Renseignez Année, Niveau et Session sur chaque ligne (listes déroulantes), puis saisissez vos élèves et leurs performances.
B26: ANNÉE, NIVEAU ET SESSION PAR LIGNE
B27: • Année / Niveau / Session : remplissez la 1re ligne, sélectionnez-les et double-cliquez sur le carré en bas à droite.
B28: • Ces trois colonnes sont visibles à gauche du tableau : vérifiez-les et corrigez-les directement dans la ligne si besoin (liste déroulante).
B29: • La cellule Niveau apparaît en ORANGE si le même élève porte un autre niveau sur une autre ligne de la même année : c'est une erreur de saisie, corrigez-la.
B30: RÈGLE DES TESTS
B31: • Cycle 2 (CP, CE1, CE2) : 5 tests — Équilibre, Souplesse, Vitesse, Endurance, Coordination.
B32: • Cycle 3 (CM1, CM2) : 8 tests — les 5 précédents + Gainage, Adresse, Force des jambes.
B33: • Pour un élève de Cycle 2, les 3 colonnes du Cycle 3 sont grisées et refusent la saisie.
B34: COLONNE ÉTAT
... B90: • Version minimale recommandée : Excel 2019 / Microsoft 365 (ou Excel mobile), LibreOffice Calc récent — le classeur utilise des fonctions modernes (MAXIFS, etc.).

Sheet SAISIE
B1: SAISIE DES RÉSULTATS — TESTE ET AMÉLIORE TA FORME | T1: RÉCUPÉRER UNE CLASSE / PRÉPARER UNE SESSION | X1: =HYPERLINK("#ACCUEIL!A1","← ACCUEIL") -> ← ACCUEIL
B2: =HYPERLINK("#SAISIE!F"&IFERROR(MATCH(TRUE(),INDEX($F$7:$F$1206="",0),0)+6,7),"Saisir uniquement les performances réalisées — les niveaux UGSEL sont calculés automatiquement. ➜ Prochaine ligne libre : "&IFERROR(MATCH(TRUE(),INDEX($F$7:$F$1206="",0),0)+6,"tableau plein")&" (cliquez ici pour y aller) · "&COUNTIF($F$7:$F$1206,"<>")&" / 1200 lignes utilisées") -> Saisir uniquement les performances réalisées — les niveaux UGSEL sont calculés automatiquement. ➜ Prochaine ligne libre : 7 (cliquez ici pour y aller) · 0 / 1200 lignes utilisées
F3: ÉCOLE | H3: VILLE | J3: SUIVI DE LA SAISIE | T3: Copiez le bloc, puis COLLEZ EN VALEURS (Ctrl+Alt+V, V).
J4: =IF(OR($F$4="",$H$4=""),"⚠ Renseignez ÉCOLE et VILLE"&CHAR(10)&"(requises pour le suivi)",IF((COUNTIF($F$7:$F$1206,"?*")+COUNT($F$7:$F$1206))=0,"Aucun élève saisi",(COUNTIF($F$7:$F$1206,"?*")+COUNT($F$7:$F$1206))&" élève(s) · "&SUM($Z$7:$Z$1206)&" complet(s) ("&ROUND(SUM($Z$7:$Z$1206)/(COUNTIF($F$7:$F$1206,"?*")+COUNT($F$7:$F$1206))*100,0)&"%)")) -> ⚠ Renseignez ÉCOLE et VILLE (requises pour le suivi) | T4: Depuis l'année : | V4: Niveau :
B5: ① Année / Niveau / Session sur la 1re ligne, puis faites glisser le petit carré en bas à droite pour recopier sur toute la classe. ② Saisissez les performances : 5 tests en CP-CE2, 8 tests en CM1-CM2 — les colonnes grisées ne concernent pas le cycle. ③ Un Niveau en ORANGE signale un élève qui a un autre niveau ailleurs. ➜ Session 2 ou classe de l'an dernier : zone RÉCUPÉRER UNE CLASSE à droite, coller en VALEURS. | T5: =IF(OR($U$4="",$W$4=""),"",COUNTIFS(D_ANNEE,$U$4,D_NIVEAU,$W$4,D_SESSION,"S1")&" élève(s) en "&$W$4&" "&$U$4&" · "&COUNTIFS(D_ANNEE,$U$4,D_NIVEAU,$W$4,D_SESSION,"S1",D_MOYNIV,">0")&" avec résultats S1"&IF($X$4=""," · choisissez le mode dans la case à droite du niveau",IF($X$4="→ Session 2 (même année)"," · mode SESSION 2 : "&COUNTIFS(D_ANNEE,$U$4,D_NIVEAU,$W$4,D_SESSION,"S2")&" déjà saisie(s), "&MAX(0,COUNTIFS(D_ANNEE,$U$4,D_NIVEAU,$W$4,D_SESSION,"S1")-COUNTIFS(D_ANNEE,$U$4,D_NIVEAU,$W$4,D_SESSION,"S2"))&" restante(s) à créer"," · mode SESSION 1 de l'année suivante")))
B6: Année scolaire | C6: Niveau scolaire | D6: Session | E6: ID Élève (auto) | F6: Nom | G6: Prénom | H6: Sexe | I6: Né(e) en (facultatif) | J6: Équilibre secondes | K6: Souplesse zone (1-5) | L6: Vitesse mètres (/6s) | M6: Endurance longueurs (/3min) | N6: Coordination cases (/30s) | O6: Gainage secondes | P6: Adresse lancers réussis | Q6: Force des jambes mètres | R6: État | S6: Statut | T6: Nom | U6: Prénom | V6: Sexe | W6: Né(e) en | X6: Niveau (suggéré) | Y6: STATUT_TECH | Z6: VISIBLE_COMPLET | AA6: NIVEAU_INCOHERENT
R7: =IF($F7="","",IF(OR($B7="",$C7="",$D7=""),"⚠ Compléter Année/Niveau/Session",IF(AND($E7<>"",COUNTIF(D_KEY_DOUBLON,$B7&"|"&$D7&"|"&$E7)>1),"⚠ Doublon",IF(AND($E7<>"",COUNTIF(D_KEY_STATUT,$B7&"|"&$E7&"|P")>0,COUNTIF(D_KEY_STATUT,$B7&"|"&$E7&"|A")>0),"⚠ Statut incohérent",IF(AND($D7="S1",$Y7<>"Parti",COUNTIF(ANNEES_VERROU,$B7)>0,COUNTIF(D_KEY_NIVSES,$B7&"|"&$C7&"|S2")>0,COUNTIF(D_KEY_DOUBLON,$B7&"|S2|"&$E7)=0),"⚠ Départ non confirmé ?",IF(AND($C7<>"",ISNUMBER($J7),OR(VALUE(LEFT($B7,4))-$J7<4+IFERROR(MATCH($C7,LISTE_NIVEAUX,0),99),VALUE(LEFT($B7,4))-$J7>6+IFERROR(MATCH($C7,LISTE_NIVEAUX,0),99))),"⚠ Vérifier niveau",IF(AND(IFERROR(VLOOKUP($C7,TABLE_CYCLE,2,0),3)=2,COUNT($P7:$Q7)>0),"⚠ Tests cycle 3",IF(COUNT($K7:$Q7)>=IF(IFERROR(VLOOKUP($C7,TABLE_CYCLE,2,0),3)=2,5,8),"Complet","Incomplet")))))))) | T7: =IFERROR(INDEX(D_NOM,MATCH(ROW()-6,D_RANG_RECUP,0)),"") | U7: =IFERROR(INDEX(D_PRENOM,MATCH(ROW()-6,D_RANG_RECUP,0)),"") | V7: =IFERROR(INDEX(D_SEXE,MATCH(ROW()-6,D_RANG_RECUP,0)),"") | W7: =IFERROR(INDEX(D_NAISS,MATCH(ROW()-6,D_RANG_RECUP,0)),"") | X7: =IF($T7="","",IF($X$4="→ Session 2 (même année)",$W$4,IFERROR(INDEX(LISTE_NIVEAUX,MATCH($W$4,LISTE_NIVEAUX,0)+1),"CM2 terminé"))) | Y7: =IF($S7="","",$S7) | Z7: =SUBTOTAL(103,$F7)*($R7="Complet") -> 0 | AA7: =IF(OR($F7="",$C7=""),0,IF(COUNTIFS($B$7:$B$1206,$B7,$F$7:$F$1206,$F7,$G$7:$G$1206,$H7,$I$7:$I$1206,$J7,$C$7:$C$1206,"<>"&$C7)>0,1,0)) -> 0
E8: =IF(OR($F8="",$G8=""),"",IF(ISNUMBER($I8),TEXT($I8-2000,"00")&"_","__")&UPPER(TRIM($F8))&"_"&UPPER(TRIM($G8))) | R8: =IF($F8="","",IF(OR($B8="",$C8="",$D8=""),"⚠ Compléter Année/Niveau/Session",IF(AND($E8<>"",COUNTIF(D_KEY_DOUBLON,$B8&"|"&$D8&"|"&$E8)>1),"⚠ Doublon",IF(AND($E8<>"",COUNTIF(D_KEY_STATUT,$B8&"|"&$E8&"|P")>0,COUNTIF(D_KEY_STATUT,$B8&"|"&$E8&"|A")>0),"⚠ Statut incohérent",IF(AND($D8="S1",$Y8<>"Parti",COUNTIF(ANNEES_VERROU,$B8)>0,COUNTIF(D_KEY_NIVSES,$B8&"|"&$C8&"|S2")>0,COUNTIF(D_KEY_DOUBLON,$B8&"|S2|"&$E8)=0),"⚠ Départ non confirmé ?",IF(AND($C8<>"",ISNUMBER($I8),OR(VALUE(LEFT($B8,4))-$I8<4+IFERROR(MATCH($C8,LISTE_NIVEAUX,0),99),VALUE(LEFT($B8,4))-$I8>6+IFERROR(MATCH($C8,LISTE_NIVEAUX,0),99))),"⚠ Vérifier niveau",IF(AND(IFERROR(VLOOKUP($C8,TABLE_CYCLE,2,0),3)=2,COUNT($O8:$Q8)>0),"⚠ Tests cycle 3",IF(COUNT($J8:$Q8)>=IF(IFERROR(VLOOKUP($C8,TABLE_CYCLE,2,0),3)=2,5,8),"Complet","Incomplet")))))))) | T8: =IFERROR(INDEX(D_NOM,MATCH(ROW()-6,D_RANG_RECUP,0)),"") | U8: =IFERROR(INDEX(D_PRENOM,MATCH(ROW()-6,D_RANG_RECUP,0)),"") | V8: =IFERROR(INDEX(D_SEXE,MATCH(ROW()-6,D_RANG_RECUP,0)),"") | W8: =IFERROR(INDEX(D_NAISS,MATCH(ROW()-6,D_RANG_RECUP,0)),"") | X8: =IF($T8="","",IF($X$4="→ Session 2 (même année)",$W$4,IFERROR(INDEX(LISTE_NIVEAUX,MATCH($W$4,LISTE_NIVEAUX,0)+1),"CM2 terminé"))) | Y8: =IF($S8="","",$S8) | Z8: =SUBTOTAL(103,$F8)*($R8="Complet") -> 0 | AA8: =IF(OR($F8="",$C8=""),0,IF(COUNTIFS($B$7:$B$1206,$B8,$F$7:$F$1206,$F8,$G$7:$G$1206,$G8,$I$7:$I$1206,$I8,$C$7:$C$1206,"<>"&$C8)>0,1,0)) -> 0
E9: =IF(OR($F9="",$G9=""),"",IF(ISNUMBER($I9),TEXT($I9-2000,"00")&"_","__")&UPPER(TRIM($F9))&"_"&UPPER(TRIM($G9))) | R9: =IF($F9="","",IF(OR($B9="",$C9="",$D9=""),"⚠ Compléter Année/Niveau/Session",IF(AND($E9<>"",COUNTIF(D_KEY_DOUBLON,$B9&"|"&$D9&"|"&$E9)>1),"⚠ Doublon",IF(AND($E9<>"",COUNTIF(D_KEY_STATUT,$B9&"|"&$E9&"|P")>0,COUNTIF(D_KEY_STATUT,$B9&"|"&$E9&"|A")>0),"⚠ Statut incohérent",IF(AND($D9="S1",$Y9<>"Parti",COUNTIF(ANNEES_VERROU,$B9)>0,COUNTIF(D_KEY_NIVSES,$B9&"|"&$C9&"|S2")>0,COUNTIF(D_KEY_DOUBLON,$B9&"|S2|"&$E9)=0),"⚠ Départ non confirmé ?",IF(AND($C9<>"",ISNUMBER($I9),OR(VALUE(LEFT($B9,4))-$I9<4+IFERROR(MATCH($C9,LISTE_NIVEAUX,0),99),VALUE(LEFT($B9,4))-$I9>6+IFERROR(MATCH($C9,LISTE_NIVEAUX,0),99))),"⚠ Vérifier niveau",IF(AND(IFERROR(VLOOKUP($C9,TABLE_CYCLE,2,0),3)=2,COUNT($O9:$Q9)>0),"⚠ Tests cycle 3",IF(COUNT($J9:$Q9)>=IF(IFERROR(VLOOKUP($C9,TABLE_CYCLE,2,0),3)=2,5,8),"Complet","Incomplet")))))))) | T9: =IFERROR(INDEX(D_NOM,MATCH(ROW()-6,D_RANG_RECUP,0)),"") | U9: =IFERROR(INDEX(D_PRENOM,MATCH(ROW()-6,D_RANG_RECUP,0)),"") | V9: =IFERROR(INDEX(D_SEXE,MATCH(ROW()-6,D_RANG_RECUP,0)),"") | W9: =IFERROR(INDEX(D_NAISS,MATCH(ROW()-6,D_RANG_RECUP,0)),"") | X9: =IF($T9="","",IF($X$4="→ Session 2 (même année)",$W$4,IFERROR(INDEX(LISTE_NIVEAUX,MATCH($W$4,LISTE_NIVEAUX,0)+1),"CM2 terminé"))) | Y9: =IF($S9="","",$S9) | Z9: =SUBTOTAL(103,$F9)*($R9="Complet") -> 0 | AA9: =IF(OR($F9="",$C9=""),0,IF(COUNTIFS($B$7:$B$1206,$B9,$F$7:$F$1206,$F9,$G$7:$G$1206,$G9,$I$7:$I$1206,$I9,$C$7:$C$1206,"<>"&$C9)>0,1,0)) -> 0
E10: =IF(OR($F10="",$G10=""),"",IF(ISNUMBER($I10),TEXT($I10-2000,"00")&"_","__")&UPPER(TRIM($F10))&"_"&UPPER(TRIM($G10))) | R10: =IF($F10="","",IF(OR($B10="",$C10="",$D10=""),"⚠ Compléter Année/Niveau/Session",IF(AND($E10<>"",COUNTIF(D_KEY_DOUBLON,$B10&"|"&$D10&"|"&$E10)>1),"⚠ Doublon",IF(AND($E10<>"",COUNTIF(D_KEY_STATUT,$B10&"|"&$E10&"|P")>0,COUNTIF(D_KEY_STATUT,$B10&"|"&$E10&"|A")>0),"⚠ Statut incohérent",IF(AND($D10="S1",$Y10<>"Parti",COUNTIF(ANNEES_VERROU,$B10)>0,COUNTIF(D_KEY_NIVSES,$B10&"|"&$C10&"|S2")>0,COUNTIF(D_KEY_DOUBLON,$B10&"|S2|"&$E10)=0),"⚠ Départ non confirmé ?",IF(AND($C10<>"",ISNUMBER($I10),OR(VALUE(LEFT($B10,4))-$I10<4+IFERROR(MATCH($C10,LISTE_NIVEAUX,0),99),VALUE(LEFT($B10,4))-$I10>6+IFERROR(MATCH($C10,LISTE_NIVEAUX,0),99))),"⚠ Vérifier niveau",IF(AND(IFERROR(VLOOKUP($C10,TABLE_CYCLE,2,0),3)=2,COUNT($O10:$Q10)>0),"⚠ Tests cycle 3",IF(COUNT($J10:$Q10)>=IF(IFERROR(VLOOKUP($C10,TABLE_CYCLE,2,0),3)=2,5,8),"Complet","Incomplet")))))))) | T10: =IFERROR(INDEX(D_NOM,MATCH(ROW()-6,D_RANG_RECUP,0)),"") | U10: =IFERROR(INDEX(D_PRENOM,MATCH(ROW()-6,D_RANG_RECUP,0)),"") | V10: =IFERROR(INDEX(D_SEXE,MATCH(ROW()-6,D_RANG_RECUP,0)),"") | W10: =IFERROR(INDEX(D_NAISS,MATCH(ROW()-6,D_RANG_RECUP,0)),"") | X10: =IF($T10="","",IF($X$4="→ Session 2 (même année)",$W$4,IFERROR(INDEX(LISTE_NIVEAUX,MATCH($W$4,LISTE_NIVEAUX,0)+1),"CM2 terminé"))) | Y10: =IF($S10="","",$S10) | Z10: =SUBTOTAL(103,$F10)*($R10="Complet") -> 0 | AA10: =IF(OR($F10="",$C10=""),0,IF(COUNTIFS($B$7:$B$1206,$B10,$F$7:$F$1206,$F10,$G$7:$G$1206,$G10,$I$7:$I$1206,$I10,$C$7:$C$1206,"<>"&$C10)>0,1,0)) -> 0
E11: =IF(OR($F11="",$G11=""),"",IF(ISNUMBER($I11),TEXT($I11-2000,"00")&"_","__")&UPPER(TRIM($F11))&"_"&UPPER(TRIM($G11))) | R11: =IF($F11="","",IF(OR($B11="",$C11="",$D11=""),"⚠ Compléter Année/Niveau/Session",IF(AND($E11<>"",COUNTIF(D_KEY_DOUBLON,$B11&"|"&$D11&"|"&$E11)>1),"⚠ Doublon",IF(AND($E11<>"",COUNTIF(D_KEY_STATUT,$B11&"|"&$E11&"|P")>0,COUNTIF(D_KEY_STATUT,$B11&"|"&$E11&"|A")>0),"⚠ Statut incohérent",IF(AND($D11="S1",$Y11<>"Parti",COUNTIF(ANNEES_VERROU,$B11)>0,COUNTIF(D_KEY_NIVSES,$B11&"|"&$C11&"|S2")>0,COUNTIF(D_KEY_DOUBLON,$B11&"|S2|"&$E11)=0),"⚠ Départ non confirmé ?",IF(AND($C11<>"",ISNUMBER($I11),OR(VALUE(LEFT($B11,4))-$I11<4+IFERROR(MATCH($C11,LISTE_NIVEAUX,0),99),VALUE(LEFT($B11,4))-$I11>6+IFERROR(MATCH($C11,LISTE_NIVEAUX,0),99))),"⚠ Vérifier niveau",IF(AND(IFERROR(VLOOKUP($C11,TABLE_CYCLE,2,0),3)=2,COUNT($O11:$Q11)>0),"⚠ Tests cycle 3",IF(COUNT($J11:$Q11)>=IF(IFERROR(VLOOKUP($C11,TABLE_CYCLE,2,0),3)=2,5,8),"Complet","Incomplet")))))))) | T11: =IFERROR(INDEX(D_NOM,MATCH(ROW()-6,D_RANG_RECUP,0)),"") | U11: =IFERROR(INDEX(D_PRENOM,MATCH(ROW()-6,D_RANG_RECUP,0)),"") | V11: =IFERROR(INDEX(D_SEXE,MATCH(ROW()-6,D_RANG_RECUP,0)),"") | W11: =IFERROR(INDEX(D_NAISS,MATCH(ROW()-6,D_RANG_RECUP,0)),"") | X11: =IF($T11="","",IF($X$4="→ Session 2 (même année)",$W$4,IFERROR(INDEX(LISTE_NIVEAUX,MATCH($W$4,LISTE_NIVEAUX,0)+1),"CM2 terminé"))) | Y11: =IF($S11="","",$S11) | Z11: =SUBTOTAL(103,$F11)*($R11="Complet") -> 0 | AA11: =IF(OR($F11="",$C11=""),0,IF(COUNTIFS($B$7:$B$1206,$B11,$F$7:$F$1206,$F11,$G$7:$G$1206,$G11,$I$7:$I$1206,$I11,$C$7:$C$1206,"<>"&$C11)>0,1,0)) -> 0
E12: =IF(OR($F12="",$G12=""),"",IF(ISNUMBER($I12),TEXT($I12-2000,"00")&"_","__")&UPPER(TRIM($F12))&"_"&UPPER(TRIM($G12))) | R12: =IF($F12="","",IF(OR($B12="",$C12="",$D12=""),"⚠ Compléter Année/Niveau/Session",IF(AND($E12<>"",COUNTIF(D_KEY_DOUBLON,$B12&"|"&$D12&"|"&$E12)>1),"⚠ Doublon",IF(AND($E12<>"",COUNTIF(D_KEY_STATUT,$B12&"|"&$E12&"|P")>0,COUNTIF(D_KEY_STATUT,$B12&"|"&$E12&"|A")>0),"⚠ Statut incohérent",IF(AND($D12="S1",$Y12<>"Parti",COUNTIF(ANNEES_VERROU,$B12)>0,COUNTIF(D_KEY_NIVSES,$B12&"|"&$C12&"|S2")>0,COUNTIF(D_KEY_DOUBLON,$B12&"|S2|"&$E12)=0),"⚠ Départ non confirmé ?",IF(AND($C12<>"",ISNUMBER($I12),OR(VALUE(LEFT($B12,4))-$I12<4+IFERROR(MATCH($C12,LISTE_NIVEAUX,0),99),VALUE(LEFT($B12,4))-$I12>6+IFERROR(MATCH($C12,LISTE_NIVEAUX,0),99))),"⚠ Vérifier niveau",IF(AND(IFERROR(VLOOKUP($C12,TABLE_CYCLE,2,0),3)=2,COUNT($O12:$Q12)>0),"⚠ Tests cycle 3",IF(COUNT($J12:$Q12)>=IF(IFERROR(VLOOKUP($C12,TABLE_CYCLE,2,0),3)=2,5,8),"Complet","Incomplet")))))))) | T12: =IFERROR(INDEX(D_NOM,MATCH(ROW()-6,D_RANG_RECUP,0)),"") | U12: =IFERROR(INDEX(D_PRENOM,MATCH(ROW()-6,D_RANG_RECUP,0)),"") | V12: =IFERROR(INDEX(D_SEXE,MATCH(ROW()-6,D_RANG_RECUP,0)),"") | W12: =IFERROR(INDEX(D_NAISS,MATCH(ROW()-6,D_RANG_RECUP,0)),"") | X12: =IF($T12="","",IF($X$4="→ Session 2 (même année)",$W$4,IFERROR(INDEX(LISTE_NIVEAUX,MATCH($W$4,LISTE_NIVEAUX,0)+1),"CM2 terminé"))) | Y12: =IF($S12="","",$S12) | Z12: =SUBTOTAL(103,$F12)*($R12="Complet") -> 0 | AA12: =IF(OR($F12="",$C12=""),0,IF(COUNTIFS($B$7:$B$1206,$B12,$F$7:$F$1206,$F12,$G$7:$G$1206,$G12,$I$7:$I$1206,$I12,$C$7:$C$1206,"<>"&$C12)>0,1,0)) -> 0
E13: =IF(OR($F13="",$G13=""),"",IF(ISNUMBER($I13),TEXT($I13-2000,"00")&"_","__")&UPPER(TRIM($F13))&"_"&UPPER(TRIM($G13))) | R13: =IF($F13="","",IF(OR($B13="",$C13="",$D13=""),"⚠ Compléter Année/Niveau/Session",IF(AND($E13<>"",COUNTIF(D_KEY_DOUBLON,$B13&"|"&$D13&"|"&$E13)>1),"⚠ Doublon",IF(AND($E13<>"",COUNTIF(D_KEY_STATUT,$B13&"|"&$E13&"|P")>0,COUNTIF(D_KEY_STATUT,$B13&"|"&$E13&"|A")>0),"⚠ Statut incohérent",IF(AND($D13="S1",$Y13<>"Parti",COUNTIF(ANNEES_VERROU,$B13)>0,COUNTIF(D_KEY_NIVSES,$B13&"|"&$C13&"|S2")>0,COUNTIF(D_KEY_DOUBLON,$B13&"|S2|"&$E13)=0),"⚠ Départ non confirmé ?",IF(AND($C13<>"",ISNUMBER($I13),OR(VALUE(LEFT($B13,4))-$I13<4+IFERROR(MATCH($C13,LISTE_NIVEAUX,0),99),VALUE(LEFT($B13,4))-$I13>6+IFERROR(MATCH($C13,LISTE_NIVEAUX,0),99))),"⚠ Vérifier niveau",IF(AND(IFERROR(VLOOKUP($C13,TABLE_CYCLE,2,0),3)=2,COUNT($O13:$Q13)>0),"⚠ Tests cycle 3",IF(COUNT($J13:$Q13)>=IF(IFERROR(VLOOKUP($C13,TABLE_CYCLE,2,0),3)=2,5,8),"Complet","Incomplet")))))))) | T13: =IFERROR(INDEX(D_NOM,MATCH(ROW()-6,D_RANG_RECUP,0)),"") | U13: =IFERROR(INDEX(D_PRENOM,MATCH(ROW()-6,D_RANG_RECUP,0)),"") | V13: =IFERROR(INDEX(D_SEXE,MATCH(ROW()-6,D_RANG_RECUP,0)),"") | W13: =IFERROR(INDEX(D_NAISS,MATCH(ROW()-6,D_RANG_RECUP,0)),"") | X13: =IF($T13="","",IF($X$4="→ Session 2 (même année)",$W$4,IFERROR(INDEX(LISTE_NIVEAUX,MATCH($W$4,LISTE_NIVEAUX,0)+1),"CM2 terminé"))) | Y13: =IF($S13="","",$S13) | Z13: =SUBTOTAL(103,$F13)*($R13="Complet") -> 0 | AA13: =IF(OR($F13="",$C13=""),0,IF(COUNTIFS($B$7:$B$1206,$B13,$F$7:$F$1206,$F13,$G$7:$G$1206,$G13,$I$7:$I$1206,$I13,$C$7:$C$1206,"<>"&$C13)>0,1,0)) -> 0
E14: =IF(OR($F14="",$G14=""),"",IF(ISNUMBER($I14),TEXT($I14-2000,"00")&"_","__")&UPPER(TRIM($F14))&"_"&UPPER(TRIM($G14))) | R14: =IF($F14="","",IF(OR($B14="",$C14="",$D14=""),"⚠ Compléter Année/Niveau/Session",IF(AND($E14<>"",COUNTIF(D_KEY_DOUBLON,$B14&"|"&$D14&"|"&$E14)>1),"⚠ Doublon",IF(AND($E14<>"",COUNTIF(D_KEY_STATUT,$B14&"|"&$E14&"|P")>0,COUNTIF(D_KEY_STATUT,$B14&"|"&$E14&"|A")>0),"⚠ Statut incohérent",IF(AND($D14="S1",$Y14<>"Parti",COUNTIF(ANNEES_VERROU,$B14)>0,COUNTIF(D_KEY_NIVSES,$B14&"|"&$C14&"|S2")>0,COUNTIF(D_KEY_DOUBLON,$B14&"|S2|"&$E14)=0),"⚠ Départ non confirmé ?",IF(AND($C14<>"",ISNUMBER($I14),OR(VALUE(LEFT($B14,4))-$I14<4+IFERROR(MATCH($C14,LISTE_NIVEAUX,0),99),VALUE(LEFT($B14,4))-$I14>6+IFERROR(MATCH($C14,LISTE_NIVEAUX,0),99))),"⚠ Vérifier niveau",IF(AND(IFERROR(VLOOKUP($C14,TABLE_CYCLE,2,0),3)=2,COUNT($O14:$Q14)>0),"⚠ Tests cycle 3",IF(COUNT($J14:$Q14)>=IF(IFERROR(VLOOKUP($C14,TABLE_CYCLE,2,0),3)=2,5,8),"Complet","Incomplet")))))))) | T14: =IFERROR(INDEX(D_NOM,MATCH(ROW()-6,D_RANG_RECUP,0)),"") | U14: =IFERROR(INDEX(D_PRENOM,MATCH(ROW()-6,D_RANG_RECUP,0)),"") | V14: =IFERROR(INDEX(D_SEXE,MATCH(ROW()-6,D_RANG_RECUP,0)),"") | W14: =IFERROR(INDEX(D_NAISS,MATCH(ROW()-6,D_RANG_RECUP,0)),"") | X14: =IF($T14="","",IF($X$4="→ Session 2 (même année)",$W$4,IFERROR(INDEX(LISTE_NIVEAUX,MATCH($W$4,LISTE_NIVEAUX,0)+1),"CM2 terminé"))) | Y14: =IF($S14="","",$S14) | Z14: =SUBTOTAL(103,$F14)*($R14="Complet") -> 0 | AA14: =IF(OR($F14="",$C14=""),0,IF(COUNTIFS($B$7:$B$1206,$B14,$F$7:$F$1206,$F14,$G$7:$G$1206,$G14,$I$7:$I$1206,$I14,$C$7:$C$1206,"<>"&$C14)>0,1,0)) -> 0
E15: =IF(OR($F15="",$G15=""),"",IF(ISNUMBER($I15),TEXT($I15-2000,"00")&"_","__")&UPPER(TRIM($F15))&"_"&UPPER(TRIM($G15))) | R15: =IF($F15="","",IF(OR($B15="",$C15="",$D15=""),"⚠ Compléter Année/Niveau/Session",IF(AND($E15<>"",COUNTIF(D_KEY_DOUBLON,$B15&"|"&$D15&"|"&$E15)>1),"⚠ Doublon",IF(AND($E15<>"",COUNTIF(D_KEY_STATUT,$B15&"|"&$E15&"|P")>0,COUNTIF(D_KEY_STATUT,$B15&"|"&$E15&"|A")>0),"⚠ Statut incohérent",IF(AND($D15="S1",$Y15<>"Parti",COUNTIF(ANNEES_VERROU,$B15)>0,COUNTIF(D_KEY_NIVSES,$B15&"|"&$C15&"|S2")>0,COUNTIF(D_KEY_DOUBLON,$B15&"|S2|"&$E15)=0),"⚠ Départ non confirmé ?",IF(AND($C15<>"",ISNUMBER($I15),OR(VALUE(LEFT($B15,4))-$I15<4+IFERROR(MATCH($C15,LISTE_NIVEAUX,0),99),VALUE(LEFT($B15,4))-$I15>6+IFERROR(MATCH($C15,LISTE_NIVEAUX,0),99))),"⚠ Vérifier niveau",IF(AND(IFERROR(VLOOKUP($C15,TABLE_CYCLE,2,0),3)=2,COUNT($O15:$Q15)>0),"⚠ Tests cycle 3",IF(COUNT($J15:$Q15)>=IF(IFERROR(VLOOKUP($C15,TABLE_CYCLE,2,0),3)=2,5,8),"Complet","Incomplet")))))))) | T15: =IFERROR(INDEX(D_NOM,MATCH(ROW()-6,D_RANG_RECUP,0)),"") | U15: =IFERROR(INDEX(D_PRENOM,MATCH(ROW()-6,D_RANG_RECUP,0)),"") | V15: =IFERROR(INDEX(D_SEXE,MATCH(ROW()-6,D_RANG_RECUP,0)),"") | W15: =IFERROR(INDEX(D_NAISS,MATCH(ROW()-6,D_RANG_RECUP,0)),"") | X15: =IF($T15="","",IF($X$4="→ Session 2 (même année)",$W$4,IFERROR(INDEX(LISTE_NIVEAUX,MATCH($W$4,LISTE_NIVEAUX,0)+1),"CM2 terminé"))) | Y15: =IF($S15="","",$S15) | Z15: =SUBTOTAL(103,$F15)*($R15="Complet") -> 0 | AA15: =IF(OR($F15="",$C15=""),0,IF(COUNTIFS($B$7:$B$1206,$B15,$F$7:$F$1206,$F15,$G$7:$G$1206,$G15,$I$7:$I$1206,$I15,$C$7:$C$1206,"<>"&$C15)>0,1,0)) -> 0
E16: =IF(OR($F16="",$G16=""),"",IF(ISNUMBER($I16),TEXT($I16-2000,"00")&"_","__")&UPPER(TRIM($F16))&"_"&UPPER(TRIM($G16))) | R16: =IF($F16="","",IF(OR($B16="",$C16="",$D16=""),"⚠ Compléter Année/Niveau/Session",IF(AND($E16<>"",COUNTIF(D_KEY_DOUBLON,$B16&"|"&$D16&"|"&$E16)>1),"⚠ Doublon",IF(AND($E16<>"",COUNTIF(D_KEY_STATUT,$B16&"|"&$E16&"|P")>0,COUNTIF(D_KEY_STATUT,$B16&"|"&$E16&"|A")>0),"⚠ Statut incohérent",IF(AND($D16="S1",$Y16<>"Parti",COUNTIF(ANNEES_VERROU,$B16)>0,COUNTIF(D_KEY_NIVSES,$B16&"|"&$C16&"|S2")>0,COUNTIF(D_KEY_DOUBLON,$B16&"|S2|"&$E16)=0),"⚠ Départ non confirmé ?",IF(AND($C16<>"",ISNUMBER($I16),OR(VALUE(LEFT($B16,4))-$I16<4+IFERROR(MATCH($C16,LISTE_NIVEAUX,0),99),VALUE(LEFT($B16,4))-$I16>6+IFERROR(MATCH($C16,LISTE_NIVEAUX,0),99))),"⚠ Vérifier niveau",IF(AND(IFERROR(VLOOKUP($C16,TABLE_CYCLE,2,0),3)=2,COUNT($O16:$Q16)>0),"⚠ Tests cycle 3",IF(COUNT($J16:$Q16)>=IF(IFERROR(VLOOKUP($C16,TABLE_CYCLE,2,0),3)=2,5,8),"Complet","Incomplet")))))))) | T16: =IFERROR(INDEX(D_NOM,MATCH(ROW()-6,D_RANG_RECUP,0)),"") | U16: =IFERROR(INDEX(D_PRENOM,MATCH(ROW()-6,D_RANG_RECUP,0)),"") | V16: =IFERROR(INDEX(D_SEXE,MATCH(ROW()-6,D_RANG_RECUP,0)),"") | W16: =IFERROR(INDEX(D_NAISS,MATCH(ROW()-6,D_RANG_RECUP,0)),"") | X16: =IF($T16="","",IF($X$4="→ Session 2 (même année)",$W$4,IFERROR(INDEX(LISTE_NIVEAUX,MATCH($W$4,LISTE_NIVEAUX,0)+1),"CM2 terminé"))) | Y16: =IF($S16="","",$S16) | Z16: =SUBTOTAL(103,$F16)*($R16="Complet") -> 0 | AA16: =IF(OR($F16="",$C16=""),0,IF(COUNTIFS($B$7:$B$1206,$B16,$F$7:$F$1206,$F16,$G$7:$G$1206,$G16,$I$7:$I$1206,$I16,$C$7:$C$1206,"<>"&$C16)>0,1,0)) -> 0
E17: =IF(OR($F17="",$G17=""),"",IF(ISNUMBER($I17),TEXT($I17-2000,"00")&"_","__")&UPPER(TRIM($F17))&"_"&UPPER(TRIM($G17))) | R17: =IF($F17="","",IF(OR($B17="",$C17="",$D17=""),"⚠ Compléter Année/Niveau/Session",IF(AND($E17<>"",COUNTIF(D_KEY_DOUBLON,$B17&"|"&$D17&"|"&$E17)>1),"⚠ Doublon",IF(AND($E17<>"",COUNTIF(D_KEY_STATUT,$B17&"|"&$E17&"|P")>0,COUNTIF(D_KEY_STATUT,$B17&"|"&$E17&"|A")>0),"⚠ Statut incohérent",IF(AND($D17="S1",$Y17<>"Parti",COUNTIF(ANNEES_VERROU,$B17)>0,COUNTIF(D_KEY_NIVSES,$B17&"|"&$C17&"|S2")>0,COUNTIF(D_KEY_DOUBLON,$B17&"|S2|"&$E17)=0),"⚠ Départ non confirmé ?",IF(AND($C17<>"",ISNUMBER($I17),OR(VALUE(LEFT($B17,4))-$I17<4+IFERROR(MATCH($C17,LISTE_NIVEAUX,0),99),VALUE(LEFT($B17,4))-$I17>6+IFERROR(MATCH($C17,LISTE_NIVEAUX,0),99))),"⚠ Vérifier niveau",IF(AND(IFERROR(VLOOKUP($C17,TABLE_CYCLE,2,0),3)=2,COUNT($O17:$Q17)>0),"⚠ Tests cycle 3",IF(COUNT($J17:$Q17)>=IF(IFERROR(VLOOKUP($C17,TABLE_CYCLE,2,0),3)=2,5,8),"Complet","Incomplet")))))))) | T17: =IFERROR(INDEX(D_NOM,MATCH(ROW()-6,D_RANG_RECUP,0)),"") | U17: =IFERROR(INDEX(D_PRENOM,MATCH(ROW()-6,D_RANG_RECUP,0)),"") | V17: =IFERROR(INDEX(D_SEXE,MATCH(ROW()-6,D_RANG_RECUP,0)),"") | W17: =IFERROR(INDEX(D_NAISS,MATCH(ROW()-6,D_RANG_RECUP,0)),"") | X17: =IF($T17="","",IF($X$4="→ Session 2 (même année)",$W$4,IFERROR(INDEX(LISTE_NIVEAUX,MATCH($W$4,LISTE_NIVEAUX,0)+1),"CM2 terminé"))) | Y17: =IF($S17="","",$S17) | Z17: =SUBTOTAL(103,$F17)*($R17="Complet") -> 0 | AA17: =IF(OR($F17="",$C17=""),0,IF(COUNTIFS($B$7:$B$1206,$B17,$F$7:$F$1206,$F17,$G$7:$G$1206,$G17,$I$7:$I$1206,$I17,$C$7:$C$1206,"<>"&$C17)>0,1,0)) -> 0
E18: =IF(OR($F18="",$G18=""),"",IF(ISNUMBER($I18),TEXT($I18-2000,"00")&"_","__")&UPPER(TRIM($F18))&"_"&UPPER(TRIM($G18))) | R18: =IF($F18="","",IF(OR($B18="",$C18="",$D18=""),"⚠ Compléter Année/Niveau/Session",IF(AND($E18<>"",COUNTIF(D_KEY_DOUBLON,$B18&"|"&$D18&"|"&$E18)>1),"⚠ Doublon",IF(AND($E18<>"",COUNTIF(D_KEY_STATUT,$B18&"|"&$E18&"|P")>0,COUNTIF(D_KEY_STATUT,$B18&"|"&$E18&"|A")>0),"⚠ Statut incohérent",IF(AND($D18="S1",$Y18<>"Parti",COUNTIF(ANNEES_VERROU,$B18)>0,COUNTIF(D_KEY_NIVSES,$B18&"|"&$C18&"|S2")>0,COUNTIF(D_KEY_DOUBLON,$B18&"|S2|"&$E18)=0),"⚠ Départ non confirmé ?",IF(AND($C18<>"",ISNUMBER($I18),OR(VALUE(LEFT($B18,4))-$I18<4+IFERROR(MATCH($C18,LISTE_NIVEAUX,0),99),VALUE(LEFT($B18,4))-$I18>6+IFERROR(MATCH($C18,LISTE_NIVEAUX,0),99))),"⚠ Vérifier niveau",IF(AND(IFERROR(VLOOKUP($C18,TABLE_CYCLE,2,0),3)=2,COUNT($O18:$Q18)>0),"⚠ Tests cycle 3",IF(COUNT($J18:$Q18)>=IF(IFERROR(VLOOKUP($C18,TABLE_CYCLE,2,0),3)=2,5,8),"Complet","Incomplet")))))))) | T18: =IFERROR(INDEX(D_NOM,MATCH(ROW()-6,D_RANG_RECUP,0)),"") | U18: =IFERROR(INDEX(D_PRENOM,MATCH(ROW()-6,D_RANG_RECUP,0)),"") | V18: =IFERROR(INDEX(D_SEXE,MATCH(ROW()-6,D_RANG_RECUP,0)),"") | W18: =IFERROR(INDEX(D_NAISS,MATCH(ROW()-6,D_RANG_RECUP,0)),"") | X18: =IF($T18="","",IF($X$4="→ Session 2 (même année)",$W$4,IFERROR(INDEX(LISTE_NIVEAUX,MATCH($W$4,LISTE_NIVEAUX,0)+1),"CM2 terminé"))) | Y18: =IF($S18="","",$S18) | Z18: =SUBTOTAL(103,$F18)*($R18="Complet") -> 0 | AA18: =IF(OR($F18="",$C18=""),0,IF(COUNTIFS($B$7:$B$1206,$B18,$F$7:$F$1206,$F18,$G$7:$G$1206,$G18,$I$7:$I$1206,$I18,$C$7:$C$1206,"<>"&$C18)>0,1,0)) -> 0
E19: =IF(OR($F19="",$G19=""),"",IF(ISNUMBER($I19),TEXT($I19-2000,"00")&"_","__")&UPPER(TRIM($F19))&"_"&UPPER(TRIM($G19))) | R19: =IF($F19="","",IF(OR($B19="",$C19="",$D19=""),"⚠ Compléter Année/Niveau/Session",IF(AND($E19<>"",COUNTIF(D_KEY_DOUBLON,$B19&"|"&$D19&"|"&$E19)>1),"⚠ Doublon",IF(AND($E19<>"",COUNTIF(D_KEY_STATUT,$B19&"|"&$E19&"|P")>0,COUNTIF(D_KEY_STATUT,$B19&"|"&$E19&"|A")>0),"⚠ Statut incohérent",IF(AND($D19="S1",$Y19<>"Parti",COUNTIF(ANNEES_VERROU,$B19)>0,COUNTIF(D_KEY_NIVSES,$B19&"|"&$C19&"|S2")>0,COUNTIF(D_KEY_DOUBLON,$B19&"|S2|"&$E19)=0),"⚠ Départ non confirmé ?",IF(AND($C19<>"",ISNUMBER($I19),OR(VALUE(LEFT($B19,4))-$I19<4+IFERROR(MATCH($C19,LISTE_NIVEAUX,0),99),VALUE(LEFT($B19,4))-$I19>6+IFERROR(MATCH($C19,LISTE_NIVEAUX,0),99))),"⚠ Vérifier niveau",IF(AND(IFERROR(VLOOKUP($C19,TABLE_CYCLE,2,0),3)=2,COUNT($O19:$Q19)>0),"⚠ Tests cycle 3",IF(COUNT($J19:$Q19)>=IF(IFERROR(VLOOKUP($C19,TABLE_CYCLE,2,0),3)=2,5,8),"Complet","Incomplet")))))))) | T19: =IFERROR(INDEX(D_NOM,MATCH(ROW()-6,D_RANG_RECUP,0)),"") | U19: =IFERROR(INDEX(D_PRENOM,MATCH(ROW()-6,D_RANG_RECUP,0)),"") | V19: =IFERROR(INDEX(D_SEXE,MATCH(ROW()-6,D_RANG_RECUP,0)),"") | W19: =IFERROR(INDEX(D_NAISS,MATCH(ROW()-6,D_RANG_RECUP,0)),"") | X19: =IF($T19="","",IF($X$4="→ Session 2 (même année)",$W$4,IFERROR(INDEX(LISTE_NIVEAUX,MATCH($W$4,LISTE_NIVEAUX,0)+1),"CM2 terminé"))) | Y19: =IF($S19="","",$S19) | Z19: =SUBTOTAL(103,$F19)*($R19="Complet") -> 0 | AA19: =IF(OR($F19="",$C19=""),0,IF(COUNTIFS($B$7:$B$1206,$B19,$F$7:$F$1206,$F19,$G$7:$G$1206,$G19,$I$7:$I$1206,$I19,$C$7:$C$1206,"<>"&$C19)>0,1,0)) -> 0
... E1206: =IF(OR($F1206="",$G1206=""),"",IF(ISNUMBER($I1206),TEXT($I1206-2000,"00")&"_","__")&UPPER(TRIM($F1206))&"_"&UPPER(TRIM($G1206))) | R1206: =IF($F1206="","",IF(OR($B1206="",$C1206="",$D1206=""),"⚠ Compléter Année/Niveau/Session",IF(AND($E1206<>"",COUNTIF(D_KEY_DOUBLON,$B1206&"|"&$D1206&"|"&$E1206)>1),"⚠ Doublon",IF(AND($E1206<>"",COUNTIF(D_KEY_STATUT,$B1206&"|"&$E1206&"|P")>0,COUNTIF(D_KEY_STATUT,$B1206&"|"&$E1206&"|A")>0),"⚠ Statut incohérent",IF(AND($D1206="S1",$Y1206<>"Parti",COUNTIF(ANNEES_VERROU,$B1206)>0,COUNTIF(D_KEY_NIVSES,$B1206&"|"&$C1206&"|S2")>0,COUNTIF(D_KEY_DOUBLON,$B1206&"|S2|"&$E1206)=0),"⚠ Départ non confirmé ?",IF(AND($C1206<>"",ISNUMBER($I1206),OR(VALUE(LEFT($B1206,4))-$I1206<4+IFERROR(MATCH($C1206,LISTE_NIVEAUX,0),99),VALUE(LEFT($B1206,4))-$I1206>6+IFERROR(MATCH($C1206,LISTE_NIVEAUX,0),99))),"⚠ Vérifier niveau",IF(AND(IFERROR(VLOOKUP($C1206,TABLE_CYCLE,2,0),3)=2,COUNT($O1206:$Q1206)>0),"⚠ Tests cycle 3",IF(COUNT($J1206:$Q1206)>=IF(IFERROR(VLOOKUP($C1206,TABLE_CYCLE,2,0),3)=2,5,8),"Complet","Incomplet")))))))) | T1206: =IFERROR(INDEX(D_NOM,MATCH(ROW()-6,D_RANG_RECUP,0)),"") | U1206: =IFERROR(INDEX(D_PRENOM,MATCH(ROW()-6,D_RANG_RECUP,0)),"") | V1206: =IFERROR(INDEX(D_SEXE,MATCH(ROW()-6,D_RANG_RECUP,0)),"") | W1206: =IFERROR(INDEX(D_NAISS,MATCH(ROW()-6,D_RANG_RECUP,0)),"") | X1206: =IF($T1206="","",IF($X$4="→ Session 2 (même année)",$W$4,IFERROR(INDEX(LISTE_NIVEAUX,MATCH($W$4,LISTE_NIVEAUX,0)+1),"CM2 terminé"))) | Y1206: =IF($S1206="","",$S1206) | Z1206: =SUBTOTAL(103,$F1206)*($R1206="Complet") -> 0 | AA1206: =IF(OR($F1206="",$C1206=""),0,IF(COUNTIFS($B$7:$B$1206,$B1206,$F$7:$F$1206,$F1206,$G$7:$G$1206,$G1206,$I$7:$I$1206,$I1206,$C$7:$C$1206,"<>"&$C1206)>0,1,0)) -> 0
B1208: LÉGENDE — Colonne État | E1208: Signification
B1209: Complet | E1209: Tous les tests attendus sont saisis.
B1210: Incomplet | E1210: Il manque au moins un test sur cette ligne.
B1211: ⚠ Doublon | E1211: Même élève saisi deux fois pour la même session.
B1212: ⚠ Statut incohérent | E1212: S1 et S2 du même élève n'ont pas le même statut.
B1213: ⚠ Départ non confirmé ? | E1213: Élève en S1 sans ligne S2 et sans Statut=Parti.
B1214: ⚠ Vérifier niveau | E1214: L'âge ne correspond pas au niveau — redoublement ou erreur ?
B1216: PASSAGE S1 → S2 (même classe, même année) — S2 = nouvelles lignes : ne modifiez jamais les lignes S1
B1217: 1. Passez le menu Session sur S2 (Année et Niveau inchangés)
B1218: 2. Copiez les colonnes Nom → Né(e) en (F à I) des lignes S1 de la classe
B1219: 3. Collez sur la prochaine ligne libre : Année / Niveau / Session se remplissent automatiquement en S2
B1220: 4. Saisissez les performances de fin d’année
B1221: Nouvel élève : ajoutez simplement une ligne. Élève qui part : Statut = Parti sur ses lignes S1 et S2.

Sheet PROFIL ELEVE
A1: PROFIL ÉLÈVE
A2: Sélectionner un élève et une année scolaire pour afficher son profil détaillé. | R2: =HYPERLINK("#ACCUEIL!A1","← ACCUEIL") -> ← ACCUEIL | Y2: =IFERROR(INDEX(D_IDUNIQUE,MATCH(ROW()-1,D_RANG_PROFIL,0)),"") | Z2: =IF($Y2="","",UPPER(INDEX(D_NOM,MATCH($Y2,D_ID,0)))&" "&INDEX(D_PRENOM,MATCH($Y2,D_ID,0))&" — "&INDEX(D_NIVEAU_ACTUEL,MATCH($Y2,D_ID,0)))
C3: ÉLÈVE (ID) | H3: ANNÉE SCOLAIRE | K3: NIVEAU SCOLAIRE | N3: =HYPERLINK("#'FICHE PARENTS'!A1","🖨 FICHE PARENTS →") -> 🖨 FICHE PARENTS → | Y3: =IFERROR(INDEX(D_IDUNIQUE,MATCH(ROW()-1,D_RANG_PROFIL,0)),"") | Z3: =IF($Y3="","",UPPER(INDEX(D_NOM,MATCH($Y3,D_ID,0)))&" "&INDEX(D_PRENOM,MATCH($Y3,D_ID,0))&" — "&INDEX(D_NIVEAU_ACTUEL,MATCH($Y3,D_ID,0)))
H4: 2026-2027 | K4: (Tous) | S4: =IFERROR(INDEX($Y$2:$Y$1201,MATCH($C$4,$Z$2:$Z$1201,0)),"")&"|"&$H$4&"|"&"S1" -> |2026-2027|S1 | T4: =IFERROR(INDEX($Y$2:$Y$1201,MATCH($C$4,$Z$2:$Z$1201,0)),"")&"|"&$H$4&"|"&"S2" -> |2026-2027|S2 | U4: =IFERROR(MATCH($S$4,D_KEY,0),0) -> 0 | V4: =IFERROR(MATCH($T$4,D_KEY,0),0) -> 0 | W4: =IF($U$4<>0,$U$4,$V$4) -> 0 | X4: =IFERROR(IF(VLOOKUP($M$6,TABLE_CYCLE,2,0)=2,5,8),8) -> 8 | Y4: =IFERROR(INDEX(D_IDUNIQUE,MATCH(ROW()-1,D_RANG_PROFIL,0)),"") | Z4: =IF($Y4="","",UPPER(INDEX(D_NOM,MATCH($Y4,D_ID,0)))&" "&INDEX(D_PRENOM,MATCH($Y4,D_ID,0))&" — "&INDEX(D_NIVEAU_ACTUEL,MATCH($Y4,D_ID,0)))
Y5: =IFERROR(INDEX(D_IDUNIQUE,MATCH(ROW()-1,D_RANG_PROFIL,0)),"") | Z5: =IF($Y5="","",UPPER(INDEX(D_NOM,MATCH($Y5,D_ID,0)))&" "&INDEX(D_PRENOM,MATCH($Y5,D_ID,0))&" — "&INDEX(D_NIVEAU_ACTUEL,MATCH($Y5,D_ID,0)))
B6: Nom : | C6: =IF($W$4=0,"Aucun élève sélectionné",INDEX(D_NOM,$W$4)) -> Aucun élève sélectionné | G6: Prénom : | H6: =IF($W$4=0,"—",INDEX(D_PRENOM,$W$4)) -> — | L6: Niveau : | M6: =IF($W$4=0,"—",INDEX(D_NIVEAU,$W$4)) -> — | X6: =IF(COUNT($D$30:$D$37)>0,2,1) -> 1 | Y6: =IFERROR(INDEX(D_IDUNIQUE,MATCH(ROW()-1,D_RANG_PROFIL,0)),"") | Z6: =IF($Y6="","",UPPER(INDEX(D_NOM,MATCH($Y6,D_ID,0)))&" "&INDEX(D_PRENOM,MATCH($Y6,D_ID,0))&" — "&INDEX(D_NIVEAU_ACTUEL,MATCH($Y6,D_ID,0)))
B7: Sessions : | C7: =IF($U$4<>0,"✓ Session 1 saisie","✗ Session 1 absente") -> ✗ Session 1 absente | F7: =IF($V$4<>0,"✓ Session 2 saisie","✗ Session 2 absente") -> ✗ Session 2 absente | J7: =IF(OR($W$4=0,$X$7=""),"","Point fort : "&$X$7) | N7: =IF(OR($W$4=0,$X$8=""),"","À travailler : "&$X$8) | X7: =IFERROR(INDEX($B$30:$B$37,MATCH(_xlfn.MAXIFS($V$30:$V$37,$V$30:$V$37,">0"),$V$30:$V$37,0)),"") -> Équilibre | Y7: =IFERROR(INDEX(D_IDUNIQUE,MATCH(ROW()-1,D_RANG_PROFIL,0)),"") | Z7: =IF($Y7="","",UPPER(INDEX(D_NOM,MATCH($Y7,D_ID,0)))&" "&INDEX(D_PRENOM,MATCH($Y7,D_ID,0))&" — "&INDEX(D_NIVEAU_ACTUEL,MATCH($Y7,D_ID,0)))
X8: =IFERROR(INDEX($B$30:$B$37,MATCH(_xlfn.MINIFS($V$30:$V$37,$V$30:$V$37,">0"),$V$30:$V$37,0)),"") -> Équilibre | Y8: =IFERROR(INDEX(D_IDUNIQUE,MATCH(ROW()-1,D_RANG_PROFIL,0)),"") | Z8: =IF($Y8="","",UPPER(INDEX(D_NOM,MATCH($Y8,D_ID,0)))&" "&INDEX(D_PRENOM,MATCH($Y8,D_ID,0))&" — "&INDEX(D_NIVEAU_ACTUEL,MATCH($Y8,D_ID,0)))
Y9: =IFERROR(INDEX(D_IDUNIQUE,MATCH(ROW()-1,D_RANG_PROFIL,0)),"") | Z9: =IF($Y9="","",UPPER(INDEX(D_NOM,MATCH($Y9,D_ID,0)))&" "&INDEX(D_PRENOM,MATCH($Y9,D_ID,0))&" — "&INDEX(D_NIVEAU_ACTUEL,MATCH($Y9,D_ID,0)))
B10: Équilibre | F10: Souplesse | J10: Vitesse | N10: Endurance | Y10: =IFERROR(INDEX(D_IDUNIQUE,MATCH(ROW()-1,D_RANG_PROFIL,0)),"") | Z10: =IF($Y10="","",UPPER(INDEX(D_NOM,MATCH($Y10,D_ID,0)))&" "&INDEX(D_PRENOM,MATCH($Y10,D_ID,0))&" — "&INDEX(D_NIVEAU_ACTUEL,MATCH($Y10,D_ID,0)))
B11: secondes | F11: zone (1-5) | J11: mètres (/6s) | N11: longueurs (/3min) | Y11: =IFERROR(INDEX(D_IDUNIQUE,MATCH(ROW()-1,D_RANG_PROFIL,0)),"") | Z11: =IF($Y11="","",UPPER(INDEX(D_NOM,MATCH($Y11,D_ID,0)))&" "&INDEX(D_PRENOM,MATCH($Y11,D_ID,0))&" — "&INDEX(D_NIVEAU_ACTUEL,MATCH($Y11,D_ID,0)))
C12: Perf. | D12: Niveau | G12: Perf. | H12: Niveau | K12: Perf. | L12: Niveau | O12: Perf. | P12: Niveau | Y12: =IFERROR(INDEX(D_IDUNIQUE,MATCH(ROW()-1,D_RANG_PROFIL,0)),"") | Z12: =IF($Y12="","",UPPER(INDEX(D_NOM,MATCH($Y12,D_ID,0)))&" "&INDEX(D_PRENOM,MATCH($Y12,D_ID,0))&" — "&INDEX(D_NIVEAU_ACTUEL,MATCH($Y12,D_ID,0)))
B13: S1 | C13: =IF($U$4=0,"",INDEX(D_EQ_PERF,$U$4)) | D13: =IF($U$4=0,"",INDEX(D_EQ_NIV,$U$4)) | F13: S1 | G13: =IF($U$4=0,"",INDEX(D_SO_PERF,$U$4)) | H13: =IF($U$4=0,"",INDEX(D_SO_NIV,$U$4)) | J13: S1 | K13: =IF($U$4=0,"",INDEX(D_VI_PERF,$U$4)) | L13: =IF($U$4=0,"",INDEX(D_VI_NIV,$U$4)) | N13: S1 | O13: =IF($U$4=0,"",INDEX(D_EN_PERF,$U$4)) | P13: =IF($U$4=0,"",INDEX(D_EN_NIV,$U$4)) | Y13: =IFERROR(INDEX(D_IDUNIQUE,MATCH(ROW()-1,D_RANG_PROFIL,0)),"") | Z13: =IF($Y13="","",UPPER(INDEX(D_NOM,MATCH($Y13,D_ID,0)))&" "&INDEX(D_PRENOM,MATCH($Y13,D_ID,0))&" — "&INDEX(D_NIVEAU_ACTUEL,MATCH($Y13,D_ID,0)))
B14: S2 | C14: =IF($V$4=0,"",INDEX(D_EQ_PERF,$V$4)) | D14: =IF($V$4=0,"",INDEX(D_EQ_NIV,$V$4)) | F14: S2 | G14: =IF($V$4=0,"",INDEX(D_SO_PERF,$V$4)) | H14: =IF($V$4=0,"",INDEX(D_SO_NIV,$V$4)) | J14: S2 | K14: =IF($V$4=0,"",INDEX(D_VI_PERF,$V$4)) | L14: =IF($V$4=0,"",INDEX(D_VI_NIV,$V$4)) | N14: S2 | O14: =IF($V$4=0,"",INDEX(D_EN_PERF,$V$4)) | P14: =IF($V$4=0,"",INDEX(D_EN_NIV,$V$4)) | Y14: =IFERROR(INDEX(D_IDUNIQUE,MATCH(ROW()-1,D_RANG_PROFIL,0)),"") | Z14: =IF($Y14="","",UPPER(INDEX(D_NOM,MATCH($Y14,D_ID,0)))&" "&INDEX(D_PRENOM,MATCH($Y14,D_ID,0))&" — "&INDEX(D_NIVEAU_ACTUEL,MATCH($Y14,D_ID,0)))
B15: Évolution | C15: =IF(OR(D13="",D14=""),"Non testé",IF(D14-D13>0,"▲ +"&(D14-D13)&" niv.",IF(D14-D13<0,"▼ "&(D14-D13)&" niv.","➜ stable"))) -> Non testé | F15: Évolution | G15: =IF(OR(H13="",H14=""),"Non testé",IF(H14-H13>0,"▲ +"&(H14-H13)&" niv.",IF(H14-H13<0,"▼ "&(H14-H13)&" niv.","➜ stable"))) -> Non testé | J15: Évolution | K15: =IF(OR(L13="",L14=""),"Non testé",IF(L14-L13>0,"▲ +"&(L14-L13)&" niv.",IF(L14-L13<0,"▼ "&(L14-L13)&" niv.","➜ stable"))) -> Non testé | N15: Évolution | O15: =IF(OR(P13="",P14=""),"Non testé",IF(P14-P13>0,"▲ +"&(P14-P13)&" niv.",IF(P14-P13<0,"▼ "&(P14-P13)&" niv.","➜ stable"))) -> Non testé | Y15: =IFERROR(INDEX(D_IDUNIQUE,MATCH(ROW()-1,D_RANG_PROFIL,0)),"") | Z15: =IF($Y15="","",UPPER(INDEX(D_NOM,MATCH($Y15,D_ID,0)))&" "&INDEX(D_PRENOM,MATCH($Y15,D_ID,0))&" — "&INDEX(D_NIVEAU_ACTUEL,MATCH($Y15,D_ID,0)))
Y16: =IFERROR(INDEX(D_IDUNIQUE,MATCH(ROW()-1,D_RANG_PROFIL,0)),"") | Z16: =IF($Y16="","",UPPER(INDEX(D_NOM,MATCH($Y16,D_ID,0)))&" "&INDEX(D_PRENOM,MATCH($Y16,D_ID,0))&" — "&INDEX(D_NIVEAU_ACTUEL,MATCH($Y16,D_ID,0)))
B17: ="Moy. niveau scolaire : "&IFERROR(ROUND(AVERAGEIFS(D_EQ_NIV,D_ANNEE,$H$4,D_NIVEAU,$M$6,D_EQ_NIV,">0"),1),"Non réalisée") -> Moy. niveau scolaire : Non réalisée | F17: ="Moy. niveau scolaire : "&IFERROR(ROUND(AVERAGEIFS(D_SO_NIV,D_ANNEE,$H$4,D_NIVEAU,$M$6,D_SO_NIV,">0"),1),"Non réalisée") -> Moy. niveau scolaire : Non réalisée | J17: ="Moy. niveau scolaire : "&IFERROR(ROUND(AVERAGEIFS(D_VI_NIV,D_ANNEE,$H$4,D_NIVEAU,$M$6,D_VI_NIV,">0"),1),"Non réalisée") -> Moy. niveau scolaire : Non réalisée | N17: ="Moy. niveau scolaire : "&IFERROR(ROUND(AVERAGEIFS(D_EN_NIV,D_ANNEE,$H$4,D_NIVEAU,$M$6,D_EN_NIV,">0"),1),"Non réalisée") -> Moy. niveau scolaire : Non réalisée | Y17: =IFERROR(INDEX(D_IDUNIQUE,MATCH(ROW()-1,D_RANG_PROFIL,0)),"") | Z17: =IF($Y17="","",UPPER(INDEX(D_NOM,MATCH($Y17,D_ID,0)))&" "&INDEX(D_PRENOM,MATCH($Y17,D_ID,0))&" — "&INDEX(D_NIVEAU_ACTUEL,MATCH($Y17,D_ID,0)))
Y18: =IFERROR(INDEX(D_IDUNIQUE,MATCH(ROW()-1,D_RANG_PROFIL,0)),"") | Z18: =IF($Y18="","",UPPER(INDEX(D_NOM,MATCH($Y18,D_ID,0)))&" "&INDEX(D_PRENOM,MATCH($Y18,D_ID,0))&" — "&INDEX(D_NIVEAU_ACTUEL,MATCH($Y18,D_ID,0)))
B19: Coordination | F19: Gainage | J19: Adresse | N19: Force des jambes | Y19: =IFERROR(INDEX(D_IDUNIQUE,MATCH(ROW()-1,D_RANG_PROFIL,0)),"") | Z19: =IF($Y19="","",UPPER(INDEX(D_NOM,MATCH($Y19,D_ID,0)))&" "&INDEX(D_PRENOM,MATCH($Y19,D_ID,0))&" — "&INDEX(D_NIVEAU_ACTUEL,MATCH($Y19,D_ID,0)))
B20: cases (/30s) | F20: secondes | J20: lancers réussis | N20: mètres | Y20: =IFERROR(INDEX(D_IDUNIQUE,MATCH(ROW()-1,D_RANG_PROFIL,0)),"") | Z20: =IF($Y20="","",UPPER(INDEX(D_NOM,MATCH($Y20,D_ID,0)))&" "&INDEX(D_PRENOM,MATCH($Y20,D_ID,0))&" — "&INDEX(D_NIVEAU_ACTUEL,MATCH($Y20,D_ID,0)))
C21: Perf. | D21: Niveau | G21: Perf. | H21: Niveau | K21: Perf. | L21: Niveau | O21: Perf. | P21: Niveau | Y21: =IFERROR(INDEX(D_IDUNIQUE,MATCH(ROW()-1,D_RANG_PROFIL,0)),"") | Z21: =IF($Y21="","",UPPER(INDEX(D_NOM,MATCH($Y21,D_ID,0)))&" "&INDEX(D_PRENOM,MATCH($Y21,D_ID,0))&" — "&INDEX(D_NIVEAU_ACTUEL,MATCH($Y21,D_ID,0)))
B22: S1 | C22: =IF($U$4=0,"",INDEX(D_CO_PERF,$U$4)) | D22: =IF($U$4=0,"",INDEX(D_CO_NIV,$U$4)) | F22: S1 | G22: =IF($U$4=0,"",INDEX(D_GA_PERF,$U$4)) | H22: =IF($U$4=0,"",INDEX(D_GA_NIV,$U$4)) | J22: S1 | K22: =IF($U$4=0,"",INDEX(D_AD_PERF,$U$4)) | L22: =IF($U$4=0,"",INDEX(D_AD_NIV,$U$4)) | N22: S1 | O22: =IF($U$4=0,"",INDEX(D_FO_PERF,$U$4)) | P22: =IF($U$4=0,"",INDEX(D_FO_NIV,$U$4)) | Y22: =IFERROR(INDEX(D_IDUNIQUE,MATCH(ROW()-1,D_RANG_PROFIL,0)),"") | Z22: =IF($Y22="","",UPPER(INDEX(D_NOM,MATCH($Y22,D_ID,0)))&" "&INDEX(D_PRENOM,MATCH($Y22,D_ID,0))&" — "&INDEX(D_NIVEAU_ACTUEL,MATCH($Y22,D_ID,0)))
B23: S2 | C23: =IF($V$4=0,"",INDEX(D_CO_PERF,$V$4)) | D23: =IF($V$4=0,"",INDEX(D_CO_NIV,$V$4)) | F23: S2 | G23: =IF($V$4=0,"",INDEX(D_GA_PERF,$V$4)) | H23: =IF($V$4=0,"",INDEX(D_GA_NIV,$V$4)) | J23: S2 | K23: =IF($V$4=0,"",INDEX(D_AD_PERF,$V$4)) | L23: =IF($V$4=0,"",INDEX(D_AD_NIV,$V$4)) | N23: S2 | O23: =IF($V$4=0,"",INDEX(D_FO_PERF,$V$4)) | P23: =IF($V$4=0,"",INDEX(D_FO_NIV,$V$4)) | Y23: =IFERROR(INDEX(D_IDUNIQUE,MATCH(ROW()-1,D_RANG_PROFIL,0)),"") | Z23: =IF($Y23="","",UPPER(INDEX(D_NOM,MATCH($Y23,D_ID,0)))&" "&INDEX(D_PRENOM,MATCH($Y23,D_ID,0))&" — "&INDEX(D_NIVEAU_ACTUEL,MATCH($Y23,D_ID,0)))
B24: Évolution | C24: =IF(OR(D22="",D23=""),"Non testé",IF(D23-D22>0,"▲ +"&(D23-D22)&" niv.",IF(D23-D22<0,"▼ "&(D23-D22)&" niv.","➜ stable"))) -> Non testé | F24: Évolution | G24: =IF(OR(H22="",H23=""),"Non testé",IF(H23-H22>0,"▲ +"&(H23-H22)&" niv.",IF(H23-H22<0,"▼ "&(H23-H22)&" niv.","➜ stable"))) -> Non testé | J24: Évolution | K24: =IF(OR(L22="",L23=""),"Non testé",IF(L23-L22>0,"▲ +"&(L23-L22)&" niv.",IF(L23-L22<0,"▼ "&(L23-L22)&" niv.","➜ stable"))) -> Non testé | N24: Évolution | O24: =IF(OR(P22="",P23=""),"Non testé",IF(P23-P22>0,"▲ +"&(P23-P22)&" niv.",IF(P23-P22<0,"▼ "&(P23-P22)&" niv.","➜ stable"))) -> Non testé | Y24: =IFERROR(INDEX(D_IDUNIQUE,MATCH(ROW()-1,D_RANG_PROFIL,0)),"") | Z24: =IF($Y24="","",UPPER(INDEX(D_NOM,MATCH($Y24,D_ID,0)))&" "&INDEX(D_PRENOM,MATCH($Y24,D_ID,0))&" — "&INDEX(D_NIVEAU_ACTUEL,MATCH($Y24,D_ID,0)))
B25: ="Moy. niveau scolaire : "&IFERROR(ROUND(AVERAGEIFS(D_CO_NIV,D_ANNEE,$H$4,D_NIVEAU,$M$6,D_CO_NIV,">0"),1),"Non réalisée") -> Moy. niveau scolaire : Non réalisée | F25: ="Moy. niveau scolaire : "&IFERROR(ROUND(AVERAGEIFS(D_GA_NIV,D_ANNEE,$H$4,D_NIVEAU,$M$6,D_GA_NIV,">0"),1),"Non réalisée") -> Moy. niveau scolaire : Non réalisée | J25: ="Moy. niveau scolaire : "&IFERROR(ROUND(AVERAGEIFS(D_AD_NIV,D_ANNEE,$H$4,D_NIVEAU,$M$6,D_AD_NIV,">0"),1),"Non réalisée") -> Moy. niveau scolaire : Non réalisée | N25: ="Moy. niveau scolaire : "&IFERROR(ROUND(AVERAGEIFS(D_FO_NIV,D_ANNEE,$H$4,D_NIVEAU,$M$6,D_FO_NIV,">0"),1),"Non réalisée") -> Moy. niveau scolaire : Non réalisée | Y25: =IFERROR(INDEX(D_IDUNIQUE,MATCH(ROW()-1,D_RANG_PROFIL,0)),"") | Z25: =IF($Y25="","",UPPER(INDEX(D_NOM,MATCH($Y25,D_ID,0)))&" "&INDEX(D_PRENOM,MATCH($Y25,D_ID,0))&" — "&INDEX(D_NIVEAU_ACTUEL,MATCH($Y25,D_ID,0)))
B26: Une version imprimable de ce profil (fiche à destination des familles) est disponible dans l'onglet FICHE PARENTS. | Y26: =IFERROR(INDEX(D_IDUNIQUE,MATCH(ROW()-1,D_RANG_PROFIL,0)),"") | Z26: =IF($Y26="","",UPPER(INDEX(D_NOM,MATCH($Y26,D_ID,0)))&" "&INDEX(D_PRENOM,MATCH($Y26,D_ID,0))&" — "&INDEX(D_NIVEAU_ACTUEL,MATCH($Y26,D_ID,0)))
Y27: =IFERROR(INDEX(D_IDUNIQUE,MATCH(ROW()-1,D_RANG_PROFIL,0)),"") | Z27: =IF($Y27="","",UPPER(INDEX(D_NOM,MATCH($Y27,D_ID,0)))&" "&INDEX(D_PRENOM,MATCH($Y27,D_ID,0))&" — "&INDEX(D_NIVEAU_ACTUEL,MATCH($Y27,D_ID,0)))
B28: PROFIL DE COMPÉTENCES (NIVEAU 1 À 5) | G28: 1 · Débutant | H28: 2 · En progrès | I28: 3 · Acquis | J28: 4 · Maîtrisé | K28: 5 · Expert | Y28: =IFERROR(INDEX(D_IDUNIQUE,MATCH(ROW()-1,D_RANG_PROFIL,0)),"") | Z28: =IF($Y28="","",UPPER(INDEX(D_NOM,MATCH($Y28,D_ID,0)))&" "&INDEX(D_PRENOM,MATCH($Y28,D_ID,0))&" — "&INDEX(D_NIVEAU_ACTUEL,MATCH($Y28,D_ID,0)))
B29: Test | C29: S1 | D29: S2 | E29: Moy. niv. | Y29: =IFERROR(INDEX(D_IDUNIQUE,MATCH(ROW()-1,D_RANG_PROFIL,0)),"") | Z29: =IF($Y29="","",UPPER(INDEX(D_NOM,MATCH($Y29,D_ID,0)))&" "&INDEX(D_PRENOM,MATCH($Y29,D_ID,0))&" — "&INDEX(D_NIVEAU_ACTUEL,MATCH($Y29,D_ID,0)))
B30: Équilibre | C30: =IF(D13="",NA(),D13) -> #N/A | D30: =IF(D14="",NA(),D14) -> #N/A | E30: =IFERROR(AVERAGEIFS(D_EQ_NIV,D_ANNEE,$H$4,D_NIVEAU,$M$6,D_EQ_NIV,">0"),NA()) -> #N/A | F30: 5.5 | V30: =IFERROR(IF($X$6=2,D30,C30),0) -> 0 | Y30: =IFERROR(INDEX(D_IDUNIQUE,MATCH(ROW()-1,D_RANG_PROFIL,0)),"") | Z30: =IF($Y30="","",UPPER(INDEX(D_NOM,MATCH($Y30,D_ID,0)))&" "&INDEX(D_PRENOM,MATCH($Y30,D_ID,0))&" — "&INDEX(D_NIVEAU_ACTUEL,MATCH($Y30,D_ID,0)))
B31: Souplesse | C31: =IF(H13="",NA(),H13) -> #N/A | D31: =IF(H14="",NA(),H14) -> #N/A | E31: =IFERROR(AVERAGEIFS(D_SO_NIV,D_ANNEE,$H$4,D_NIVEAU,$M$6,D_SO_NIV,">0"),NA()) -> #N/A | F31: 5.5 | V31: =IFERROR(IF($X$6=2,D31,C31),0) -> 0 | Y31: =IFERROR(INDEX(D_IDUNIQUE,MATCH(ROW()-1,D_RANG_PROFIL,0)),"") | Z31: =IF($Y31="","",UPPER(INDEX(D_NOM,MATCH($Y31,D_ID,0)))&" "&INDEX(D_PRENOM,MATCH($Y31,D_ID,0))&" — "&INDEX(D_NIVEAU_ACTUEL,MATCH($Y31,D_ID,0)))
B32: Vitesse | C32: =IF(L13="",NA(),L13) -> #N/A | D32: =IF(L14="",NA(),L14) -> #N/A | E32: =IFERROR(AVERAGEIFS(D_VI_NIV,D_ANNEE,$H$4,D_NIVEAU,$M$6,D_VI_NIV,">0"),NA()) -> #N/A | F32: 5.5 | V32: =IFERROR(IF($X$6=2,D32,C32),0) -> 0 | Y32: =IFERROR(INDEX(D_IDUNIQUE,MATCH(ROW()-1,D_RANG_PROFIL,0)),"") | Z32: =IF($Y32="","",UPPER(INDEX(D_NOM,MATCH($Y32,D_ID,0)))&" "&INDEX(D_PRENOM,MATCH($Y32,D_ID,0))&" — "&INDEX(D_NIVEAU_ACTUEL,MATCH($Y32,D_ID,0)))
B33: Endurance | C33: =IF(P13="",NA(),P13) -> #N/A | D33: =IF(P14="",NA(),P14) -> #N/A | E33: =IFERROR(AVERAGEIFS(D_EN_NIV,D_ANNEE,$H$4,D_NIVEAU,$M$6,D_EN_NIV,">0"),NA()) -> #N/A | F33: 5.5 | V33: =IFERROR(IF($X$6=2,D33,C33),0) -> 0 | Y33: =IFERROR(INDEX(D_IDUNIQUE,MATCH(ROW()-1,D_RANG_PROFIL,0)),"") | Z33: =IF($Y33="","",UPPER(INDEX(D_NOM,MATCH($Y33,D_ID,0)))&" "&INDEX(D_PRENOM,MATCH($Y33,D_ID,0))&" — "&INDEX(D_NIVEAU_ACTUEL,MATCH($Y33,D_ID,0)))
B34: Coordination | C34: =IF(D22="",NA(),D22) -> #N/A | D34: =IF(D23="",NA(),D23) -> #N/A | E34: =IFERROR(AVERAGEIFS(D_CO_NIV,D_ANNEE,$H$4,D_NIVEAU,$M$6,D_CO_NIV,">0"),NA()) -> #N/A | F34: 5.5 | V34: =IFERROR(IF($X$6=2,D34,C34),0) -> 0 | Y34: =IFERROR(INDEX(D_IDUNIQUE,MATCH(ROW()-1,D_RANG_PROFIL,0)),"") | Z34: =IF($Y34="","",UPPER(INDEX(D_NOM,MATCH($Y34,D_ID,0)))&" "&INDEX(D_PRENOM,MATCH($Y34,D_ID,0))&" — "&INDEX(D_NIVEAU_ACTUEL,MATCH($Y34,D_ID,0)))
B35: Gainage | C35: =IF(H22="",NA(),H22) -> #N/A | D35: =IF(H23="",NA(),H23) -> #N/A | E35: =IFERROR(AVERAGEIFS(D_GA_NIV,D_ANNEE,$H$4,D_NIVEAU,$M$6,D_GA_NIV,">0"),NA()) -> #N/A | F35: 5.5 | V35: =IFERROR(IF($X$6=2,D35,C35),0) -> 0 | Y35: =IFERROR(INDEX(D_IDUNIQUE,MATCH(ROW()-1,D_RANG_PROFIL,0)),"") | Z35: =IF($Y35="","",UPPER(INDEX(D_NOM,MATCH($Y35,D_ID,0)))&" "&INDEX(D_PRENOM,MATCH($Y35,D_ID,0))&" — "&INDEX(D_NIVEAU_ACTUEL,MATCH($Y35,D_ID,0)))
B36: Adresse | C36: =IF(L22="",NA(),L22) -> #N/A | D36: =IF(L23="",NA(),L23) -> #N/A | E36: =IFERROR(AVERAGEIFS(D_AD_NIV,D_ANNEE,$H$4,D_NIVEAU,$M$6,D_AD_NIV,">0"),NA()) -> #N/A | F36: 5.5 | V36: =IFERROR(IF($X$6=2,D36,C36),0) -> 0 | Y36: =IFERROR(INDEX(D_IDUNIQUE,MATCH(ROW()-1,D_RANG_PROFIL,0)),"") | Z36: =IF($Y36="","",UPPER(INDEX(D_NOM,MATCH($Y36,D_ID,0)))&" "&INDEX(D_PRENOM,MATCH($Y36,D_ID,0))&" — "&INDEX(D_NIVEAU_ACTUEL,MATCH($Y36,D_ID,0)))
B37: Force des jambes | C37: =IF(P22="",NA(),P22) -> #N/A | D37: =IF(P23="",NA(),P23) -> #N/A | E37: =IFERROR(AVERAGEIFS(D_FO_NIV,D_ANNEE,$H$4,D_NIVEAU,$M$6,D_FO_NIV,">0"),NA()) -> #N/A | F37: 5.5 | V37: =IFERROR(IF($X$6=2,D37,C37),0) -> 0 | Y37: =IFERROR(INDEX(D_IDUNIQUE,MATCH(ROW()-1,D_RANG_PROFIL,0)),"") | Z37: =IF($Y37="","",UPPER(INDEX(D_NOM,MATCH($Y37,D_ID,0)))&" "&INDEX(D_PRENOM,MATCH($Y37,D_ID,0))&" — "&INDEX(D_NIVEAU_ACTUEL,MATCH($Y37,D_ID,0)))
Y38: =IFERROR(INDEX(D_IDUNIQUE,MATCH(ROW()-1,D_RANG_PROFIL,0)),"") | Z38: =IF($Y38="","",UPPER(INDEX(D_NOM,MATCH($Y38,D_ID,0)))&" "&INDEX(D_PRENOM,MATCH($Y38,D_ID,0))&" — "&INDEX(D_NIVEAU_ACTUEL,MATCH($Y38,D_ID,0)))
Y39: =IFERROR(INDEX(D_IDUNIQUE,MATCH(ROW()-1,D_RANG_PROFIL,0)),"") | Z39: =IF($Y39="","",UPPER(INDEX(D_NOM,MATCH($Y39,D_ID,0)))&" "&INDEX(D_PRENOM,MATCH($Y39,D_ID,0))&" — "&INDEX(D_NIVEAU_ACTUEL,MATCH($Y39,D_ID,0)))
Y40: =IFERROR(INDEX(D_IDUNIQUE,MATCH(ROW()-1,D_RANG_PROFIL,0)),"") | Z40: =IF($Y40="","",UPPER(INDEX(D_NOM,MATCH($Y40,D_ID,0)))&" "&INDEX(D_PRENOM,MATCH($Y40,D_ID,0))&" — "&INDEX(D_NIVEAU_ACTUEL,MATCH($Y40,D_ID,0)))
...

Sheet FICHE PARENTS
A1: FICHE DE SUIVI INDIVIDUEL — TESTE ET AMÉLIORE TA FORME
A2: =CONCATENATE("Établissement : ",IF(T(ETABLISSEMENT_NOM)="","(non renseigné)",ETABLISSEMENT_NOM)," — Année scolaire : ",'PROFIL ELEVE'!H4) -> Établissement : (non renseigné) — Année scolaire : 2026-2027 | L2: =HYPERLINK("#ACCUEIL!A1","← ACCUEIL") -> ← ACCUEIL
A4: =IF('PROFIL ELEVE'!$W$4=0,"Aucun élève sélectionné",CONCATENATE('PROFIL ELEVE'!C6," ",'PROFIL ELEVE'!H6)) -> Aucun élève sélectionné
A5: =CONCATENATE("Niveau scolaire : ",'PROFIL ELEVE'!M6) -> Niveau scolaire : — | E5: =CONCATENATE("Sessions : ",IF('PROFIL ELEVE'!U4<>0,"S1 ✓","S1 ✗")," / ",IF('PROFIL ELEVE'!V4<>0,"S2 ✓","S2 ✗")) -> Sessions : S1 ✗ / S2 ✗
A7: RÉSULTATS DES TESTS DE FORME
A8: Test | C8: Unité | D8: Perf. S1 | E8: Niveau S1 | F8: Perf. S2 | G8: Niveau S2 | H8: Évolution | J8: Moy. niveau
A9: Équilibre | C9: sec | D9: ='PROFIL ELEVE'!C13 | E9: ='PROFIL ELEVE'!D13 | F9: ='PROFIL ELEVE'!C14 | G9: ='PROFIL ELEVE'!D14 | H9: ='PROFIL ELEVE'!C15 -> Non testé | J9: =IFERROR(ROUND(AVERAGEIFS(D_EQ_NIV,D_ANNEE,'PROFIL ELEVE'!$H$4,D_NIVEAU,'PROFIL ELEVE'!$M$6,D_EQ_NIV,">0"),1),"Non réalisée") -> Non réalisée
A10: Souplesse | C10: zone | D10: ='PROFIL ELEVE'!G13 | E10: ='PROFIL ELEVE'!H13 | F10: ='PROFIL ELEVE'!G14 | G10: ='PROFIL ELEVE'!H14 | H10: ='PROFIL ELEVE'!G15 -> Non testé | J10: =IFERROR(ROUND(AVERAGEIFS(D_SO_NIV,D_ANNEE,'PROFIL ELEVE'!$H$4,D_NIVEAU,'PROFIL ELEVE'!$M$6,D_SO_NIV,">0"),1),"Non réalisée") -> Non réalisée
A11: Vitesse | C11: m | D11: ='PROFIL ELEVE'!K13 | E11: ='PROFIL ELEVE'!L13 | F11: ='PROFIL ELEVE'!K14 | G11: ='PROFIL ELEVE'!L14 | H11: ='PROFIL ELEVE'!K15 -> Non testé | J11: =IFERROR(ROUND(AVERAGEIFS(D_VI_NIV,D_ANNEE,'PROFIL ELEVE'!$H$4,D_NIVEAU,'PROFIL ELEVE'!$M$6,D_VI_NIV,">0"),1),"Non réalisée") -> Non réalisée
A12: Endurance | C12: long. | D12: ='PROFIL ELEVE'!O13 | E12: ='PROFIL ELEVE'!P13 | F12: ='PROFIL ELEVE'!O14 | G12: ='PROFIL ELEVE'!P14 | H12: ='PROFIL ELEVE'!O15 -> Non testé | J12: =IFERROR(ROUND(AVERAGEIFS(D_EN_NIV,D_ANNEE,'PROFIL ELEVE'!$H$4,D_NIVEAU,'PROFIL ELEVE'!$M$6,D_EN_NIV,">0"),1),"Non réalisée") -> Non réalisée
